BEGIN:VCALENDAR
VERSION:2.0
PRODID:-//jEvents 2.0 for Joomla//EN
CALSCALE:GREGORIAN
METHOD:PUBLISH
BEGIN:VTIMEZONE
TZID:America/New_York
BEGIN:STANDARD
DTSTART:20251102T010000
RDATE:20260308T030000
TZOFFSETFROM:-0400
TZOFFSETTO:-0500
TZNAME:America/New_York EST
END:STANDARD
BEGIN:STANDARD
DTSTART:20261101T010000
RDATE:20270314T030000
TZOFFSETFROM:-0400
TZOFFSETTO:-0500
TZNAME:America/New_York EST
END:STANDARD
BEGIN:STANDARD
DTSTART:20271107T010000
RDATE:20280312T030000
TZOFFSETFROM:-0400
TZOFFSETTO:-0500
TZNAME:America/New_York EST
END:STANDARD
BEGIN:STANDARD
DTSTART:20281105T010000
RDATE:20290311T030000
TZOFFSETFROM:-0400
TZOFFSETTO:-0500
TZNAME:America/New_York EST
END:STANDARD
BEGIN:DAYLIGHT
DTSTART:20250422T000000
RDATE:20251102T010000
TZOFFSETFROM:-0500
TZOFFSETTO:-0400
TZNAME:America/New_York EDT
END:DAYLIGHT
BEGIN:DAYLIGHT
DTSTART:20260308T030000
RDATE:20261101T010000
TZOFFSETFROM:-0500
TZOFFSETTO:-0400
TZNAME:America/New_York EDT
END:DAYLIGHT
BEGIN:DAYLIGHT
DTSTART:20270314T030000
RDATE:20271107T010000
TZOFFSETFROM:-0500
TZOFFSETTO:-0400
TZNAME:America/New_York EDT
END:DAYLIGHT
BEGIN:DAYLIGHT
DTSTART:20280312T030000
RDATE:20281105T010000
TZOFFSETFROM:-0500
TZOFFSETTO:-0400
TZNAME:America/New_York EDT
END:DAYLIGHT
END:VTIMEZONE
BEGIN:VEVENT
UID:49c9676d29097f136769128712fbe731
CATEGORIES:English Riding
CREATED:20211011T140549
SUMMARY:Kentucky Three-Day Event – CCI5*-L, Lexington, KY 
LOCATION:Kentucky Horse Park
DESCRIPTION:The Defender Kentucky Three-Day Event presented by MARS Equestrian is an ev
 enting competition held at the Kentucky Horse Park in Lexington, Kentucky o
 n the last weekend of April. Horse and rider duos compete at the highest le
 vel in the sport under the CCI5*-L designation. Prize money of $400,000 is 
 distributed among the top placings.\n
\n
Although the event’s name continue
 s to reflect its roots as a three-day competition, the Kentucky Three-Day E
 vent currently takes place over four days (Thursday through Sunday). Due to
  a large number of entries, both Thursday and Friday are devoted to Dressag
 e. Cross-Country is on Saturday, and show jumping is on Sunday. Join us for
  this exciting weekend of world-class equestrian competition.
X-ALT-DESC;FMTTYPE=text/html:The Defender Kentucky Three-Day Event presented by MARS Equestrian is an ev
 enting competition held at the Kentucky Horse Park in Lexington, Kentucky o
 n the last weekend of April. Horse and rider duos compete at the highest le
 vel in the sport under the CCI5*-L designation. Prize money of $400,000 is 
 distributed among the top placings.<br /><br />Although the event’s name co
 ntinues to reflect its roots as a three-day competition, the Kentucky Three
 -Day Event currently takes place over four days (Thursday through Sunday). 
 Due to a large number of entries, both Thursday and Friday are devoted to D
 ressage. Cross-Country is on Saturday, and show jumping is on Sunday. Join 
 us for this exciting weekend of world-class equestrian competition.
DTSTAMP:20260424T134027
DTSTART;TZID=America/New_York;VALUE=DATE:20260423
DTEND;TZID=America/New_York;VALUE=DATE:20260427
SEQUENCE:0
TRANSP:OPAQUE
END:VEVENT
END:VCALENDAR