BEGIN:VCALENDAR
VERSION:2.0
PRODID:-//jEvents 2.0 for Joomla//EN
CALSCALE:GREGORIAN
METHOD:PUBLISH
BEGIN:VTIMEZONE
TZID:America/New_York
BEGIN:STANDARD
DTSTART:20231105T010000
RDATE:20240310T030000
TZOFFSETFROM:-0400
TZOFFSETTO:-0500
TZNAME:America/New_York EST
END:STANDARD
BEGIN:STANDARD
DTSTART:20241103T010000
RDATE:20250309T030000
TZOFFSETFROM:-0400
TZOFFSETTO:-0500
TZNAME:America/New_York EST
END:STANDARD
BEGIN:STANDARD
DTSTART:20251102T010000
RDATE:20260308T030000
TZOFFSETFROM:-0400
TZOFFSETTO:-0500
TZNAME:America/New_York EST
END:STANDARD
BEGIN:STANDARD
DTSTART:20261101T010000
RDATE:20270314T030000
TZOFFSETFROM:-0400
TZOFFSETTO:-0500
TZNAME:America/New_York EST
END:STANDARD
BEGIN:STANDARD
DTSTART:20271107T010000
RDATE:20280312T030000
TZOFFSETFROM:-0400
TZOFFSETTO:-0500
TZNAME:America/New_York EST
END:STANDARD
BEGIN:STANDARD
DTSTART:20281105T010000
RDATE:20290311T030000
TZOFFSETFROM:-0400
TZOFFSETTO:-0500
TZNAME:America/New_York EST
END:STANDARD
BEGIN:DAYLIGHT
DTSTART:20230717T000000
RDATE:20231105T010000
TZOFFSETFROM:-0500
TZOFFSETTO:-0400
TZNAME:America/New_York EDT
END:DAYLIGHT
BEGIN:DAYLIGHT
DTSTART:20240310T030000
RDATE:20241103T010000
TZOFFSETFROM:-0500
TZOFFSETTO:-0400
TZNAME:America/New_York EDT
END:DAYLIGHT
BEGIN:DAYLIGHT
DTSTART:20250309T030000
RDATE:20251102T010000
TZOFFSETFROM:-0500
TZOFFSETTO:-0400
TZNAME:America/New_York EDT
END:DAYLIGHT
BEGIN:DAYLIGHT
DTSTART:20260308T030000
RDATE:20261101T010000
TZOFFSETFROM:-0500
TZOFFSETTO:-0400
TZNAME:America/New_York EDT
END:DAYLIGHT
BEGIN:DAYLIGHT
DTSTART:20270314T030000
RDATE:20271107T010000
TZOFFSETFROM:-0500
TZOFFSETTO:-0400
TZNAME:America/New_York EDT
END:DAYLIGHT
BEGIN:DAYLIGHT
DTSTART:20280312T030000
RDATE:20281105T010000
TZOFFSETFROM:-0500
TZOFFSETTO:-0400
TZNAME:America/New_York EDT
END:DAYLIGHT
END:VTIMEZONE
BEGIN:VEVENT
UID:30cd9d7589ea7c0ac9134b9621d9628f
CATEGORIES:English Riding
CREATED:20240126T102742
SUMMARY:Summer in the Rockies 6 - National | A Hunter | Jumper 5 - Team Championship 
LOCATION:Colorado Horse Park
DESCRIPTION:Naitonal | A Hunter | Jumper 5 - 1.0 - 1.05 USHJA Zone 7/8 Jumper Team Cham
 pionship\n
LEG Shows &amp; Events\n
Join us at the Colorado Horse Park in 2
 024 for our Spring, Summer, and Autumn series. Experience everything from O
 pportunity to International Hunter Derbies, 1.0/1.05 Zone Championships to 
 National Standard Grand Prixs. There's something for everyone in our tradem
 ark welcoming and friendly environment. See you in the Rockies!\n


X-ALT-DESC;FMTTYPE=text/html:<p>Naitonal | A Hunter | Jumper 5 - 1.0 - 1.05 USHJA Zone 7/8 Jumper Team C
 hampionship</p><p>LEG Shows & Events</p><p>Join us at the Colorado Horse Pa
 rk in 2024 for our Spring, Summer, and Autumn series. Experience everything
  from Opportunity to International Hunter Derbies, 1.0/1.05 Zone Championsh
 ips to National Standard Grand Prixs. There's something for everyone in our
  trademark welcoming and friendly environment. See you in the Rockies!</p>
DTSTAMP:20260424T204818
DTSTART;TZID=America/New_York;VALUE=DATE:20240717
DTEND;TZID=America/New_York;VALUE=DATE:20240722
SEQUENCE:0
TRANSP:OPAQUE
END:VEVENT
END:VCALENDAR