BEGIN:VCALENDAR
VERSION:2.0
PRODID:-//jEvents 2.0 for Joomla//EN
CALSCALE:GREGORIAN
METHOD:PUBLISH
BEGIN:VTIMEZONE
TZID:America/New_York
BEGIN:STANDARD
DTSTART:20231105T010000
RDATE:20240310T030000
TZOFFSETFROM:-0400
TZOFFSETTO:-0500
TZNAME:America/New_York EST
END:STANDARD
BEGIN:STANDARD
DTSTART:20241103T010000
RDATE:20250309T030000
TZOFFSETFROM:-0400
TZOFFSETTO:-0500
TZNAME:America/New_York EST
END:STANDARD
BEGIN:STANDARD
DTSTART:20251102T010000
RDATE:20260308T030000
TZOFFSETFROM:-0400
TZOFFSETTO:-0500
TZNAME:America/New_York EST
END:STANDARD
BEGIN:STANDARD
DTSTART:20261101T010000
RDATE:20270314T030000
TZOFFSETFROM:-0400
TZOFFSETTO:-0500
TZNAME:America/New_York EST
END:STANDARD
BEGIN:STANDARD
DTSTART:20271107T010000
RDATE:20280312T030000
TZOFFSETFROM:-0400
TZOFFSETTO:-0500
TZNAME:America/New_York EST
END:STANDARD
BEGIN:STANDARD
DTSTART:20281105T010000
RDATE:20290311T030000
TZOFFSETFROM:-0400
TZOFFSETTO:-0500
TZNAME:America/New_York EST
END:STANDARD
BEGIN:DAYLIGHT
DTSTART:20230314T000000
RDATE:20231105T010000
TZOFFSETFROM:-0500
TZOFFSETTO:-0400
TZNAME:America/New_York EDT
END:DAYLIGHT
BEGIN:DAYLIGHT
DTSTART:20240310T030000
RDATE:20241103T010000
TZOFFSETFROM:-0500
TZOFFSETTO:-0400
TZNAME:America/New_York EDT
END:DAYLIGHT
BEGIN:DAYLIGHT
DTSTART:20250309T030000
RDATE:20251102T010000
TZOFFSETFROM:-0500
TZOFFSETTO:-0400
TZNAME:America/New_York EDT
END:DAYLIGHT
BEGIN:DAYLIGHT
DTSTART:20260308T030000
RDATE:20261101T010000
TZOFFSETFROM:-0500
TZOFFSETTO:-0400
TZNAME:America/New_York EDT
END:DAYLIGHT
BEGIN:DAYLIGHT
DTSTART:20270314T030000
RDATE:20271107T010000
TZOFFSETFROM:-0500
TZOFFSETTO:-0400
TZNAME:America/New_York EDT
END:DAYLIGHT
BEGIN:DAYLIGHT
DTSTART:20280312T030000
RDATE:20281105T010000
TZOFFSETFROM:-0500
TZOFFSETTO:-0400
TZNAME:America/New_York EDT
END:DAYLIGHT
END:VTIMEZONE
BEGIN:VEVENT
UID:fe0a2f87b213e9a054957008dbbd61f6
CATEGORIES:Recreation & Lifestyle
CREATED:20240126T104124
SUMMARY:Spruce Meadows - Spring Welcome - Show Jumping
LOCATION:Spruce Meadows
DESCRIPTION:<p>The fourth, and final, show jumping event of the Winter Series, the Spri
 ng Welcome tournament takes to the indoor comfort of the Spruce Meadows Equ
 i-Plex.</p><p>Welcome to the Winter Series at Spruce Meadows, one of the mo
 st exciting indoor equestrian events of the year.  Held in the Equi-Plex, t
 he Winter Series offers spectators a unique opportunity to exciting equestr
 ian action in a comfortable indoor setting. With free admission and free pa
 rking in Lot 7, Spruce Meadows is the perfect destination for a fun and aff
 ordable family outing. And don't miss the food concession that is open all 
 weekend. Whether you're an equestrian enthusiast or just looking for a fun 
 day out, the Winter Series at Spruce Meadows is an event not to be missed.<
 /p><p>No tickets are required. This event is complimentary. </p>
DTSTAMP:20260424T221733
DTSTART;TZID=America/New_York;VALUE=DATE:20240314
DTEND;TZID=America/New_York;VALUE=DATE:20240318
SEQUENCE:0
TRANSP:OPAQUE
END:VEVENT
END:VCALENDAR