BEGIN:VCALENDAR
VERSION:2.0
PRODID:-//jEvents 2.0 for Joomla//EN
CALSCALE:GREGORIAN
METHOD:PUBLISH
BEGIN:VTIMEZONE
TZID:America/New_York
BEGIN:STANDARD
DTSTART:20231105T010000
RDATE:20240310T030000
TZOFFSETFROM:-0400
TZOFFSETTO:-0500
TZNAME:America/New_York EST
END:STANDARD
BEGIN:STANDARD
DTSTART:20241103T010000
RDATE:20250309T030000
TZOFFSETFROM:-0400
TZOFFSETTO:-0500
TZNAME:America/New_York EST
END:STANDARD
BEGIN:STANDARD
DTSTART:20251102T010000
RDATE:20260308T030000
TZOFFSETFROM:-0400
TZOFFSETTO:-0500
TZNAME:America/New_York EST
END:STANDARD
BEGIN:STANDARD
DTSTART:20261101T010000
RDATE:20270314T030000
TZOFFSETFROM:-0400
TZOFFSETTO:-0500
TZNAME:America/New_York EST
END:STANDARD
BEGIN:STANDARD
DTSTART:20271107T010000
RDATE:20280312T030000
TZOFFSETFROM:-0400
TZOFFSETTO:-0500
TZNAME:America/New_York EST
END:STANDARD
BEGIN:STANDARD
DTSTART:20281105T010000
RDATE:20290311T030000
TZOFFSETFROM:-0400
TZOFFSETTO:-0500
TZNAME:America/New_York EST
END:STANDARD
BEGIN:DAYLIGHT
DTSTART:20230411T000000
RDATE:20231105T010000
TZOFFSETFROM:-0500
TZOFFSETTO:-0400
TZNAME:America/New_York EDT
END:DAYLIGHT
BEGIN:DAYLIGHT
DTSTART:20240310T030000
RDATE:20241103T010000
TZOFFSETFROM:-0500
TZOFFSETTO:-0400
TZNAME:America/New_York EDT
END:DAYLIGHT
BEGIN:DAYLIGHT
DTSTART:20250309T030000
RDATE:20251102T010000
TZOFFSETFROM:-0500
TZOFFSETTO:-0400
TZNAME:America/New_York EDT
END:DAYLIGHT
BEGIN:DAYLIGHT
DTSTART:20260308T030000
RDATE:20261101T010000
TZOFFSETFROM:-0500
TZOFFSETTO:-0400
TZNAME:America/New_York EDT
END:DAYLIGHT
BEGIN:DAYLIGHT
DTSTART:20270314T030000
RDATE:20271107T010000
TZOFFSETFROM:-0500
TZOFFSETTO:-0400
TZNAME:America/New_York EDT
END:DAYLIGHT
BEGIN:DAYLIGHT
DTSTART:20280312T030000
RDATE:20281105T010000
TZOFFSETFROM:-0500
TZOFFSETTO:-0400
TZNAME:America/New_York EDT
END:DAYLIGHT
END:VTIMEZONE
BEGIN:VEVENT
UID:5c5f46c3178fe54f91c249722e422f70
CATEGORIES:Steeplechase
CREATED:20240213T114535
SUMMARY:Randox Grand National - Steeplechase at Aintree Racecourse, UK
LOCATION:Aintree Racecourse
DESCRIPTION:The Randox Grand National Festival traditionally takes place at Aintree Rac
 ecourse, which is just a few miles outside of Liverpool in North West Engla
 nd. Aintree Racecourse has hosted the Grand National Festival since 1839.\n
 
It’s more than just the greatest steeplechase.\n
The Randox Grand National
 . It’s more than just the world’s greatest steeplechase. This is horse raci
 ng with a difference. A national institution with a global audience. An eve
 nt of grand proportions and nothing is done by halves. It’s unmissable spor
 t and entertainment guaranteed to leave you with unforgettable memories. It
 ’s not one to miss. \n
X-ALT-DESC;FMTTYPE=text/html:<p>The Randox Grand National Festival traditionally takes place at Aintree 
 Racecourse, which is just a few miles outside of Liverpool in North West En
 gland. Aintree Racecourse has hosted the Grand National Festival since 1839
 .</p><p>It’s more than just the greatest steeplechase.</p><p>The Randox Gra
 nd National. It’s more than just the world’s greatest steeplechase. This is
  horse racing with a difference. A national institution with a global audie
 nce. An event of grand proportions and nothing is done by halves. It’s unmi
 ssable sport and entertainment guaranteed to leave you with unforgettable m
 emories. It’s not one to miss. </p>
DTSTAMP:20260424T213114
DTSTART;TZID=America/New_York;VALUE=DATE:20240411
DTEND;TZID=America/New_York;VALUE=DATE:20240414
SEQUENCE:0
TRANSP:OPAQUE
END:VEVENT
END:VCALENDAR