BEGIN:VCALENDAR
VERSION:2.0
PRODID:-//jEvents 2.0 for Joomla//EN
CALSCALE:GREGORIAN
METHOD:PUBLISH
BEGIN:VTIMEZONE
TZID:America/New_York
BEGIN:STANDARD
DTSTART:20231117T000000
RDATE:20240310T030000
TZOFFSETFROM:-0400
TZOFFSETTO:-0500
TZNAME:America/New_York EST
END:STANDARD
BEGIN:STANDARD
DTSTART:20241103T010000
RDATE:20250309T030000
TZOFFSETFROM:-0400
TZOFFSETTO:-0500
TZNAME:America/New_York EST
END:STANDARD
BEGIN:STANDARD
DTSTART:20251102T010000
RDATE:20260308T030000
TZOFFSETFROM:-0400
TZOFFSETTO:-0500
TZNAME:America/New_York EST
END:STANDARD
BEGIN:STANDARD
DTSTART:20261101T010000
RDATE:20270314T030000
TZOFFSETFROM:-0400
TZOFFSETTO:-0500
TZNAME:America/New_York EST
END:STANDARD
BEGIN:STANDARD
DTSTART:20271107T010000
RDATE:20280312T030000
TZOFFSETFROM:-0400
TZOFFSETTO:-0500
TZNAME:America/New_York EST
END:STANDARD
BEGIN:STANDARD
DTSTART:20281105T010000
RDATE:20290311T030000
TZOFFSETFROM:-0400
TZOFFSETTO:-0500
TZNAME:America/New_York EST
END:STANDARD
BEGIN:DAYLIGHT
DTSTART:20240310T030000
RDATE:20241103T010000
TZOFFSETFROM:-0500
TZOFFSETTO:-0400
TZNAME:America/New_York EDT
END:DAYLIGHT
BEGIN:DAYLIGHT
DTSTART:20250309T030000
RDATE:20251102T010000
TZOFFSETFROM:-0500
TZOFFSETTO:-0400
TZNAME:America/New_York EDT
END:DAYLIGHT
BEGIN:DAYLIGHT
DTSTART:20260308T030000
RDATE:20261101T010000
TZOFFSETFROM:-0500
TZOFFSETTO:-0400
TZNAME:America/New_York EDT
END:DAYLIGHT
BEGIN:DAYLIGHT
DTSTART:20270314T030000
RDATE:20271107T010000
TZOFFSETFROM:-0500
TZOFFSETTO:-0400
TZNAME:America/New_York EDT
END:DAYLIGHT
BEGIN:DAYLIGHT
DTSTART:20280312T030000
RDATE:20281105T010000
TZOFFSETFROM:-0500
TZOFFSETTO:-0400
TZNAME:America/New_York EDT
END:DAYLIGHT
END:VTIMEZONE
BEGIN:VEVENT
UID:2d40b381766bb083d6e69b03095ce59e
CATEGORIES:Horse Racing
CREATED:20240213T131357
SUMMARY:Colonial Cup Races
LOCATION:SPRINGDALE RACE COURSE
DESCRIPTION:The 49th running of the Marion duPont Scott Colonial Cup Races will take pl
 ace Sunday, November 17, 2024.
\n

Tickets will go on sale in August 2024 –
  more details to come.
\n

Email info@colonialcup.org for general questions
 , how to be involved or to be added to our contact list.
\n

The Carolina C
 up Racing Association is a not-for-profit 501(c)(4) organization first orga
 nized in 1963 by Mrs. Marion duPont Scott. The profits, if any, are donated
  to the Health Resource District of Kershaw County to provide additional he
 alth services for the uninsured and underinsured citizens of Kershaw County
 .\n
X-ALT-DESC;FMTTYPE=text/html:<p>The 49th running of the Marion duPont Scott Colonial Cup Races will take
  place Sunday, November 17, 2024.</p><p>Tickets will go on sale in August 2
 024 – more details to come.</p><p>Email info@colonialcup.org for general qu
 estions, how to be involved or to be added to our contact list.</p><p>The C
 arolina Cup Racing Association is a not-for-profit 501(c)(4) organization f
 irst organized in 1963 by Mrs. Marion duPont Scott. The profits, if any, ar
 e donated to the Health Resource District of Kershaw County to provide addi
 tional health services for the uninsured and underinsured citizens of Kersh
 aw County.</p>
DTSTAMP:20260424T203716
DTSTART;TZID=America/New_York;VALUE=DATE:20241117
DTEND;TZID=America/New_York;VALUE=DATE:20241118
SEQUENCE:0
TRANSP:OPAQUE
END:VEVENT
END:VCALENDAR