BEGIN:VCALENDAR
VERSION:2.0
PRODID:-//jEvents 2.0 for Joomla//EN
CALSCALE:GREGORIAN
METHOD:PUBLISH
BEGIN:VTIMEZONE
TZID:America/New_York
BEGIN:STANDARD
DTSTART:20231105T010000
RDATE:20240310T030000
TZOFFSETFROM:-0400
TZOFFSETTO:-0500
TZNAME:America/New_York EST
END:STANDARD
BEGIN:STANDARD
DTSTART:20241103T010000
RDATE:20250309T030000
TZOFFSETFROM:-0400
TZOFFSETTO:-0500
TZNAME:America/New_York EST
END:STANDARD
BEGIN:STANDARD
DTSTART:20251102T010000
RDATE:20260308T030000
TZOFFSETFROM:-0400
TZOFFSETTO:-0500
TZNAME:America/New_York EST
END:STANDARD
BEGIN:STANDARD
DTSTART:20261101T010000
RDATE:20270314T030000
TZOFFSETFROM:-0400
TZOFFSETTO:-0500
TZNAME:America/New_York EST
END:STANDARD
BEGIN:STANDARD
DTSTART:20271107T010000
RDATE:20280312T030000
TZOFFSETFROM:-0400
TZOFFSETTO:-0500
TZNAME:America/New_York EST
END:STANDARD
BEGIN:STANDARD
DTSTART:20281105T010000
RDATE:20290311T030000
TZOFFSETFROM:-0400
TZOFFSETTO:-0500
TZNAME:America/New_York EST
END:STANDARD
BEGIN:DAYLIGHT
DTSTART:20230421T000000
RDATE:20231105T010000
TZOFFSETFROM:-0500
TZOFFSETTO:-0400
TZNAME:America/New_York EDT
END:DAYLIGHT
BEGIN:DAYLIGHT
DTSTART:20240310T030000
RDATE:20241103T010000
TZOFFSETFROM:-0500
TZOFFSETTO:-0400
TZNAME:America/New_York EDT
END:DAYLIGHT
BEGIN:DAYLIGHT
DTSTART:20250309T030000
RDATE:20251102T010000
TZOFFSETFROM:-0500
TZOFFSETTO:-0400
TZNAME:America/New_York EDT
END:DAYLIGHT
BEGIN:DAYLIGHT
DTSTART:20260308T030000
RDATE:20261101T010000
TZOFFSETFROM:-0500
TZOFFSETTO:-0400
TZNAME:America/New_York EDT
END:DAYLIGHT
BEGIN:DAYLIGHT
DTSTART:20270314T030000
RDATE:20271107T010000
TZOFFSETFROM:-0500
TZOFFSETTO:-0400
TZNAME:America/New_York EDT
END:DAYLIGHT
BEGIN:DAYLIGHT
DTSTART:20280312T030000
RDATE:20281105T010000
TZOFFSETFROM:-0500
TZOFFSETTO:-0400
TZNAME:America/New_York EDT
END:DAYLIGHT
END:VTIMEZONE
BEGIN:VEVENT
UID:86fbbe093c033a012eb44e177ed976fd
CATEGORIES:Health & Education
CREATED:20240221T104705
SUMMARY:Cal Middleton Horsemanship Clinic - April 21
LOCATION:Chichester\, NH
DESCRIPTION:Contact: Heather 603 568-7527\n
There are many out there today offering a v
 ariety of services, but Cal may stand alone as one who has a true understan
 ding of the good and bad of the show horse arena reaching high levels of su
 ccess himself, has real world experience on farms and ranches, and understa
 nds the depths of true horsemanship being able to teach it to others while 
 always keeping the horses’ best interest in mind. 
\n

Cal published his fi
 rst book in 2016, started the Horses and Life podcast in 2019 and has contr
 ibuting author to many equine magazines for over a decade. 
\n

Cal has a p
 assion for children and has worked full time as a behavioral implementor an
 d consultant inside schools and homes. He also worked 8 years as a high sch
 ool wrestling coach, among many other jobs in the real world. 
\n

Cal is a
  past president of the Heart of America Brangus Association and a former ju
 dge for the National Reining Horse Association. He is a lifetime member of 
 the AQHA, NRHA, ASHA, ApHC, APHA, IBHA, ACHA, and many others. 
\n
The HORS
 EMANSHIP class is a continuation of the foundation class. In the Horsemansh
 ip class, we start mounted and only do a small amount of groundwork if deem
 ed necessary for safety. The class consists of gaining better control of ou
 r horses feet through feel, timing, and balance. We work on building confid
 ence with our horses, and helping the riders and horses react favorably to 
 stressful and exciting situations. We work on straightness, different forms
  of transitions, and ways of moving the hindquarters and the front end. Cal
  will take into consideration, the riders in each clinic and adjust accordi
 ngly. Those who are only able to attend the Horsemanship class are encourag
 ed to come and audit the Foundation class at no extra cost, in order to hav
 e a deeper understanding of their horses. \n
X-ALT-DESC;FMTTYPE=text/html:<p>Contact: Heather 603 568-7527</p><p>There are many out there today offer
 ing a variety of services, but Cal may stand alone as one who has a true un
 derstanding of the good and bad of the show horse arena reaching high level
 s of success himself, has real world experience on farms and ranches, and u
 nderstands the depths of true horsemanship being able to teach it to others
  while always keeping the horses’ best interest in mind. </p><p>Cal publish
 ed his first book in 2016, started the Horses and Life podcast in 2019 and 
 has contributing author to many equine magazines for over a decade. </p><p>
 Cal has a passion for children and has worked full time as a behavioral imp
 lementor and consultant inside schools and homes. He also worked 8 years as
  a high school wrestling coach, among many other jobs in the real world. </
 p><p>Cal is a past president of the Heart of America Brangus Association an
 d a former judge for the National Reining Horse Association. He is a lifeti
 me member of the AQHA, NRHA, ASHA, ApHC, APHA, IBHA, ACHA, and many others.
  </p><p>The HORSEMANSHIP class is a continuation of the foundation class. I
 n the Horsemanship class, we start mounted and only do a small amount of gr
 oundwork if deemed necessary for safety. The class consists of gaining bett
 er control of our horses feet through feel, timing, and balance. We work on
  building confidence with our horses, and helping the riders and horses rea
 ct favorably to stressful and exciting situations. We work on straightness,
  different forms of transitions, and ways of moving the hindquarters and th
 e front end. Cal will take into consideration, the riders in each clinic an
 d adjust accordingly. Those who are only able to attend the Horsemanship cl
 ass are encouraged to come and audit the Foundation class at no extra cost,
  in order to have a deeper understanding of their horses. </p>
DTSTAMP:20260424T210141
DTSTART;TZID=America/New_York;VALUE=DATE:20240421
DTEND;TZID=America/New_York;VALUE=DATE:20240425
SEQUENCE:0
TRANSP:OPAQUE
END:VEVENT
END:VCALENDAR