BEGIN:VCALENDAR
VERSION:2.0
PRODID:-//jEvents 2.0 for Joomla//EN
CALSCALE:GREGORIAN
METHOD:PUBLISH
BEGIN:VTIMEZONE
TZID:America/New_York
BEGIN:STANDARD
DTSTART:20231105T010000
RDATE:20240310T030000
TZOFFSETFROM:-0400
TZOFFSETTO:-0500
TZNAME:America/New_York EST
END:STANDARD
BEGIN:STANDARD
DTSTART:20241103T010000
RDATE:20250309T030000
TZOFFSETFROM:-0400
TZOFFSETTO:-0500
TZNAME:America/New_York EST
END:STANDARD
BEGIN:STANDARD
DTSTART:20251102T010000
RDATE:20260308T030000
TZOFFSETFROM:-0400
TZOFFSETTO:-0500
TZNAME:America/New_York EST
END:STANDARD
BEGIN:STANDARD
DTSTART:20261101T010000
RDATE:20270314T030000
TZOFFSETFROM:-0400
TZOFFSETTO:-0500
TZNAME:America/New_York EST
END:STANDARD
BEGIN:STANDARD
DTSTART:20271107T010000
RDATE:20280312T030000
TZOFFSETFROM:-0400
TZOFFSETTO:-0500
TZNAME:America/New_York EST
END:STANDARD
BEGIN:STANDARD
DTSTART:20281105T010000
RDATE:20290311T030000
TZOFFSETFROM:-0400
TZOFFSETTO:-0500
TZNAME:America/New_York EST
END:STANDARD
BEGIN:DAYLIGHT
DTSTART:20230615T180000
RDATE:20231105T010000
TZOFFSETFROM:-0500
TZOFFSETTO:-0400
TZNAME:America/New_York EDT
END:DAYLIGHT
BEGIN:DAYLIGHT
DTSTART:20240310T030000
RDATE:20241103T010000
TZOFFSETFROM:-0500
TZOFFSETTO:-0400
TZNAME:America/New_York EDT
END:DAYLIGHT
BEGIN:DAYLIGHT
DTSTART:20250309T030000
RDATE:20251102T010000
TZOFFSETFROM:-0500
TZOFFSETTO:-0400
TZNAME:America/New_York EDT
END:DAYLIGHT
BEGIN:DAYLIGHT
DTSTART:20260308T030000
RDATE:20261101T010000
TZOFFSETFROM:-0500
TZOFFSETTO:-0400
TZNAME:America/New_York EDT
END:DAYLIGHT
BEGIN:DAYLIGHT
DTSTART:20270314T030000
RDATE:20271107T010000
TZOFFSETFROM:-0500
TZOFFSETTO:-0400
TZNAME:America/New_York EDT
END:DAYLIGHT
BEGIN:DAYLIGHT
DTSTART:20280312T030000
RDATE:20281105T010000
TZOFFSETFROM:-0500
TZOFFSETTO:-0400
TZNAME:America/New_York EDT
END:DAYLIGHT
END:VTIMEZONE
BEGIN:VEVENT
UID:a0ff2e5dfa3beefd55cc75cdadcd1293
CATEGORIES:Recreation & Lifestyle
CREATED:20240513T103731
SUMMARY:Barbecue, Burros and Brews with Brooke USA
LOCATION: Cardinal Ranch
DESCRIPTION:Professional reining demonstration, prime Texas barbecue, local brews, live
  music, and more! Complimentary entrance and parking. Limited seating.\n
\n
 
Join Brooke USA Foundation (Brooke USA) for the inaugural edition of Barbe
 cue, Burros and Brews. The exclusive event, with limited seating, will incl
 ude a professional reining demonstration, prime Texas barbecue, local brews
 , live music, and more.\n
\n
Hosted by Brooke USA’s Dallas/Ft. Worth Region
 al Advisory Council Chair and Brooke USA Board Member, Dwayne Hildreth, the
  event welcomes equestrians and enthusiasts to experience an exciting reini
 ng horse demonstration full of signature moves with precise patterns of cir
 cles, spins, and stops. The entertainment lineup boasts the talents of loca
 l favorite Zach Page.\n
\n
During the intimate, complimentary gathering, gu
 ests will have an opportunity to bid on equestrian and local items to benef
 it Brooke USA, a non-profit organization dedicated to alleviating the suffe
 ring of working horses, donkeys and mules and the people who depend on them
  across the world and right here in the United States.\n
\n
As a special tr
 eat, Katie Jackson, Brooke USA Para-Dressage Ambassador and Texas resident 
 will join guests to share her own unique passion for the mission of Brooke 
 USA.\n

X-ALT-DESC;FMTTYPE=text/html:Professional reining demonstration, prime Texas barbecue, local brews, live
  music, and more! Complimentary entrance and parking. Limited seating.<br /
 ><br />Join Brooke USA Foundation (Brooke USA) for the inaugural edition of
  Barbecue, Burros and Brews. The exclusive event, with limited seating, wil
 l include a professional reining demonstration, prime Texas barbecue, local
  brews, live music, and more.<br /><br />Hosted by Brooke USA’s Dallas/Ft. 
 Worth Regional Advisory Council Chair and Brooke USA Board Member, Dwayne H
 ildreth, the event welcomes equestrians and enthusiasts to experience an ex
 citing reining horse demonstration full of signature moves with precise pat
 terns of circles, spins, and stops. The entertainment lineup boasts the tal
 ents of local favorite Zach Page.<br /><br />During the intimate, complimen
 tary gathering, guests will have an opportunity to bid on equestrian and lo
 cal items to benefit Brooke USA, a non-profit organization dedicated to all
 eviating the suffering of working horses, donkeys and mules and the people 
 who depend on them across the world and right here in the United States.<br
  /><br />As a special treat, Katie Jackson, Brooke USA Para-Dressage Ambass
 ador and Texas resident will join guests to share her own unique passion fo
 r the mission of Brooke USA.<br />
DTSTAMP:20260424T204842
DTSTART;TZID=America/New_York:20240615T180000
DTEND;TZID=America/New_York:20240615T200000
SEQUENCE:0
TRANSP:OPAQUE
END:VEVENT
END:VCALENDAR