BEGIN:VCALENDAR
VERSION:2.0
PRODID:-//jEvents 2.0 for Joomla//EN
CALSCALE:GREGORIAN
METHOD:PUBLISH
BEGIN:VTIMEZONE
TZID:America/New_York
BEGIN:STANDARD
DTSTART:20231105T010000
RDATE:20240310T030000
TZOFFSETFROM:-0400
TZOFFSETTO:-0500
TZNAME:America/New_York EST
END:STANDARD
BEGIN:STANDARD
DTSTART:20241103T010000
RDATE:20250309T030000
TZOFFSETFROM:-0400
TZOFFSETTO:-0500
TZNAME:America/New_York EST
END:STANDARD
BEGIN:STANDARD
DTSTART:20251102T010000
RDATE:20260308T030000
TZOFFSETFROM:-0400
TZOFFSETTO:-0500
TZNAME:America/New_York EST
END:STANDARD
BEGIN:STANDARD
DTSTART:20261101T010000
RDATE:20270314T030000
TZOFFSETFROM:-0400
TZOFFSETTO:-0500
TZNAME:America/New_York EST
END:STANDARD
BEGIN:STANDARD
DTSTART:20271107T010000
RDATE:20280312T030000
TZOFFSETFROM:-0400
TZOFFSETTO:-0500
TZNAME:America/New_York EST
END:STANDARD
BEGIN:STANDARD
DTSTART:20281105T010000
RDATE:20290311T030000
TZOFFSETFROM:-0400
TZOFFSETTO:-0500
TZNAME:America/New_York EST
END:STANDARD
BEGIN:DAYLIGHT
DTSTART:20230521T180000
RDATE:20231105T010000
TZOFFSETFROM:-0500
TZOFFSETTO:-0400
TZNAME:America/New_York EDT
END:DAYLIGHT
BEGIN:DAYLIGHT
DTSTART:20240310T030000
RDATE:20241103T010000
TZOFFSETFROM:-0500
TZOFFSETTO:-0400
TZNAME:America/New_York EDT
END:DAYLIGHT
BEGIN:DAYLIGHT
DTSTART:20250309T030000
RDATE:20251102T010000
TZOFFSETFROM:-0500
TZOFFSETTO:-0400
TZNAME:America/New_York EDT
END:DAYLIGHT
BEGIN:DAYLIGHT
DTSTART:20260308T030000
RDATE:20261101T010000
TZOFFSETFROM:-0500
TZOFFSETTO:-0400
TZNAME:America/New_York EDT
END:DAYLIGHT
BEGIN:DAYLIGHT
DTSTART:20270314T030000
RDATE:20271107T010000
TZOFFSETFROM:-0500
TZOFFSETTO:-0400
TZNAME:America/New_York EDT
END:DAYLIGHT
BEGIN:DAYLIGHT
DTSTART:20280312T030000
RDATE:20281105T010000
TZOFFSETFROM:-0500
TZOFFSETTO:-0400
TZNAME:America/New_York EDT
END:DAYLIGHT
END:VTIMEZONE
BEGIN:VEVENT
UID:af1202c95bf91fb5fb5ebe01880b980b
CATEGORIES:Health & Education
CREATED:20240515T135306
SUMMARY:Cornell’s Equine Seminar Series “A Veterinary Technician’s Point of View"”
LOCATION:Webinar - online participation
DESCRIPTION:Cornell’s Equine Seminar Series presents “A Veterinary Technician’s Point o
 f View: Caring for your horse at Cornell’s Equine Hospital”<br />WHAT: Jlyn
 n Meyer, LVT and Mikaela Frost, LVT at the Cornell University Hospital for 
 Animals (CUHA) will discuss the credentials behind the title LVT and walk t
 hrough the LVTs involvement during a horse’s visit to the hospital. They wi
 ll use case studies to describe interactions and responsibilities amongst e
 mergencies and scheduled appointments.<br />WHEN: Tuesday, May 21, 2024, 6:
 00-7:00 p.m. ET<br />WHERE: Via Zoom; registration required: <a href="https
 ://cornell.zoom.us/webinar/register/2617157189665/WN_PMvlo_7xTBmhsVItP4QATw
 #/registration">https://cornell.zoom.us/webinar/register/2617157189665/WN_P
 Mvlo_7xTBmhsVItP4QATw#/registration</a><br />MEDIA: The event is free and o
 pen to the public. Media members are asked to RSVP to Len Johnson, <a href=
 "mailto:Len.Johnson@Cornell.edu">Len.Johnson@Cornell.edu</a><br /> <br />IT
 HACA, N.Y. – Join the Cornell University College of Veterinary Medicine for
  “A Veterinary Technician’s Point of View: Caring for your horse at Cornell
 ’s Equine Hospital.” Jlynn Meyer, LVT and Mikaela Frost, LVT at the Cornell
  University Hospital for Animals (CUHA) will discuss the credentials behind
  the title LVT and walk through the LVTs involvement during a horse’s visit
  to the hospital. They will use case studies to describe interactions and r
 esponsibilities amongst emergencies and scheduled appointments.<br /><br />
 The Cornell Equine Seminar Series is presented by the Cornell Equine Hospit
 al and Cornell Cooperative Extension. Held monthly, equine experts present 
 on important equine health and management topics. The event is free and ope
 n to the public.  Media members are asked to register with Len Johnson at L
 en.Johnson@Cornell.edu.<br /><br />For additional information about the col
 lege, see the College of Veterinary Medicine news website.<br /><br />Corne
 ll University has dedicated television and audio studios available for medi
 a interviews supporting full HD, ISDN and web-based platforms. For addition
 al information about the college, see the College of Veterinary Medicine ne
 ws website.
DTSTAMP:20260424T210133
DTSTART;TZID=America/New_York:20240521T180000
DTEND;TZID=America/New_York:20240521T190000
SEQUENCE:0
TRANSP:OPAQUE
END:VEVENT
END:VCALENDAR