BEGIN:VCALENDAR
VERSION:2.0
PRODID:-//jEvents 2.0 for Joomla//EN
CALSCALE:GREGORIAN
METHOD:PUBLISH
BEGIN:VTIMEZONE
TZID:America/New_York
BEGIN:STANDARD
DTSTART:20231105T010000
RDATE:20240310T030000
TZOFFSETFROM:-0400
TZOFFSETTO:-0500
TZNAME:America/New_York EST
END:STANDARD
BEGIN:STANDARD
DTSTART:20241103T010000
RDATE:20250309T030000
TZOFFSETFROM:-0400
TZOFFSETTO:-0500
TZNAME:America/New_York EST
END:STANDARD
BEGIN:STANDARD
DTSTART:20251102T010000
RDATE:20260308T030000
TZOFFSETFROM:-0400
TZOFFSETTO:-0500
TZNAME:America/New_York EST
END:STANDARD
BEGIN:STANDARD
DTSTART:20261101T010000
RDATE:20270314T030000
TZOFFSETFROM:-0400
TZOFFSETTO:-0500
TZNAME:America/New_York EST
END:STANDARD
BEGIN:STANDARD
DTSTART:20271107T010000
RDATE:20280312T030000
TZOFFSETFROM:-0400
TZOFFSETTO:-0500
TZNAME:America/New_York EST
END:STANDARD
BEGIN:STANDARD
DTSTART:20281105T010000
RDATE:20290311T030000
TZOFFSETFROM:-0400
TZOFFSETTO:-0500
TZNAME:America/New_York EST
END:STANDARD
BEGIN:DAYLIGHT
DTSTART:20230607T000000
RDATE:20231105T010000
TZOFFSETFROM:-0500
TZOFFSETTO:-0400
TZNAME:America/New_York EDT
END:DAYLIGHT
BEGIN:DAYLIGHT
DTSTART:20240310T030000
RDATE:20241103T010000
TZOFFSETFROM:-0500
TZOFFSETTO:-0400
TZNAME:America/New_York EDT
END:DAYLIGHT
BEGIN:DAYLIGHT
DTSTART:20250309T030000
RDATE:20251102T010000
TZOFFSETFROM:-0500
TZOFFSETTO:-0400
TZNAME:America/New_York EDT
END:DAYLIGHT
BEGIN:DAYLIGHT
DTSTART:20260308T030000
RDATE:20261101T010000
TZOFFSETFROM:-0500
TZOFFSETTO:-0400
TZNAME:America/New_York EDT
END:DAYLIGHT
BEGIN:DAYLIGHT
DTSTART:20270314T030000
RDATE:20271107T010000
TZOFFSETFROM:-0500
TZOFFSETTO:-0400
TZNAME:America/New_York EDT
END:DAYLIGHT
BEGIN:DAYLIGHT
DTSTART:20280312T030000
RDATE:20281105T010000
TZOFFSETFROM:-0500
TZOFFSETTO:-0400
TZNAME:America/New_York EDT
END:DAYLIGHT
END:VTIMEZONE
BEGIN:VEVENT
UID:c2c3605cb41654bd15dd7d148bfcf915
CATEGORIES:Horse Show
CREATED:20240527T132118
SUMMARY:Dressage at the Park - Horse Park of NJ
LOCATION:Horse Park of New Jersey
DESCRIPTION:June 7-8, 2024/USDF #286066 – Level #2
Official Qualifying Competition for:
 \n
 2024 GAIG/USDF Regional Championship, 2024 CBLM Championship
\n
SHOW DA
 TES  June 7 – 8, 2024\n
OPENING DATE - April 19, 2024\n
CLOSING DATE - May 
 31, 2024\n

JUDGES: Marilyn Payne, S, NJ, \n
                 Willette Brow
 n, S-NJ\n
                 additional judges TBA\n
\n

MANAGER:  Ellen Brin
 dle-Clark\n
Phone: 609-351-1054 (email or text preferred)\n\n
X-ALT-DESC;FMTTYPE=text/html:<p>June 7-8, 2024/USDF #286066 – Level #2Official Qualifying Competition fo
 r:<br /> 2024 GAIG/USDF Regional Championship, 2024 CBLM Championship</p><P
  />SHOW DATES  June 7 – 8, 2024<br />OPENING DATE - April 19, 2024<br />CLO
 SING DATE - May 31, 2024<br /><p>JUDGES: Marilyn Payne, S, NJ, <br />      
            Willette Brown, S-NJ<br />                 additional judges TBA
 <br /><br />MANAGER:  Ellen Brindle-Clark<br />Phone: 609-351-1054 (email o
 r text preferred)<br /></p>
DTSTAMP:20260424T204744
DTSTART;TZID=America/New_York;VALUE=DATE:20240607
DTEND;TZID=America/New_York;VALUE=DATE:20240609
SEQUENCE:0
TRANSP:OPAQUE
END:VEVENT
END:VCALENDAR