BEGIN:VCALENDAR
VERSION:2.0
PRODID:-//jEvents 2.0 for Joomla//EN
CALSCALE:GREGORIAN
METHOD:PUBLISH
BEGIN:VTIMEZONE
TZID:America/New_York
BEGIN:STANDARD
DTSTART:20231105T010000
RDATE:20240310T030000
TZOFFSETFROM:-0400
TZOFFSETTO:-0500
TZNAME:America/New_York EST
END:STANDARD
BEGIN:STANDARD
DTSTART:20241103T010000
RDATE:20250309T030000
TZOFFSETFROM:-0400
TZOFFSETTO:-0500
TZNAME:America/New_York EST
END:STANDARD
BEGIN:STANDARD
DTSTART:20251102T010000
RDATE:20260308T030000
TZOFFSETFROM:-0400
TZOFFSETTO:-0500
TZNAME:America/New_York EST
END:STANDARD
BEGIN:STANDARD
DTSTART:20261101T010000
RDATE:20270314T030000
TZOFFSETFROM:-0400
TZOFFSETTO:-0500
TZNAME:America/New_York EST
END:STANDARD
BEGIN:STANDARD
DTSTART:20271107T010000
RDATE:20280312T030000
TZOFFSETFROM:-0400
TZOFFSETTO:-0500
TZNAME:America/New_York EST
END:STANDARD
BEGIN:STANDARD
DTSTART:20281105T010000
RDATE:20290311T030000
TZOFFSETFROM:-0400
TZOFFSETTO:-0500
TZNAME:America/New_York EST
END:STANDARD
BEGIN:DAYLIGHT
DTSTART:20230812T000000
RDATE:20231105T010000
TZOFFSETFROM:-0500
TZOFFSETTO:-0400
TZNAME:America/New_York EDT
END:DAYLIGHT
BEGIN:DAYLIGHT
DTSTART:20240310T030000
RDATE:20241103T010000
TZOFFSETFROM:-0500
TZOFFSETTO:-0400
TZNAME:America/New_York EDT
END:DAYLIGHT
BEGIN:DAYLIGHT
DTSTART:20250309T030000
RDATE:20251102T010000
TZOFFSETFROM:-0500
TZOFFSETTO:-0400
TZNAME:America/New_York EDT
END:DAYLIGHT
BEGIN:DAYLIGHT
DTSTART:20260308T030000
RDATE:20261101T010000
TZOFFSETFROM:-0500
TZOFFSETTO:-0400
TZNAME:America/New_York EDT
END:DAYLIGHT
BEGIN:DAYLIGHT
DTSTART:20270314T030000
RDATE:20271107T010000
TZOFFSETFROM:-0500
TZOFFSETTO:-0400
TZNAME:America/New_York EDT
END:DAYLIGHT
BEGIN:DAYLIGHT
DTSTART:20280312T030000
RDATE:20281105T010000
TZOFFSETFROM:-0500
TZOFFSETTO:-0400
TZNAME:America/New_York EDT
END:DAYLIGHT
END:VTIMEZONE
BEGIN:VEVENT
UID:101dc0808c0a44c49d6ff83681863d32
CATEGORIES:Horse Racing
CREATED:20240529T091036
SUMMARY:THE RACING AND GAMING CONFERENCE AT SARATOGA AUGUST 12-14, 2024
LOCATION:The Saratoga Hilton
DESCRIPTION:<p>REGISTRATION OPEN<br />The Racing and Gaming Conference at Saratoga will
  be held August 12-14, 2024, at The Saratoga Hilton. <A href="https://racin
 gandgamingsaratoga.regfox.com/racing-and-gaming-conference-at-saratoga-2024
 " target="_blank" />Click here</a> to register.</p><p>The Racing and Gaming
  Conference at Saratoga is an intensive, premier forum for industry decisio
 n-makers, stakeholders, and racing and gaming patrons to analyze trends in 
 all sectors – in New York and nationally – as well as to discuss critical i
 ssues and to share ideas. The RGCS is held at The Saratoga Hilton in Sarato
 ga Springs, NY.</p><hr /><p>Copyright © 2021 Racing and Gaming Conference a
 t Saratoga - All Rights Reserved. <br />Address:   <br />PO Box 184, <br />
 Feura Bush, NY 12067<br />Email: info@racingandgamingsaratoga.com<br />Phon
 e: 609-926-5100</p>
DTSTAMP:20260424T205018
DTSTART;TZID=America/New_York;VALUE=DATE:20240812
DTEND;TZID=America/New_York;VALUE=DATE:20240815
SEQUENCE:0
TRANSP:OPAQUE
END:VEVENT
END:VCALENDAR