BEGIN:VCALENDAR
VERSION:2.0
PRODID:-//jEvents 2.0 for Joomla//EN
CALSCALE:GREGORIAN
METHOD:PUBLISH
BEGIN:VTIMEZONE
TZID:America/New_York
BEGIN:STANDARD
DTSTART:20231105T010000
RDATE:20240310T030000
TZOFFSETFROM:-0400
TZOFFSETTO:-0500
TZNAME:America/New_York EST
END:STANDARD
BEGIN:STANDARD
DTSTART:20241103T010000
RDATE:20250309T030000
TZOFFSETFROM:-0400
TZOFFSETTO:-0500
TZNAME:America/New_York EST
END:STANDARD
BEGIN:STANDARD
DTSTART:20251102T010000
RDATE:20260308T030000
TZOFFSETFROM:-0400
TZOFFSETTO:-0500
TZNAME:America/New_York EST
END:STANDARD
BEGIN:STANDARD
DTSTART:20261101T010000
RDATE:20270314T030000
TZOFFSETFROM:-0400
TZOFFSETTO:-0500
TZNAME:America/New_York EST
END:STANDARD
BEGIN:STANDARD
DTSTART:20271107T010000
RDATE:20280312T030000
TZOFFSETFROM:-0400
TZOFFSETTO:-0500
TZNAME:America/New_York EST
END:STANDARD
BEGIN:STANDARD
DTSTART:20281105T010000
RDATE:20290311T030000
TZOFFSETFROM:-0400
TZOFFSETTO:-0500
TZNAME:America/New_York EST
END:STANDARD
BEGIN:DAYLIGHT
DTSTART:20230804T000000
RDATE:20231105T010000
TZOFFSETFROM:-0500
TZOFFSETTO:-0400
TZNAME:America/New_York EDT
END:DAYLIGHT
BEGIN:DAYLIGHT
DTSTART:20240310T030000
RDATE:20241103T010000
TZOFFSETFROM:-0500
TZOFFSETTO:-0400
TZNAME:America/New_York EDT
END:DAYLIGHT
BEGIN:DAYLIGHT
DTSTART:20250309T030000
RDATE:20251102T010000
TZOFFSETFROM:-0500
TZOFFSETTO:-0400
TZNAME:America/New_York EDT
END:DAYLIGHT
BEGIN:DAYLIGHT
DTSTART:20260308T030000
RDATE:20261101T010000
TZOFFSETFROM:-0500
TZOFFSETTO:-0400
TZNAME:America/New_York EDT
END:DAYLIGHT
BEGIN:DAYLIGHT
DTSTART:20270314T030000
RDATE:20271107T010000
TZOFFSETFROM:-0500
TZOFFSETTO:-0400
TZNAME:America/New_York EDT
END:DAYLIGHT
BEGIN:DAYLIGHT
DTSTART:20280312T030000
RDATE:20281105T010000
TZOFFSETFROM:-0500
TZOFFSETTO:-0400
TZNAME:America/New_York EDT
END:DAYLIGHT
END:VTIMEZONE
BEGIN:VEVENT
UID:3a17a33bf343108497c76616d7cc4ce6
CATEGORIES:English Riding
CREATED:20240529T123746
SUMMARY:Summer Schooling Event III at Orchard Hill Equestrian Center, MA
LOCATION:Orchard Hill Equestrian Center
DESCRIPTION:Join us on Sunday, August 4, 2024 for a three phase horse trials at Orchard
  Hill Fields.
\n

Second rides of your dressage and jumping tests will be a
 vailable; the first ride will count toward ribbons.
\n

Second rides may be
  at a different level than the first.
\n

Entry Fees:
$155 for each horse a
 nd rider 3-phase entry\n
$120 for each horse and rider 2-phase entry\n
$95 
 for two dressage tests (any level)\n
$75 for one dressage test (only pre-el
 ementary)\n
$30 for use of Orchard Hill school horse\n
\n

Orchard Hill hos
 ts schooling shows in the spring, summer and early fall. \n
\n
We welcome n
 ew and experienced riders at five levels:\n
\n
Pre-Elementary- Walk-trot dr
 essage USDF Intro Test A , 18″ cross rails and 12″ cross-country obstacles 
 in an enclosed field\n
Elementary- USEA Starter Test, 2′ vertical stadium j
 umps, and an inviting XC course in open fields with a variety of logs, coop
 s, other obstacles to 2′, optional water crossing\n
Advanced Elementary (a.
 k.a. Intro)-  USEA Starter Test- with verticals and oxers to 2’3″, XC has l
 ogs, coops, half-ditch, banks, water\n
Beginner Novice-  USEA BN Test A, 2’
 6″ jumps, small banks, small ditch water crossing with optional jump out an
 d small stone wall\n
Novice- USEA Novice Test A, 2’9″ stadium with combinat
 ions, XC jumps with water, banks and drops, a stone wall, beaver dam, ditch
  and lots of variety to the terrain.\n
All dressage tests use the most rece
 nt revision (year) from their organizations- USEA/USDF\n
\n
Dressage is hel
 d in two quiet sand arenas at the top of the hill, while both jumping phase
 s are in sand rings adjacent to parking.  Summer shows include a food truck
 ! \n
\n
Entries are online; ride times and results are posted here and on o
 ur Facebook page.
X-ALT-DESC;FMTTYPE=text/html:<p>Join us on Sunday, August 4, 2024 for a three phase horse trials at Orch
 ard Hill Fields.</p><p>Second rides of your dressage and jumping tests will
  be available; the first ride will count toward ribbons.</p><p>Second rides
  may be at a different level than the first.</p><p>Entry Fees:$155 for each
  horse and rider 3-phase entry<br />$120 for each horse and rider 2-phase e
 ntry<br />$95 for two dressage tests (any level)<br />$75 for one dressage 
 test (only pre-elementary)<br />$30 for use of Orchard Hill school horse<br
  /></p><p />Orchard Hill hosts schooling shows in the spring, summer and ea
 rly fall. <br /><br />We welcome new and experienced riders at five levels:
 <br /><br />Pre-Elementary- Walk-trot dressage USDF Intro Test A , 18″ cros
 s rails and 12″ cross-country obstacles in an enclosed field<br />Elementar
 y- USEA Starter Test, 2′ vertical stadium jumps, and an inviting XC course 
 in open fields with a variety of logs, coops, other obstacles to 2′, option
 al water crossing<br />Advanced Elementary (a.k.a. Intro)-  USEA Starter Te
 st- with verticals and oxers to 2’3″, XC has logs, coops, half-ditch, banks
 , water<br />Beginner Novice-  USEA BN Test A, 2’6″ jumps, small banks, sma
 ll ditch water crossing with optional jump out and small stone wall<br />No
 vice- USEA Novice Test A, 2’9″ stadium with combinations, XC jumps with wat
 er, banks and drops, a stone wall, beaver dam, ditch and lots of variety to
  the terrain.<br />All dressage tests use the most recent revision (year) f
 rom their organizations- USEA/USDF<br /><br />Dressage is held in two quiet
  sand arenas at the top of the hill, while both jumping phases are in sand 
 rings adjacent to parking.  Summer shows include a food truck! <br /><br />
 Entries are online; ride times and results are posted here and on our Faceb
 ook page.
DTSTAMP:20260424T204840
DTSTART;TZID=America/New_York;VALUE=DATE:20240804
DTEND;TZID=America/New_York;VALUE=DATE:20240805
SEQUENCE:0
TRANSP:OPAQUE
END:VEVENT
END:VCALENDAR