BEGIN:VCALENDAR
VERSION:2.0
PRODID:-//jEvents 2.0 for Joomla//EN
CALSCALE:GREGORIAN
METHOD:PUBLISH
BEGIN:VTIMEZONE
TZID:America/New_York
BEGIN:STANDARD
DTSTART:20231105T010000
RDATE:20240310T030000
TZOFFSETFROM:-0400
TZOFFSETTO:-0500
TZNAME:America/New_York EST
END:STANDARD
BEGIN:STANDARD
DTSTART:20241103T010000
RDATE:20250309T030000
TZOFFSETFROM:-0400
TZOFFSETTO:-0500
TZNAME:America/New_York EST
END:STANDARD
BEGIN:STANDARD
DTSTART:20251102T010000
RDATE:20260308T030000
TZOFFSETFROM:-0400
TZOFFSETTO:-0500
TZNAME:America/New_York EST
END:STANDARD
BEGIN:STANDARD
DTSTART:20261101T010000
RDATE:20270314T030000
TZOFFSETFROM:-0400
TZOFFSETTO:-0500
TZNAME:America/New_York EST
END:STANDARD
BEGIN:STANDARD
DTSTART:20271107T010000
RDATE:20280312T030000
TZOFFSETFROM:-0400
TZOFFSETTO:-0500
TZNAME:America/New_York EST
END:STANDARD
BEGIN:STANDARD
DTSTART:20281105T010000
RDATE:20290311T030000
TZOFFSETFROM:-0400
TZOFFSETTO:-0500
TZNAME:America/New_York EST
END:STANDARD
BEGIN:DAYLIGHT
DTSTART:20230812T000000
RDATE:20231105T010000
TZOFFSETFROM:-0500
TZOFFSETTO:-0400
TZNAME:America/New_York EDT
END:DAYLIGHT
BEGIN:DAYLIGHT
DTSTART:20240310T030000
RDATE:20241103T010000
TZOFFSETFROM:-0500
TZOFFSETTO:-0400
TZNAME:America/New_York EDT
END:DAYLIGHT
BEGIN:DAYLIGHT
DTSTART:20250309T030000
RDATE:20251102T010000
TZOFFSETFROM:-0500
TZOFFSETTO:-0400
TZNAME:America/New_York EDT
END:DAYLIGHT
BEGIN:DAYLIGHT
DTSTART:20260308T030000
RDATE:20261101T010000
TZOFFSETFROM:-0500
TZOFFSETTO:-0400
TZNAME:America/New_York EDT
END:DAYLIGHT
BEGIN:DAYLIGHT
DTSTART:20270314T030000
RDATE:20271107T010000
TZOFFSETFROM:-0500
TZOFFSETTO:-0400
TZNAME:America/New_York EDT
END:DAYLIGHT
BEGIN:DAYLIGHT
DTSTART:20280312T030000
RDATE:20281105T010000
TZOFFSETFROM:-0500
TZOFFSETTO:-0400
TZNAME:America/New_York EDT
END:DAYLIGHT
END:VTIMEZONE
BEGIN:VEVENT
UID:da4328209da3dcff36651283e51c7d48
CATEGORIES:Horse Show
CREATED:20240529T125628
SUMMARY:Metropolitan Equestrian Charity Clinic and Horse Show
LOCATION:USET Foundation’s Hamilton Farm
DESCRIPTION:August 12th, 2024: USHJA Mini EAP Clinic with Archie Cox\n
August 13th-14th
 , 2024: USEF Rated competitions with USHJA Outreach Classes and NJPHA point
 s\n
Location: USET Foundation’s Hamilton Farm, 1 School House Ln, Gladstone
 , NJ 07934\n
Questions? Please call 929-732-7784 or send an email to lana@m
 eteq.org\n
X-ALT-DESC;FMTTYPE=text/html:August 12th, 2024: USHJA Mini EAP Clinic with Archie Cox<br />August 13th-1
 4th, 2024: USEF Rated competitions with USHJA Outreach Classes and NJPHA po
 ints<br />Location: USET Foundation’s Hamilton Farm, 1 School House Ln, Gla
 dstone, NJ 07934<br />Questions? Please call 929-732-7784 or send an email 
 to lana@meteq.org<br />
DTSTAMP:20260424T204746
DTSTART;TZID=America/New_York;VALUE=DATE:20240812
DTEND;TZID=America/New_York;VALUE=DATE:20240815
SEQUENCE:0
TRANSP:OPAQUE
END:VEVENT
END:VCALENDAR