BEGIN:VCALENDAR
VERSION:2.0
PRODID:-//jEvents 2.0 for Joomla//EN
CALSCALE:GREGORIAN
METHOD:PUBLISH
BEGIN:VTIMEZONE
TZID:America/New_York
BEGIN:STANDARD
DTSTART:20231105T010000
RDATE:20240310T030000
TZOFFSETFROM:-0400
TZOFFSETTO:-0500
TZNAME:America/New_York EST
END:STANDARD
BEGIN:STANDARD
DTSTART:20241103T010000
RDATE:20250309T030000
TZOFFSETFROM:-0400
TZOFFSETTO:-0500
TZNAME:America/New_York EST
END:STANDARD
BEGIN:STANDARD
DTSTART:20251102T010000
RDATE:20260308T030000
TZOFFSETFROM:-0400
TZOFFSETTO:-0500
TZNAME:America/New_York EST
END:STANDARD
BEGIN:STANDARD
DTSTART:20261101T010000
RDATE:20270314T030000
TZOFFSETFROM:-0400
TZOFFSETTO:-0500
TZNAME:America/New_York EST
END:STANDARD
BEGIN:STANDARD
DTSTART:20271107T010000
RDATE:20280312T030000
TZOFFSETFROM:-0400
TZOFFSETTO:-0500
TZNAME:America/New_York EST
END:STANDARD
BEGIN:STANDARD
DTSTART:20281105T010000
RDATE:20290311T030000
TZOFFSETFROM:-0400
TZOFFSETTO:-0500
TZNAME:America/New_York EST
END:STANDARD
BEGIN:DAYLIGHT
DTSTART:20230720T090000
RDATE:20231105T010000
TZOFFSETFROM:-0500
TZOFFSETTO:-0400
TZNAME:America/New_York EDT
END:DAYLIGHT
BEGIN:DAYLIGHT
DTSTART:20240310T030000
RDATE:20241103T010000
TZOFFSETFROM:-0500
TZOFFSETTO:-0400
TZNAME:America/New_York EDT
END:DAYLIGHT
BEGIN:DAYLIGHT
DTSTART:20250309T030000
RDATE:20251102T010000
TZOFFSETFROM:-0500
TZOFFSETTO:-0400
TZNAME:America/New_York EDT
END:DAYLIGHT
BEGIN:DAYLIGHT
DTSTART:20260308T030000
RDATE:20261101T010000
TZOFFSETFROM:-0500
TZOFFSETTO:-0400
TZNAME:America/New_York EDT
END:DAYLIGHT
BEGIN:DAYLIGHT
DTSTART:20270314T030000
RDATE:20271107T010000
TZOFFSETFROM:-0500
TZOFFSETTO:-0400
TZNAME:America/New_York EDT
END:DAYLIGHT
BEGIN:DAYLIGHT
DTSTART:20280312T030000
RDATE:20281105T010000
TZOFFSETFROM:-0500
TZOFFSETTO:-0400
TZNAME:America/New_York EDT
END:DAYLIGHT
END:VTIMEZONE
BEGIN:VEVENT
UID:8f6d808499201879a780938c59436080
CATEGORIES:Recreation & Lifestyle
CREATED:20240703T130236
SUMMARY:Saturday Morning Social, National Museum of Racing and Hall of Fame, Saratoga NY
LOCATION:National Museum of Racing and Hall of Fame
DESCRIPTION:Saturday Morning Social, presented by New York Thoroughbred Horsemen’s Asso
 ciation and the New York Thoroughbred Breeders

The Museum will offer free 
 admission from 9 a.m. to 11 a.m. thanks to the sponsorship from the New Yor
 k Thoroughbred Horsemen’s Association and the New York Thoroughbred Breeder
 s. There will be complimentary coffee and doughnuts courtesy of Stewart’s S
 hops and water courtesy of Saratoga Spring Water. The morning’s activities 
 will include a celebration for the upcoming 150th anniversary of the birthd
 ate of Hall of Fame trainer James “Sunny Jim” Fitzsimmons and a demonstrati
 on by the Saratoga Clay Arts group. There will be a handicapping seminar by
  Tom Amello of Trackfacts and a showing of the documentary film Mill Reef: 
 Legacy of Heart.
Time: 9 a.m. to 11 a.m.
Cost: Free to attend.
\n
X-ALT-DESC;FMTTYPE=text/html:<h3>Saturday Morning Social, presented by New York Thoroughbred Horsemen’s 
 Association and the New York Thoroughbred Breeders</h3><p>The Museum will o
 ffer free admission from 9 a.m. to 11 a.m. thanks to the sponsorship from t
 he New York Thoroughbred Horsemen’s Association and the New York Thoroughbr
 ed Breeders. There will be complimentary coffee and doughnuts courtesy of S
 tewart’s Shops and water courtesy of Saratoga Spring Water. The morning’s a
 ctivities will include a celebration for the upcoming 150th anniversary of 
 the birthdate of <strong>Hall of Fame trainer James “Sunny Jim” Fitzsimmons
 </strong> and a <strong>demonstration by the Saratoga Clay Arts group</stro
 ng>. There will be a <strong>handicapping seminar by Tom Amello of Trackfac
 ts</strong> and a showing of the documentary film <em>Mill Reef: Legacy of 
 Heart</em>.Time: 9 a.m. to 11 a.m.Cost: Free to attend.</p>
DTSTAMP:20260424T204839
DTSTART;TZID=America/New_York:20240720T090000
DTEND;TZID=America/New_York:20240720T110000
SEQUENCE:0
TRANSP:OPAQUE
END:VEVENT
END:VCALENDAR