BEGIN:VCALENDAR
VERSION:2.0
PRODID:-//jEvents 2.0 for Joomla//EN
CALSCALE:GREGORIAN
METHOD:PUBLISH
BEGIN:VTIMEZONE
TZID:America/New_York
BEGIN:STANDARD
DTSTART:20231105T010000
RDATE:20240310T030000
TZOFFSETFROM:-0400
TZOFFSETTO:-0500
TZNAME:America/New_York EST
END:STANDARD
BEGIN:STANDARD
DTSTART:20241103T010000
RDATE:20250309T030000
TZOFFSETFROM:-0400
TZOFFSETTO:-0500
TZNAME:America/New_York EST
END:STANDARD
BEGIN:STANDARD
DTSTART:20251102T010000
RDATE:20260308T030000
TZOFFSETFROM:-0400
TZOFFSETTO:-0500
TZNAME:America/New_York EST
END:STANDARD
BEGIN:STANDARD
DTSTART:20261101T010000
RDATE:20270314T030000
TZOFFSETFROM:-0400
TZOFFSETTO:-0500
TZNAME:America/New_York EST
END:STANDARD
BEGIN:STANDARD
DTSTART:20271107T010000
RDATE:20280312T030000
TZOFFSETFROM:-0400
TZOFFSETTO:-0500
TZNAME:America/New_York EST
END:STANDARD
BEGIN:STANDARD
DTSTART:20281105T010000
RDATE:20290311T030000
TZOFFSETFROM:-0400
TZOFFSETTO:-0500
TZNAME:America/New_York EST
END:STANDARD
BEGIN:DAYLIGHT
DTSTART:20230814T100000
RDATE:20231105T010000
TZOFFSETFROM:-0500
TZOFFSETTO:-0400
TZNAME:America/New_York EDT
END:DAYLIGHT
BEGIN:DAYLIGHT
DTSTART:20240310T030000
RDATE:20241103T010000
TZOFFSETFROM:-0500
TZOFFSETTO:-0400
TZNAME:America/New_York EDT
END:DAYLIGHT
BEGIN:DAYLIGHT
DTSTART:20250309T030000
RDATE:20251102T010000
TZOFFSETFROM:-0500
TZOFFSETTO:-0400
TZNAME:America/New_York EDT
END:DAYLIGHT
BEGIN:DAYLIGHT
DTSTART:20260308T030000
RDATE:20261101T010000
TZOFFSETFROM:-0500
TZOFFSETTO:-0400
TZNAME:America/New_York EDT
END:DAYLIGHT
BEGIN:DAYLIGHT
DTSTART:20270314T030000
RDATE:20271107T010000
TZOFFSETFROM:-0500
TZOFFSETTO:-0400
TZNAME:America/New_York EDT
END:DAYLIGHT
BEGIN:DAYLIGHT
DTSTART:20280312T030000
RDATE:20281105T010000
TZOFFSETFROM:-0500
TZOFFSETTO:-0400
TZNAME:America/New_York EDT
END:DAYLIGHT
END:VTIMEZONE
BEGIN:VEVENT
UID:cfd35d25bc9c32a321ca8d481a7a8d90
CATEGORIES:Recreation & Lifestyle
CREATED:20240703T132518
SUMMARY:NY Race Track Chaplaincy 17th Annual Brunch
LOCATION:Saratoga National Golf Course
DESCRIPTION:<h3>Welcome to the NY Race Track Chaplaincy 17th Annual Brunch Honoring LEN
  GREEN</h3><p>New York Race Track Chaplaincy, P.O. Box 37191, Elmont , NY 1
 1003</p><p>Over 3,500 people make up the community of workers who toil behi
 nd the scenes in support of the Thoroughbred racing industry at Belmont Par
 k, Aqueduct Racetrack, and Saratoga Springs Race Course. The New York Race 
 Track Chaplaincy ministers to the heart and soul of this entire community o
 f stable workers and their families with children’s enrichment, teen mentor
 ing, women’s programming, social service, recreational, and educational pro
 grams as well as non-denominational religious services. The NY Chaplaincy p
 rovides these extensive services with the intent of satisfying spiritual ne
 eds and basic human necessities, as well as  providing the tools necessary 
 for the realization of personal strength and growth through a connection to
  God and community.</p>
DTSTAMP:20260424T205013
DTSTART;TZID=America/New_York:20240814T100000
SEQUENCE:0
TRANSP:OPAQUE
END:VEVENT
END:VCALENDAR