BEGIN:VCALENDAR
VERSION:2.0
PRODID:-//jEvents 2.0 for Joomla//EN
CALSCALE:GREGORIAN
METHOD:PUBLISH
BEGIN:VTIMEZONE
TZID:America/New_York
BEGIN:STANDARD
DTSTART:20231105T010000
RDATE:20240310T030000
TZOFFSETFROM:-0400
TZOFFSETTO:-0500
TZNAME:America/New_York EST
END:STANDARD
BEGIN:STANDARD
DTSTART:20241103T010000
RDATE:20250309T030000
TZOFFSETFROM:-0400
TZOFFSETTO:-0500
TZNAME:America/New_York EST
END:STANDARD
BEGIN:STANDARD
DTSTART:20251102T010000
RDATE:20260308T030000
TZOFFSETFROM:-0400
TZOFFSETTO:-0500
TZNAME:America/New_York EST
END:STANDARD
BEGIN:STANDARD
DTSTART:20261101T010000
RDATE:20270314T030000
TZOFFSETFROM:-0400
TZOFFSETTO:-0500
TZNAME:America/New_York EST
END:STANDARD
BEGIN:STANDARD
DTSTART:20271107T010000
RDATE:20280312T030000
TZOFFSETFROM:-0400
TZOFFSETTO:-0500
TZNAME:America/New_York EST
END:STANDARD
BEGIN:STANDARD
DTSTART:20281105T010000
RDATE:20290311T030000
TZOFFSETFROM:-0400
TZOFFSETTO:-0500
TZNAME:America/New_York EST
END:STANDARD
BEGIN:DAYLIGHT
DTSTART:20230712T150000
RDATE:20231105T010000
TZOFFSETFROM:-0500
TZOFFSETTO:-0400
TZNAME:America/New_York EDT
END:DAYLIGHT
BEGIN:DAYLIGHT
DTSTART:20240310T030000
RDATE:20241103T010000
TZOFFSETFROM:-0500
TZOFFSETTO:-0400
TZNAME:America/New_York EDT
END:DAYLIGHT
BEGIN:DAYLIGHT
DTSTART:20250309T030000
RDATE:20251102T010000
TZOFFSETFROM:-0500
TZOFFSETTO:-0400
TZNAME:America/New_York EDT
END:DAYLIGHT
BEGIN:DAYLIGHT
DTSTART:20260308T030000
RDATE:20261101T010000
TZOFFSETFROM:-0500
TZOFFSETTO:-0400
TZNAME:America/New_York EDT
END:DAYLIGHT
BEGIN:DAYLIGHT
DTSTART:20270314T030000
RDATE:20271107T010000
TZOFFSETFROM:-0500
TZOFFSETTO:-0400
TZNAME:America/New_York EDT
END:DAYLIGHT
BEGIN:DAYLIGHT
DTSTART:20280312T030000
RDATE:20281105T010000
TZOFFSETFROM:-0500
TZOFFSETTO:-0400
TZNAME:America/New_York EDT
END:DAYLIGHT
END:VTIMEZONE
BEGIN:VEVENT
UID:2716787bc4f1b8a04e73e3a7f4ed9782
CATEGORIES:Recreation & Lifestyle
CREATED:20240709T094826
SUMMARY:Saratoga Women In Business (WIB) Spectacular Horse Show
LOCATION:White Hollow Farms
DESCRIPTION:Equestrian Businesswomen (EQBW) is excited to host an EQBW Meet-Up with the
  party and “Supporting Women In Business” Vendor Market on Friday, July 12,
  at 3 p.m., during the Saratoga Women In Business (WIB) Spectacular Horse S
 how at White Hollow Farm in Stillwater, NY.\n
\n
The Saratoga WIB Spectacul
 ar, held at White Hollow Farm in Stillwater, NY, is the first-ever horse sh
 ow created by women, operated by women, benefitting women’s health, and sho
 wcasing businesswomen throughout the equestrian industry and beyond.\n
\n
L
 ocal and equestrian women-owned businesses are welcome to participate in a 
 Vendor Market to meet horse show competitors and anyone interested in netwo
 rking, and everyone is invited to attend the Meet-Up and party free of char
 ge. 
X-ALT-DESC;FMTTYPE=text/html:Equestrian Businesswomen (EQBW) is excited to host an EQBW Meet-Up with the
  party and “Supporting Women In Business” Vendor Market on Friday, July 12,
  at 3 p.m., during the Saratoga Women In Business (WIB) Spectacular Horse S
 how at White Hollow Farm in Stillwater, NY.<br /><br />The Saratoga WIB Spe
 ctacular, held at White Hollow Farm in Stillwater, NY, is the first-ever ho
 rse show created by women, operated by women, benefitting women’s health, a
 nd showcasing businesswomen throughout the equestrian industry and beyond.<
 br /><br />Local and equestrian women-owned businesses are welcome to parti
 cipate in a Vendor Market to meet horse show competitors and anyone interes
 ted in networking, and everyone is invited to attend the Meet-Up and party 
 free of charge. 
DTSTAMP:20260424T204819
DTSTART;TZID=America/New_York:20240712T150000
SEQUENCE:0
TRANSP:OPAQUE
END:VEVENT
END:VCALENDAR