BEGIN:VCALENDAR
VERSION:2.0
PRODID:-//jEvents 2.0 for Joomla//EN
CALSCALE:GREGORIAN
METHOD:PUBLISH
BEGIN:VTIMEZONE
TZID:America/New_York
BEGIN:STANDARD
DTSTART:20231205T000000
RDATE:20240310T030000
TZOFFSETFROM:-0400
TZOFFSETTO:-0500
TZNAME:America/New_York EST
END:STANDARD
BEGIN:STANDARD
DTSTART:20241103T010000
RDATE:20250309T030000
TZOFFSETFROM:-0400
TZOFFSETTO:-0500
TZNAME:America/New_York EST
END:STANDARD
BEGIN:STANDARD
DTSTART:20251102T010000
RDATE:20260308T030000
TZOFFSETFROM:-0400
TZOFFSETTO:-0500
TZNAME:America/New_York EST
END:STANDARD
BEGIN:STANDARD
DTSTART:20261101T010000
RDATE:20270314T030000
TZOFFSETFROM:-0400
TZOFFSETTO:-0500
TZNAME:America/New_York EST
END:STANDARD
BEGIN:STANDARD
DTSTART:20271107T010000
RDATE:20280312T030000
TZOFFSETFROM:-0400
TZOFFSETTO:-0500
TZNAME:America/New_York EST
END:STANDARD
BEGIN:STANDARD
DTSTART:20281105T010000
RDATE:20290311T030000
TZOFFSETFROM:-0400
TZOFFSETTO:-0500
TZNAME:America/New_York EST
END:STANDARD
BEGIN:DAYLIGHT
DTSTART:20240310T030000
RDATE:20241103T010000
TZOFFSETFROM:-0500
TZOFFSETTO:-0400
TZNAME:America/New_York EDT
END:DAYLIGHT
BEGIN:DAYLIGHT
DTSTART:20250309T030000
RDATE:20251102T010000
TZOFFSETFROM:-0500
TZOFFSETTO:-0400
TZNAME:America/New_York EDT
END:DAYLIGHT
BEGIN:DAYLIGHT
DTSTART:20260308T030000
RDATE:20261101T010000
TZOFFSETFROM:-0500
TZOFFSETTO:-0400
TZNAME:America/New_York EDT
END:DAYLIGHT
BEGIN:DAYLIGHT
DTSTART:20270314T030000
RDATE:20271107T010000
TZOFFSETFROM:-0500
TZOFFSETTO:-0400
TZNAME:America/New_York EDT
END:DAYLIGHT
BEGIN:DAYLIGHT
DTSTART:20280312T030000
RDATE:20281105T010000
TZOFFSETFROM:-0500
TZOFFSETTO:-0400
TZNAME:America/New_York EDT
END:DAYLIGHT
END:VTIMEZONE
BEGIN:VEVENT
UID:1ab91618884112b5c89b973fdfddbd42
CATEGORIES:Rodeo
CREATED:20240709T134433
SUMMARY:Wrangler National Finals Rodeo
LOCATION:Thomas &amp; Mack Center at the Univ. of Nevada
DESCRIPTION:The 66th annual Wrangler National Finals Rodeo kicks off its 10-night run a
 t the Thomas &amp; Mack Center in Las Vegas on Thursday, December 5, 2024. 
 The competition will come to an exciting conclusion Saturday, December 14th
  when World Champions will be crowned. The Wrangler NFR, which is at the Th
 omas &amp; Mack Center in Las Vegas, will have a record-setting payout of m
 ore than $11.5 million. This amount includes guaranteed prize money of $1.2
  million for NFR qualifiers. Round winners take home $30,706 per round and 
 average winners earn $78,747. Each go-round will pay a total of $99,053, wh
 ile the average total will pay $297,159 per event. The stock contractor pay
  – which is 30% of the contestant payout – increased to $3,450,451.
X-ALT-DESC;FMTTYPE=text/html:The 66th annual Wrangler National Finals Rodeo kicks off its 10-night run a
 t the Thomas & Mack Center in Las Vegas on Thursday, December 5, 2024. The 
 competition will come to an exciting conclusion Saturday, December 14th whe
 n World Champions will be crowned. The Wrangler NFR, which is at the Thomas
  & Mack Center in Las Vegas, will have a record-setting payout of more than
  $11.5 million. This amount includes guaranteed prize money of $1.2 million
  for NFR qualifiers. Round winners take home $30,706 per round and average 
 winners earn $78,747. Each go-round will pay a total of $99,053, while the 
 average total will pay $297,159 per event. The stock contractor pay – which
  is 30% of the contestant payout – increased to $3,450,451.
DTSTAMP:20260424T203719
DTSTART;TZID=America/New_York;VALUE=DATE:20241205
DTEND;TZID=America/New_York;VALUE=DATE:20241215
SEQUENCE:0
TRANSP:OPAQUE
END:VEVENT
END:VCALENDAR