BEGIN:VCALENDAR
VERSION:2.0
PRODID:-//jEvents 2.0 for Joomla//EN
CALSCALE:GREGORIAN
METHOD:PUBLISH
BEGIN:VTIMEZONE
TZID:America/New_York
BEGIN:STANDARD
DTSTART:20231105T010000
RDATE:20240310T030000
TZOFFSETFROM:-0400
TZOFFSETTO:-0500
TZNAME:America/New_York EST
END:STANDARD
BEGIN:STANDARD
DTSTART:20241103T010000
RDATE:20250309T030000
TZOFFSETFROM:-0400
TZOFFSETTO:-0500
TZNAME:America/New_York EST
END:STANDARD
BEGIN:STANDARD
DTSTART:20251102T010000
RDATE:20260308T030000
TZOFFSETFROM:-0400
TZOFFSETTO:-0500
TZNAME:America/New_York EST
END:STANDARD
BEGIN:STANDARD
DTSTART:20261101T010000
RDATE:20270314T030000
TZOFFSETFROM:-0400
TZOFFSETTO:-0500
TZNAME:America/New_York EST
END:STANDARD
BEGIN:STANDARD
DTSTART:20271107T010000
RDATE:20280312T030000
TZOFFSETFROM:-0400
TZOFFSETTO:-0500
TZNAME:America/New_York EST
END:STANDARD
BEGIN:STANDARD
DTSTART:20281105T010000
RDATE:20290311T030000
TZOFFSETFROM:-0400
TZOFFSETTO:-0500
TZNAME:America/New_York EST
END:STANDARD
BEGIN:DAYLIGHT
DTSTART:20230810T090000
RDATE:20231105T010000
TZOFFSETFROM:-0500
TZOFFSETTO:-0400
TZNAME:America/New_York EDT
END:DAYLIGHT
BEGIN:DAYLIGHT
DTSTART:20240310T030000
RDATE:20241103T010000
TZOFFSETFROM:-0500
TZOFFSETTO:-0400
TZNAME:America/New_York EDT
END:DAYLIGHT
BEGIN:DAYLIGHT
DTSTART:20250309T030000
RDATE:20251102T010000
TZOFFSETFROM:-0500
TZOFFSETTO:-0400
TZNAME:America/New_York EDT
END:DAYLIGHT
BEGIN:DAYLIGHT
DTSTART:20260308T030000
RDATE:20261101T010000
TZOFFSETFROM:-0500
TZOFFSETTO:-0400
TZNAME:America/New_York EDT
END:DAYLIGHT
BEGIN:DAYLIGHT
DTSTART:20270314T030000
RDATE:20271107T010000
TZOFFSETFROM:-0500
TZOFFSETTO:-0400
TZNAME:America/New_York EDT
END:DAYLIGHT
BEGIN:DAYLIGHT
DTSTART:20280312T030000
RDATE:20281105T010000
TZOFFSETFROM:-0500
TZOFFSETTO:-0400
TZNAME:America/New_York EDT
END:DAYLIGHT
END:VTIMEZONE
BEGIN:VEVENT
UID:cd91e782a0c894589779bec2a170ff52
CATEGORIES:Recreation & Lifestyle
CREATED:20240729T135631
SUMMARY:Racing Partnership & Syndicate Meet & Greet - National Museum of Racing and Hall of Fame
LOCATION:National Museum of Racing and Hall of Fame
DESCRIPTION:Are you interested in owning a racehorse? Learn how to get involved in thor
 oughbred racehorse ownership from some of the top partnerships and syndicat
 es in the game!\n
Participating Partnerships &amp; Syndicates\n
Shooting St
 ar Thoroughbreds is a racing membership that offers affordable ownership op
 portunities for just a fraction of the cost. The stable has amassed over on
 e million dollars in earnings and campaigned multiple stakes winner CHANCE 
 IT. Experience the thrills and excitement of thoroughbred ownership at the 
 most celebrated racetracks!\n

West Point Thoroughbreds gives Partners acce
 ss to industry experts and racing’s premiere events that might otherwise be
  unavailable to them, and uses our unparalleled industry knowledge and cust
 omer service to provide an insider experience which is positive and memorab
 le every step of the way to the Winner’s Circle.
\n

Ironhorse Racing Stabl
 e has been campaigning thoroughbreds throughout the country and world since
  2007. Ironhorse focuses on efficiently managing their horses to not only a
 llow its partners to enjoy the thrill of horse racing but also the goal of 
 a self-sustaining business. \n
Adelphi Racing Club is a thoroughbred racing
  partnership focused on competing at the highest level of the sport while b
 ringing together a group of individuals who enjoy sharing the thoroughbred 
 racing experience TOGETHER!\n
\n

Zilla Racing Stable focuses on thoroughbr
 ed racing partnerships, ensuring that their clients have a complete ownersh
 ip experience. Whether you’re interested in owning a small percentage or a 
 larger stake, they offer opportunities for individuals to become real owner
 s in various  partnerships.\n
\n

Uptowncharlybrown Stud offer affordable o
 pportunities in 2-year-old racehorses and all the privileges of ownership i
 ncluding barn visits, observing training, and paddock and winner's circle e
 ntry. They provide second-to-none communication with partners, ensuring up-
 to-date information on the stable runners.\n
\n

Speak with representatives
  from participating partnerships on\n
Saturday, August 10th from 9 a.m. to 
 11 a.m.! \n
Free to attend as part of that day's Saturday Morning Social.\n
 
\n

\n
If you are interested in participating, reach out to Tricia Warrens
  at twarrens@racingmuseum.net or call (518) 584- 0400 ext. 112. \n
X-ALT-DESC;FMTTYPE=text/html:<p>Are you interested in owning a racehorse? Learn how to get involved in t
 horoughbred racehorse ownership from some of the top partnerships and syndi
 cates in the game!</p><p><strong>Participating Partnerships & Syndicates</s
 trong><br />Shooting Star Thoroughbreds is a racing membership that offers 
 affordable ownership opportunities for just a fraction of the cost. The sta
 ble has amassed over one million dollars in earnings and campaigned multipl
 e stakes winner CHANCE IT. Experience the thrills and excitement of thoroug
 hbred ownership at the most celebrated racetracks!</p><p>West Point Thoroug
 hbreds gives Partners access to industry experts and racing’s premiere even
 ts that might otherwise be unavailable to them, and uses our unparalleled i
 ndustry knowledge and customer service to provide an insider experience whi
 ch is positive and memorable every step of the way to the Winner’s Circle.<
 /p><p>Ironhorse Racing Stable has been campaigning thoroughbreds throughout
  the country and world since 2007. Ironhorse focuses on efficiently managin
 g their horses to not only allow its partners to enjoy the thrill of horse 
 racing but also the goal of a self-sustaining business. <br />Adelphi Racin
 g Club is a thoroughbred racing partnership focused on competing at the hig
 hest level of the sport while bringing together a group of individuals who 
 enjoy sharing the thoroughbred racing experience TOGETHER!<br /></p><p>Zill
 a Racing Stable focuses on thoroughbred racing partnerships, ensuring that 
 their clients have a complete ownership experience. Whether you’re interest
 ed in owning a small percentage or a larger stake, they offer opportunities
  for individuals to become real owners in various  partnerships.<br /></p><
 p>Uptowncharlybrown Stud offer affordable opportunities in 2-year-old raceh
 orses and all the privileges of ownership including barn visits, observing 
 training, and paddock and winner's circle entry. They provide second-to-non
 e communication with partners, ensuring up-to-date information on the stabl
 e runners.<br /></p><p>Speak with representatives from participating partne
 rships on<br />Saturday, August 10th from 9 a.m. to 11 a.m.! <br />Free to 
 attend as part of that day's Saturday Morning Social.<br /></p><p><br />If 
 you are interested in participating, reach out to Tricia Warrens at twarren
 s@racingmuseum.net or call (518) 584- 0400 ext. 112. </p>
DTSTAMP:20260424T204745
DTSTART;TZID=America/New_York:20240810T090000
DTEND;TZID=America/New_York:20240810T110000
SEQUENCE:0
TRANSP:OPAQUE
END:VEVENT
END:VCALENDAR