BEGIN:VCALENDAR
VERSION:2.0
PRODID:-//jEvents 2.0 for Joomla//EN
CALSCALE:GREGORIAN
METHOD:PUBLISH
BEGIN:VTIMEZONE
TZID:America/New_York
BEGIN:STANDARD
DTSTART:20231105T010000
RDATE:20240310T030000
TZOFFSETFROM:-0400
TZOFFSETTO:-0500
TZNAME:America/New_York EST
END:STANDARD
BEGIN:STANDARD
DTSTART:20241103T010000
RDATE:20250309T030000
TZOFFSETFROM:-0400
TZOFFSETTO:-0500
TZNAME:America/New_York EST
END:STANDARD
BEGIN:STANDARD
DTSTART:20251102T010000
RDATE:20260308T030000
TZOFFSETFROM:-0400
TZOFFSETTO:-0500
TZNAME:America/New_York EST
END:STANDARD
BEGIN:STANDARD
DTSTART:20261101T010000
RDATE:20270314T030000
TZOFFSETFROM:-0400
TZOFFSETTO:-0500
TZNAME:America/New_York EST
END:STANDARD
BEGIN:STANDARD
DTSTART:20271107T010000
RDATE:20280312T030000
TZOFFSETFROM:-0400
TZOFFSETTO:-0500
TZNAME:America/New_York EST
END:STANDARD
BEGIN:STANDARD
DTSTART:20281105T010000
RDATE:20290311T030000
TZOFFSETFROM:-0400
TZOFFSETTO:-0500
TZNAME:America/New_York EST
END:STANDARD
BEGIN:DAYLIGHT
DTSTART:20230912T000000
RDATE:20231105T010000
TZOFFSETFROM:-0500
TZOFFSETTO:-0400
TZNAME:America/New_York EDT
END:DAYLIGHT
BEGIN:DAYLIGHT
DTSTART:20240310T030000
RDATE:20241103T010000
TZOFFSETFROM:-0500
TZOFFSETTO:-0400
TZNAME:America/New_York EDT
END:DAYLIGHT
BEGIN:DAYLIGHT
DTSTART:20250309T030000
RDATE:20251102T010000
TZOFFSETFROM:-0500
TZOFFSETTO:-0400
TZNAME:America/New_York EDT
END:DAYLIGHT
BEGIN:DAYLIGHT
DTSTART:20260308T030000
RDATE:20261101T010000
TZOFFSETFROM:-0500
TZOFFSETTO:-0400
TZNAME:America/New_York EDT
END:DAYLIGHT
BEGIN:DAYLIGHT
DTSTART:20270314T030000
RDATE:20271107T010000
TZOFFSETFROM:-0500
TZOFFSETTO:-0400
TZNAME:America/New_York EDT
END:DAYLIGHT
BEGIN:DAYLIGHT
DTSTART:20280312T030000
RDATE:20281105T010000
TZOFFSETFROM:-0500
TZOFFSETTO:-0400
TZNAME:America/New_York EDT
END:DAYLIGHT
END:VTIMEZONE
BEGIN:VEVENT
UID:990191a5fee4269073c15391f339dfcf
CATEGORIES:English Riding
CREATED:20240819T135210
SUMMARY:Devon Fall Classic
LOCATION:Devon Fall Classic
DESCRIPTION:In 1896, the Devon Horse Show started as a one-day show. Now, more than 125
  years later, it has become the oldest and largest outdoor multi-breed comp
 etition in North America and it has achieved the highest rating afforded by
  the governing organization, US Equestrian Federation (USEF).\n
\n
In 2019,
  the Devon Horse Show was named “Horse Show of the Year” by the National Sh
 ow Hunter Hall of Fame (NSHHF).\n
\n
The United Professional Horseman’s Ass
 ociation (UPHA) Chapter 15, named the Devon Horse Show the Hackney/Saddlebr
 ed Horse Show of the Year in 2019.\n
\n
In 2014, the Devon Horse Show and C
 ountry Fair was named Outstanding Volunteer Fundraising Group by the Greate
 r Philadelphia Chapter of the Association of Fundraising Professionals (AFP
 ).\n
\n
Devon was selected to host one of two observation events used to se
 lect the United States Show Jumping team that competed at the 2012 London O
 lympics.
X-ALT-DESC;FMTTYPE=text/html:In 1896, the Devon Horse Show started as a one-day show. Now, more than 125
  years later, it has become the oldest and largest outdoor multi-breed comp
 etition in North America and it has achieved the highest rating afforded by
  the governing organization, US Equestrian Federation (USEF).<br /><br />In
  2019, the Devon Horse Show was named “Horse Show of the Year” by the Natio
 nal Show Hunter Hall of Fame (NSHHF).<br /><br />The United Professional Ho
 rseman’s Association (UPHA) Chapter 15, named the Devon Horse Show the Hack
 ney/Saddlebred Horse Show of the Year in 2019.<br /><br />In 2014, the Devo
 n Horse Show and Country Fair was named Outstanding Volunteer Fundraising G
 roup by the Greater Philadelphia Chapter of the Association of Fundraising 
 Professionals (AFP).<br /><br />Devon was selected to host one of two obser
 vation events used to select the United States Show Jumping team that compe
 ted at the 2012 London Olympics.
DTSTAMP:20260424T203717
DTSTART;TZID=America/New_York;VALUE=DATE:20240912
DTEND;TZID=America/New_York;VALUE=DATE:20240917
SEQUENCE:0
TRANSP:OPAQUE
END:VEVENT
END:VCALENDAR