BEGIN:VCALENDAR
VERSION:2.0
PRODID:-//jEvents 2.0 for Joomla//EN
CALSCALE:GREGORIAN
METHOD:PUBLISH
BEGIN:VTIMEZONE
TZID:America/New_York
BEGIN:STANDARD
DTSTART:20231105T010000
RDATE:20240310T030000
TZOFFSETFROM:-0400
TZOFFSETTO:-0500
TZNAME:America/New_York EST
END:STANDARD
BEGIN:STANDARD
DTSTART:20241103T010000
RDATE:20250309T030000
TZOFFSETFROM:-0400
TZOFFSETTO:-0500
TZNAME:America/New_York EST
END:STANDARD
BEGIN:STANDARD
DTSTART:20251102T010000
RDATE:20260308T030000
TZOFFSETFROM:-0400
TZOFFSETTO:-0500
TZNAME:America/New_York EST
END:STANDARD
BEGIN:STANDARD
DTSTART:20261101T010000
RDATE:20270314T030000
TZOFFSETFROM:-0400
TZOFFSETTO:-0500
TZNAME:America/New_York EST
END:STANDARD
BEGIN:STANDARD
DTSTART:20271107T010000
RDATE:20280312T030000
TZOFFSETFROM:-0400
TZOFFSETTO:-0500
TZNAME:America/New_York EST
END:STANDARD
BEGIN:STANDARD
DTSTART:20281105T010000
RDATE:20290311T030000
TZOFFSETFROM:-0400
TZOFFSETTO:-0500
TZNAME:America/New_York EST
END:STANDARD
BEGIN:DAYLIGHT
DTSTART:20231020T000000
RDATE:20231105T010000
TZOFFSETFROM:-0500
TZOFFSETTO:-0400
TZNAME:America/New_York EDT
END:DAYLIGHT
BEGIN:DAYLIGHT
DTSTART:20240310T030000
RDATE:20241103T010000
TZOFFSETFROM:-0500
TZOFFSETTO:-0400
TZNAME:America/New_York EDT
END:DAYLIGHT
BEGIN:DAYLIGHT
DTSTART:20250309T030000
RDATE:20251102T010000
TZOFFSETFROM:-0500
TZOFFSETTO:-0400
TZNAME:America/New_York EDT
END:DAYLIGHT
BEGIN:DAYLIGHT
DTSTART:20260308T030000
RDATE:20261101T010000
TZOFFSETFROM:-0500
TZOFFSETTO:-0400
TZNAME:America/New_York EDT
END:DAYLIGHT
BEGIN:DAYLIGHT
DTSTART:20270314T030000
RDATE:20271107T010000
TZOFFSETFROM:-0500
TZOFFSETTO:-0400
TZNAME:America/New_York EDT
END:DAYLIGHT
BEGIN:DAYLIGHT
DTSTART:20280312T030000
RDATE:20281105T010000
TZOFFSETFROM:-0500
TZOFFSETTO:-0400
TZNAME:America/New_York EDT
END:DAYLIGHT
END:VTIMEZONE
BEGIN:VEVENT
UID:60a1f0b3f35e30279efb745d525fcc09
CATEGORIES:Recreation & Lifestyle
CREATED:20240917T104745
SUMMARY:Brooke USA's Ponies & Pearls VIP during the Women’s East Coast Challenge
LOCATION:New Bridge Polo and Country Club
DESCRIPTION:Brooke USA's Ponies &amp; Pearls VIP during the Women’s East Coast Challeng
 e 14-18 Goal Polo Matches\n
Join us for the fourth annual Ponies &amp; Pear
 ls, hosted by the Brooke USA Aiken Regional Advisory Council, led by Brooke
  USA board member and event chair, Katie Roth.  We welcome you to this VIP 
 event, taking place on Sunday, October 20 at New Bridge Polo and Country Cl
 ub during the Women’s East Coast Challenge 14-18 Goal from 3:30 - 8:30 PM. 
   This gathering has become a beloved fixture in Aiken, blending the sophis
 tication of a polo match with the celebration of women and their extraordin
 ary accomplishments.  \n
\n
Event proceeds will be dedicated to supporting 
 the efforts of Brooke USA, a non-profit organization that funds impactful g
 lobal programs aimed at enhancing the well-being of working horses, donkeys
 , and mules, along with the communities they serve in some of the world's m
 ost vulnerable regions and right here in the United States. \n
\n
The after
 noon promises an exhilarating polo match viewed from our exclusive VIP area
 , accompanied by delectable culinary delights featuring local favorites and
  signature cocktails.  Guests will also enjoy the excitement of a silent au
 ction, and for added enjoyment, craft a stunning floral arrangement at the 
 bouquet bar or peruse the annual fashion show featuring local boutiques.  T
 his year you can enhance your style with a new look from the hat bar and sa
 vor your favorite mimosa from the Sister's Bubbly Buggy Mimosa Bar.  Join u
 s for an unforgettable experience in support of a worthy cause!    
X-ALT-DESC;FMTTYPE=text/html:Brooke USA's Ponies & Pearls VIP during the Women’s East Coast Challenge 14
 -18 Goal Polo Matches<br />Join us for the fourth annual Ponies & Pearls, h
 osted by the Brooke USA Aiken Regional Advisory Council, led by Brooke USA 
 board member and event chair, Katie Roth.  We welcome you to this VIP event
 , taking place on Sunday, October 20 at New Bridge Polo and Country Club du
 ring the Women’s East Coast Challenge 14-18 Goal from 3:30 - 8:30 PM.   Thi
 s gathering has become a beloved fixture in Aiken, blending the sophisticat
 ion of a polo match with the celebration of women and their extraordinary a
 ccomplishments.  <br /><br />Event proceeds will be dedicated to supporting
  the efforts of Brooke USA, a non-profit organization that funds impactful 
 global programs aimed at enhancing the well-being of working horses, donkey
 s, and mules, along with the communities they serve in some of the world's 
 most vulnerable regions and right here in the United States. <br /><br />Th
 e afternoon promises an exhilarating polo match viewed from our exclusive V
 IP area, accompanied by delectable culinary delights featuring local favori
 tes and signature cocktails.  Guests will also enjoy the excitement of a si
 lent auction, and for added enjoyment, craft a stunning floral arrangement 
 at the bouquet bar or peruse the annual fashion show featuring local boutiq
 ues.  This year you can enhance your style with a new look from the hat bar
  and savor your favorite mimosa from the Sister's Bubbly Buggy Mimosa Bar. 
  Join us for an unforgettable experience in support of a worthy cause!    
DTSTAMP:20260424T204853
DTSTART;TZID=America/New_York;VALUE=DATE:20241020
DTEND;TZID=America/New_York;VALUE=DATE:20241021
SEQUENCE:0
TRANSP:OPAQUE
END:VEVENT
END:VCALENDAR