BEGIN:VCALENDAR
VERSION:2.0
PRODID:-//jEvents 2.0 for Joomla//EN
CALSCALE:GREGORIAN
METHOD:PUBLISH
BEGIN:VTIMEZONE
TZID:America/New_York
BEGIN:STANDARD
DTSTART:20231107T000000
RDATE:20240310T030000
TZOFFSETFROM:-0400
TZOFFSETTO:-0500
TZNAME:America/New_York EST
END:STANDARD
BEGIN:STANDARD
DTSTART:20241103T010000
RDATE:20250309T030000
TZOFFSETFROM:-0400
TZOFFSETTO:-0500
TZNAME:America/New_York EST
END:STANDARD
BEGIN:STANDARD
DTSTART:20251102T010000
RDATE:20260308T030000
TZOFFSETFROM:-0400
TZOFFSETTO:-0500
TZNAME:America/New_York EST
END:STANDARD
BEGIN:STANDARD
DTSTART:20261101T010000
RDATE:20270314T030000
TZOFFSETFROM:-0400
TZOFFSETTO:-0500
TZNAME:America/New_York EST
END:STANDARD
BEGIN:STANDARD
DTSTART:20271107T010000
RDATE:20280312T030000
TZOFFSETFROM:-0400
TZOFFSETTO:-0500
TZNAME:America/New_York EST
END:STANDARD
BEGIN:STANDARD
DTSTART:20281105T010000
RDATE:20290311T030000
TZOFFSETFROM:-0400
TZOFFSETTO:-0500
TZNAME:America/New_York EST
END:STANDARD
BEGIN:DAYLIGHT
DTSTART:20240310T030000
RDATE:20241103T010000
TZOFFSETFROM:-0500
TZOFFSETTO:-0400
TZNAME:America/New_York EDT
END:DAYLIGHT
BEGIN:DAYLIGHT
DTSTART:20250309T030000
RDATE:20251102T010000
TZOFFSETFROM:-0500
TZOFFSETTO:-0400
TZNAME:America/New_York EDT
END:DAYLIGHT
BEGIN:DAYLIGHT
DTSTART:20260308T030000
RDATE:20261101T010000
TZOFFSETFROM:-0500
TZOFFSETTO:-0400
TZNAME:America/New_York EDT
END:DAYLIGHT
BEGIN:DAYLIGHT
DTSTART:20270314T030000
RDATE:20271107T010000
TZOFFSETFROM:-0500
TZOFFSETTO:-0400
TZNAME:America/New_York EDT
END:DAYLIGHT
BEGIN:DAYLIGHT
DTSTART:20280312T030000
RDATE:20281105T010000
TZOFFSETFROM:-0500
TZOFFSETTO:-0400
TZNAME:America/New_York EDT
END:DAYLIGHT
END:VTIMEZONE
BEGIN:VEVENT
UID:e02f20b1514bd963d102a71d33b0c6d8
CATEGORIES:Recreation & Lifestyle
CREATED:20241009T131559
SUMMARY:Equine Affaire, Eastern States Exposition, W. Springfield, MA
LOCATION:Eastern States Exposition
DESCRIPTION:Join Us for Equine Affaire in Massachusetts!\n
North America’s premier equi
 ne exposition and equestrian gathering . . . a unique celebration of the ho
 rse offering unparalleled education, entertainment, and shopping opportunit
 ies.\nEducational Program

					Augment your skills in the saddle and in th
 e stable by attending clinics, seminars, and demonstrations presented by th
 e nation's foremost coaches, experts, competitors, and industry professiona
 ls. With hundreds of sessions offered in six venues, you'll need to plan ah
 ead so you can make the most of your visit!\n
\n

					Learn More (https://
 equineaffaire.com/events/massachusetts/educational-program/mass-presenters/
 )
\n

Trade Show

					Shop the largest horse-related trade show in the Eas
 t where you can see, touch, try on, and compare to your heart's content! Wh
 ether you're shopping to outfit one horse and rider or a whole barn full, y
 ou'll find everything you could possibly need or want on our trade show flo
 ors!\n
\n

					Learn More (https://equineaffaire.com/events/massachusetts/
 mass-trade-show/mass-exhibitors/)


Fantasia

					Don't miss the "musical 
 celebration of the horse" --an action packed evening featuring outstanding 
 equine and equestrian performers from all corners of the nation choreograph
 ed to musical styles ranging from traditional and country to classical and 
 contemporary.\n
\n

					Learn More (https://equineaffaire.com/events/massa
 chusetts/mass-fantsia/mass-the-show/)\n

The Marketplace Consignment Store

 
					Turn your unwanted equine and equestrian items into cash and shop for
  bargains on the things you and your horse need at this full-service consig
 nment shop.\n
\n

					Learn More (https://equineaffaire.com/events/massach
 usetts/mass-participate/mass-sell/mass-marketplace/)\n

AND MORE!!!

X-ALT-DESC;FMTTYPE=text/html:<p>Join Us for Equine Affaire in Massachusetts!<br />North America’s premie
 r equine exposition and equestrian gathering . . . a unique celebration of 
 the horse offering unparalleled education, entertainment, and shopping oppo
 rtunities.</p><h5 class="gold text-uppercase">Educational Program</h5>					
 <p><p>Augment your skills in the saddle and in the stable by attending clin
 ics, seminars, and demonstrations presented by the nation's foremost coache
 s, experts, competitors, and industry professionals. With hundreds of sessi
 ons offered in six venues, you'll need to plan ahead so you can make the mo
 st of your visit!</p></p>					<a href="https://equineaffaire.com/events/mas
 sachusetts/educational-program/mass-presenters/" class="learn-more">Learn M
 ore</a></p><hr /><h5 class="gold text-uppercase">Trade Show</h5>					<p><p>
 Shop the largest horse-related trade show in the East where you can see, to
 uch, try on, and compare to your heart's content! Whether you're shopping t
 o outfit one horse and rider or a whole barn full, you'll find everything y
 ou could possibly need or want on our trade show floors!</p></p>					<a hre
 f="https://equineaffaire.com/events/massachusetts/mass-trade-show/mass-exhi
 bitors/" class="learn-more">Learn More</a><hr /><h5 class="gold text-upperc
 ase">Fantasia</h5>					<p><p>Don't miss the "musical celebration of the hor
 se" --an action packed evening featuring outstanding equine and equestrian 
 performers from all corners of the nation choreographed to musical styles r
 anging from traditional and country to classical and contemporary.</p></p>	
 				<a href="https://equineaffaire.com/events/massachusetts/mass-fantsia/ma
 ss-the-show/" class="learn-more">Learn More</a></p><hr /><h5 class="gold te
 xt-uppercase">The Marketplace Consignment Store</h5>					<p><p>Turn your un
 wanted equine and equestrian items into cash and shop for bargains on the t
 hings you and your horse need at this full-service consignment shop.</p></p
 >					<a href="https://equineaffaire.com/events/massachusetts/mass-particip
 ate/mass-sell/mass-marketplace/" class="learn-more">Learn More</a></p><hr /
 >AND MORE!!!
DTSTAMP:20260424T221735
DTSTART;TZID=America/New_York;VALUE=DATE:20241107
DTEND;TZID=America/New_York;VALUE=DATE:20241111
SEQUENCE:0
TRANSP:OPAQUE
END:VEVENT
END:VCALENDAR