BEGIN:VCALENDAR
VERSION:2.0
PRODID:-//jEvents 2.0 for Joomla//EN
CALSCALE:GREGORIAN
METHOD:PUBLISH
BEGIN:VTIMEZONE
TZID:America/New_York
BEGIN:STANDARD
DTSTART:20240108T000000
RDATE:20240310T030000
TZOFFSETFROM:-0400
TZOFFSETTO:-0500
TZNAME:America/New_York EST
END:STANDARD
BEGIN:STANDARD
DTSTART:20241103T010000
RDATE:20250309T030000
TZOFFSETFROM:-0400
TZOFFSETTO:-0500
TZNAME:America/New_York EST
END:STANDARD
BEGIN:STANDARD
DTSTART:20251102T010000
RDATE:20260308T030000
TZOFFSETFROM:-0400
TZOFFSETTO:-0500
TZNAME:America/New_York EST
END:STANDARD
BEGIN:STANDARD
DTSTART:20261101T010000
RDATE:20270314T030000
TZOFFSETFROM:-0400
TZOFFSETTO:-0500
TZNAME:America/New_York EST
END:STANDARD
BEGIN:STANDARD
DTSTART:20271107T010000
RDATE:20280312T030000
TZOFFSETFROM:-0400
TZOFFSETTO:-0500
TZNAME:America/New_York EST
END:STANDARD
BEGIN:STANDARD
DTSTART:20281105T010000
RDATE:20290311T030000
TZOFFSETFROM:-0400
TZOFFSETTO:-0500
TZNAME:America/New_York EST
END:STANDARD
BEGIN:DAYLIGHT
DTSTART:20240310T030000
RDATE:20241103T010000
TZOFFSETFROM:-0500
TZOFFSETTO:-0400
TZNAME:America/New_York EDT
END:DAYLIGHT
BEGIN:DAYLIGHT
DTSTART:20250309T030000
RDATE:20251102T010000
TZOFFSETFROM:-0500
TZOFFSETTO:-0400
TZNAME:America/New_York EDT
END:DAYLIGHT
BEGIN:DAYLIGHT
DTSTART:20260308T030000
RDATE:20261101T010000
TZOFFSETFROM:-0500
TZOFFSETTO:-0400
TZNAME:America/New_York EDT
END:DAYLIGHT
BEGIN:DAYLIGHT
DTSTART:20270314T030000
RDATE:20271107T010000
TZOFFSETFROM:-0500
TZOFFSETTO:-0400
TZNAME:America/New_York EDT
END:DAYLIGHT
BEGIN:DAYLIGHT
DTSTART:20280312T030000
RDATE:20281105T010000
TZOFFSETFROM:-0500
TZOFFSETTO:-0400
TZNAME:America/New_York EDT
END:DAYLIGHT
END:VTIMEZONE
BEGIN:VEVENT
UID:29527ddf48c9cea351bf379805ef7604
CATEGORIES:Racing Sales
CREATED:20241104T131753
SUMMARY:35th Annual Stallion Season ONLINE Auction - Thoroughbred Charities of America
LOCATION:Harper Hall
DESCRIPTION:Thoroughbred Charities of America - 35th Annual Stallion Season Auction\n
p
 resented by MT Brilliant Family Foundation\n
Online Auction
Wednesday, Janu
 ary 8 – Friday, January 10
 \n
Live Auction
Sunday, January 12\n
Harper Hal
 l | Lexington, Kentucky
\n
TCA provides grants to approved nonprofit organi
 zations that work to support Thoroughbreds and the people who care for them
 .\n
X-ALT-DESC;FMTTYPE=text/html:<p>Thoroughbred Charities of America - 35th Annual Stallion Season Auction<
 br />presented by MT Brilliant Family Foundation</p><h3>Online Auction</h3>
 <p>Wednesday, January 8 – Friday, January 10 </p><h3>Live Auction</h3><p>Su
 nday, January 12<br />Harper Hall | Lexington, Kentucky</p><p>TCA provides 
 grants to approved nonprofit organizations that work to support Thoroughbre
 ds and the people who care for them.</p>
DTSTAMP:20260424T213003
DTSTART;TZID=America/New_York;VALUE=DATE:20250108
DTEND;TZID=America/New_York;VALUE=DATE:20250111
SEQUENCE:0
TRANSP:OPAQUE
END:VEVENT
END:VCALENDAR