BEGIN:VCALENDAR
VERSION:2.0
PRODID:-//jEvents 2.0 for Joomla//EN
CALSCALE:GREGORIAN
METHOD:PUBLISH
BEGIN:VTIMEZONE
TZID:America/New_York
BEGIN:STANDARD
DTSTART:20241103T010000
RDATE:20250309T030000
TZOFFSETFROM:-0400
TZOFFSETTO:-0500
TZNAME:America/New_York EST
END:STANDARD
BEGIN:STANDARD
DTSTART:20251102T010000
RDATE:20260308T030000
TZOFFSETFROM:-0400
TZOFFSETTO:-0500
TZNAME:America/New_York EST
END:STANDARD
BEGIN:STANDARD
DTSTART:20261101T010000
RDATE:20270314T030000
TZOFFSETFROM:-0400
TZOFFSETTO:-0500
TZNAME:America/New_York EST
END:STANDARD
BEGIN:STANDARD
DTSTART:20271107T010000
RDATE:20280312T030000
TZOFFSETFROM:-0400
TZOFFSETTO:-0500
TZNAME:America/New_York EST
END:STANDARD
BEGIN:STANDARD
DTSTART:20281105T010000
RDATE:20290311T030000
TZOFFSETFROM:-0400
TZOFFSETTO:-0500
TZNAME:America/New_York EST
END:STANDARD
BEGIN:DAYLIGHT
DTSTART:20240410T000000
RDATE:20241103T010000
TZOFFSETFROM:-0500
TZOFFSETTO:-0400
TZNAME:America/New_York EDT
END:DAYLIGHT
BEGIN:DAYLIGHT
DTSTART:20250309T030000
RDATE:20251102T010000
TZOFFSETFROM:-0500
TZOFFSETTO:-0400
TZNAME:America/New_York EDT
END:DAYLIGHT
BEGIN:DAYLIGHT
DTSTART:20260308T030000
RDATE:20261101T010000
TZOFFSETFROM:-0500
TZOFFSETTO:-0400
TZNAME:America/New_York EDT
END:DAYLIGHT
BEGIN:DAYLIGHT
DTSTART:20270314T030000
RDATE:20271107T010000
TZOFFSETFROM:-0500
TZOFFSETTO:-0400
TZNAME:America/New_York EDT
END:DAYLIGHT
BEGIN:DAYLIGHT
DTSTART:20280312T030000
RDATE:20281105T010000
TZOFFSETFROM:-0500
TZOFFSETTO:-0400
TZNAME:America/New_York EDT
END:DAYLIGHT
END:VTIMEZONE
BEGIN:VEVENT
UID:67f96d222a61bdfc1c21e5c93d6883b4
CATEGORIES:Health & Education
CREATED:20241104T133723
SUMMARY:Monty Roberts, Horse Sense and Healing, Flag is Up Farms, Solvang, CA - April 2025
LOCATION:Flag Is Up Farms
DESCRIPTION:Life-transforming workshops for Veterans and first responders.\n
Horse Sens
 e &amp; Healing, launched in 2010, is a 3-day equine-assisted workshop for 
 Veterans and first responders struggling with posttraumatic stress (PTSD). 
 The equine-assisted program helps Veterans and first responders (and their 
 families) overcome past emotional injuries and learn to trust, communicate 
 emotions and build resiliency to cope after deployment, through the experie
 nce of Monty Roberts’ globally acclaimed Join-Up® process and other ground-
 based horsemanship activities.\n
\n
Join-Up is an effective tool to help pa
 rticipants rediscover themselves through the eyes of the horse to deal more
  effectively with post-traumatic stress, emotional trauma, anti-social beha
 vior and withdrawal, anger, self-worth, combat stress, hypervigilance, depr
 ession and other symptoms.\n
\n
Monty Roberts’ methods demonstrate the deep
 ly healing power of establishing a trusting relationship with horses withou
 t the use of dominance, coercion or force. After three transformational day
 s, participants can better understand how to trust others, deal with negati
 ve emotions, confront painful memories, cope with real-life situations, and
  move on with their lives and relationships.
X-ALT-DESC;FMTTYPE=text/html:Life-transforming workshops for Veterans and first responders.<br />Horse S
 ense & Healing, launched in 2010, is a 3-day equine-assisted workshop for V
 eterans and first responders struggling with posttraumatic stress (PTSD). T
 he equine-assisted program helps Veterans and first responders (and their f
 amilies) overcome past emotional injuries and learn to trust, communicate e
 motions and build resiliency to cope after deployment, through the experien
 ce of Monty Roberts’ globally acclaimed Join-Up® process and other ground-b
 ased horsemanship activities.<br /><br />Join-Up is an effective tool to he
 lp participants rediscover themselves through the eyes of the horse to deal
  more effectively with post-traumatic stress, emotional trauma, anti-social
  behavior and withdrawal, anger, self-worth, combat stress, hypervigilance,
  depression and other symptoms.<br /><br />Monty Roberts’ methods demonstra
 te the deeply healing power of establishing a trusting relationship with ho
 rses without the use of dominance, coercion or force. After three transform
 ational days, participants can better understand how to trust others, deal 
 with negative emotions, confront painful memories, cope with real-life situ
 ations, and move on with their lives and relationships.
DTSTAMP:20260425T004244
DTSTART;TZID=America/New_York;VALUE=DATE:20250411
DTEND;TZID=America/New_York;VALUE=DATE:20250414
SEQUENCE:0
TRANSP:OPAQUE
END:VEVENT
END:VCALENDAR