BEGIN:VCALENDAR
VERSION:2.0
PRODID:-//jEvents 2.0 for Joomla//EN
CALSCALE:GREGORIAN
METHOD:PUBLISH
BEGIN:VTIMEZONE
TZID:America/New_York
BEGIN:STANDARD
DTSTART:20241103T010000
RDATE:20250309T030000
TZOFFSETFROM:-0400
TZOFFSETTO:-0500
TZNAME:America/New_York EST
END:STANDARD
BEGIN:STANDARD
DTSTART:20251102T010000
RDATE:20260308T030000
TZOFFSETFROM:-0400
TZOFFSETTO:-0500
TZNAME:America/New_York EST
END:STANDARD
BEGIN:STANDARD
DTSTART:20261101T010000
RDATE:20270314T030000
TZOFFSETFROM:-0400
TZOFFSETTO:-0500
TZNAME:America/New_York EST
END:STANDARD
BEGIN:STANDARD
DTSTART:20271107T010000
RDATE:20280312T030000
TZOFFSETFROM:-0400
TZOFFSETTO:-0500
TZNAME:America/New_York EST
END:STANDARD
BEGIN:STANDARD
DTSTART:20281105T010000
RDATE:20290311T030000
TZOFFSETFROM:-0400
TZOFFSETTO:-0500
TZNAME:America/New_York EST
END:STANDARD
BEGIN:DAYLIGHT
DTSTART:20240419T000000
RDATE:20241103T010000
TZOFFSETFROM:-0500
TZOFFSETTO:-0400
TZNAME:America/New_York EDT
END:DAYLIGHT
BEGIN:DAYLIGHT
DTSTART:20250309T030000
RDATE:20251102T010000
TZOFFSETFROM:-0500
TZOFFSETTO:-0400
TZNAME:America/New_York EDT
END:DAYLIGHT
BEGIN:DAYLIGHT
DTSTART:20260308T030000
RDATE:20261101T010000
TZOFFSETFROM:-0500
TZOFFSETTO:-0400
TZNAME:America/New_York EDT
END:DAYLIGHT
BEGIN:DAYLIGHT
DTSTART:20270314T030000
RDATE:20271107T010000
TZOFFSETFROM:-0500
TZOFFSETTO:-0400
TZNAME:America/New_York EDT
END:DAYLIGHT
BEGIN:DAYLIGHT
DTSTART:20280312T030000
RDATE:20281105T010000
TZOFFSETFROM:-0500
TZOFFSETTO:-0400
TZNAME:America/New_York EDT
END:DAYLIGHT
END:VTIMEZONE
BEGIN:VEVENT
UID:f4819c5246136e52d9d71431cd7aa54c
CATEGORIES:Health & Education
CREATED:20241104T133942
SUMMARY:Monty Roberts - Mountain Trail Play Day - April 2025
LOCATION:Flag Is Up Farms
DESCRIPTION:Mountain Trail Course\n
Our two-acre Mark Bolender Mountain Trail Course in
 cludes over 22 obstacles, including bridges, a teeter totter, a trench, wat
 er obstacles, a gate, logs, fan, balance beams, crossbucks, Texas two-step 
 and more.\n
\n
The course, available for California Horse Center boarders, 
 will be used for clinics and IMTCA challenges and is open once a month for 
 guest riders.
X-ALT-DESC;FMTTYPE=text/html:Mountain Trail Course<br />Our two-acre Mark Bolender Mountain Trail Course
  includes over 22 obstacles, including bridges, a teeter totter, a trench, 
 water obstacles, a gate, logs, fan, balance beams, crossbucks, Texas two-st
 ep and more.<br /><br />The course, available for California Horse Center b
 oarders, will be used for clinics and IMTCA challenges and is open once a m
 onth for guest riders.
DTSTAMP:20260424T212854
DTSTART;TZID=America/New_York;VALUE=DATE:20250420
DTEND;TZID=America/New_York;VALUE=DATE:20250421
SEQUENCE:0
TRANSP:OPAQUE
END:VEVENT
END:VCALENDAR