BEGIN:VCALENDAR
VERSION:2.0
PRODID:-//jEvents 2.0 for Joomla//EN
CALSCALE:GREGORIAN
METHOD:PUBLISH
BEGIN:VTIMEZONE
TZID:America/New_York
BEGIN:STANDARD
DTSTART:20241103T010000
RDATE:20250309T030000
TZOFFSETFROM:-0400
TZOFFSETTO:-0500
TZNAME:America/New_York EST
END:STANDARD
BEGIN:STANDARD
DTSTART:20251102T010000
RDATE:20260308T030000
TZOFFSETFROM:-0400
TZOFFSETTO:-0500
TZNAME:America/New_York EST
END:STANDARD
BEGIN:STANDARD
DTSTART:20261101T010000
RDATE:20270314T030000
TZOFFSETFROM:-0400
TZOFFSETTO:-0500
TZNAME:America/New_York EST
END:STANDARD
BEGIN:STANDARD
DTSTART:20271107T010000
RDATE:20280312T030000
TZOFFSETFROM:-0400
TZOFFSETTO:-0500
TZNAME:America/New_York EST
END:STANDARD
BEGIN:STANDARD
DTSTART:20281105T010000
RDATE:20290311T030000
TZOFFSETFROM:-0400
TZOFFSETTO:-0500
TZNAME:America/New_York EST
END:STANDARD
BEGIN:DAYLIGHT
DTSTART:20240518T000000
RDATE:20241103T010000
TZOFFSETFROM:-0500
TZOFFSETTO:-0400
TZNAME:America/New_York EDT
END:DAYLIGHT
BEGIN:DAYLIGHT
DTSTART:20250309T030000
RDATE:20251102T010000
TZOFFSETFROM:-0500
TZOFFSETTO:-0400
TZNAME:America/New_York EDT
END:DAYLIGHT
BEGIN:DAYLIGHT
DTSTART:20260308T030000
RDATE:20261101T010000
TZOFFSETFROM:-0500
TZOFFSETTO:-0400
TZNAME:America/New_York EDT
END:DAYLIGHT
BEGIN:DAYLIGHT
DTSTART:20270314T030000
RDATE:20271107T010000
TZOFFSETFROM:-0500
TZOFFSETTO:-0400
TZNAME:America/New_York EDT
END:DAYLIGHT
BEGIN:DAYLIGHT
DTSTART:20280312T030000
RDATE:20281105T010000
TZOFFSETFROM:-0500
TZOFFSETTO:-0400
TZNAME:America/New_York EDT
END:DAYLIGHT
END:VTIMEZONE
BEGIN:VEVENT
UID:268dee429d7909aa3604105f457cf129
CATEGORIES:Health & Education
CREATED:20241104T134324
SUMMARY:Monty Roberts Gentling Wild Horses
LOCATION:Flag Is Up Farms
DESCRIPTION:Gentling Wild Horses\n
Gentling Wild Horses provides participants the oppor
 tunity to use Monty’s non-violent methods with previously unhandled horses.
  Open to students of all levels of equine experience, participants will obs
 erve and have hands-on lessons according to their levels of skill and prior
  experience.\n
\n
Participants work in Monty Roberts’ patented, unique faci
 lity (the IFA Untouched Gentling Pen) which is designed for the humane trea
 tment of wild horses, and the safety of horse and handler.\n
\n
Participant
 s have an opportunity to experience a horse’s first touch by human hand and
  will assist the horses going through the gentling process – haltered, led,
  groomed, desensitized, and have their feet picked up. It is a fantastic wa
 y for those interested in equine psychology to learn more about the nature 
 of the horse (and people too).\n
\n
Additionally, the course offers trainer
 s, horse owners and volunteers in the equine industry (particularly those d
 ealing with difficult horses) the opportunity to learn a new approach in de
 aling with young, challenging and unstarted horses.\n
\n
Monty Roberts Gent
 ling Wild Horses RosetteA rosette token of accomplishment* will be provided
  upon completing the course.\n
\n
*Please note, the rosettes token does not
  make a statement about the holder’s status as a horse trainer and does not
  contribute towards certification which is only available through the Certi
 fication program.  
X-ALT-DESC;FMTTYPE=text/html:Gentling Wild Horses<br />Gentling Wild Horses provides participants the op
 portunity to use Monty’s non-violent methods with previously unhandled hors
 es. Open to students of all levels of equine experience, participants will 
 observe and have hands-on lessons according to their levels of skill and pr
 ior experience.<br /><br />Participants work in Monty Roberts’ patented, un
 ique facility (the IFA Untouched Gentling Pen) which is designed for the hu
 mane treatment of wild horses, and the safety of horse and handler.<br /><b
 r />Participants have an opportunity to experience a horse’s first touch by
  human hand and will assist the horses going through the gentling process –
  haltered, led, groomed, desensitized, and have their feet picked up. It is
  a fantastic way for those interested in equine psychology to learn more ab
 out the nature of the horse (and people too).<br /><br />Additionally, the 
 course offers trainers, horse owners and volunteers in the equine industry 
 (particularly those dealing with difficult horses) the opportunity to learn
  a new approach in dealing with young, challenging and unstarted horses.<br
  /><br />Monty Roberts Gentling Wild Horses RosetteA rosette token of accom
 plishment* will be provided upon completing the course.<br /><br />*Please 
 note, the rosettes token does not make a statement about the holder’s statu
 s as a horse trainer and does not contribute towards certification which is
  only available through the Certification program.  
DTSTAMP:20260424T212943
DTSTART;TZID=America/New_York;VALUE=DATE:20250519
DTEND;TZID=America/New_York;VALUE=DATE:20250524
SEQUENCE:0
TRANSP:OPAQUE
END:VEVENT
END:VCALENDAR