BEGIN:VCALENDAR
VERSION:2.0
PRODID:-//jEvents 2.0 for Joomla//EN
CALSCALE:GREGORIAN
METHOD:PUBLISH
BEGIN:VTIMEZONE
TZID:America/New_York
BEGIN:STANDARD
DTSTART:20241212T000000
RDATE:20250309T030000
TZOFFSETFROM:-0400
TZOFFSETTO:-0500
TZNAME:America/New_York EST
END:STANDARD
BEGIN:STANDARD
DTSTART:20251102T010000
RDATE:20260308T030000
TZOFFSETFROM:-0400
TZOFFSETTO:-0500
TZNAME:America/New_York EST
END:STANDARD
BEGIN:STANDARD
DTSTART:20261101T010000
RDATE:20270314T030000
TZOFFSETFROM:-0400
TZOFFSETTO:-0500
TZNAME:America/New_York EST
END:STANDARD
BEGIN:STANDARD
DTSTART:20271107T010000
RDATE:20280312T030000
TZOFFSETFROM:-0400
TZOFFSETTO:-0500
TZNAME:America/New_York EST
END:STANDARD
BEGIN:STANDARD
DTSTART:20281105T010000
RDATE:20290311T030000
TZOFFSETFROM:-0400
TZOFFSETTO:-0500
TZNAME:America/New_York EST
END:STANDARD
BEGIN:DAYLIGHT
DTSTART:20250309T030000
RDATE:20251102T010000
TZOFFSETFROM:-0500
TZOFFSETTO:-0400
TZNAME:America/New_York EDT
END:DAYLIGHT
BEGIN:DAYLIGHT
DTSTART:20260308T030000
RDATE:20261101T010000
TZOFFSETFROM:-0500
TZOFFSETTO:-0400
TZNAME:America/New_York EDT
END:DAYLIGHT
BEGIN:DAYLIGHT
DTSTART:20270314T030000
RDATE:20271107T010000
TZOFFSETFROM:-0500
TZOFFSETTO:-0400
TZNAME:America/New_York EDT
END:DAYLIGHT
BEGIN:DAYLIGHT
DTSTART:20280312T030000
RDATE:20281105T010000
TZOFFSETFROM:-0500
TZOFFSETTO:-0400
TZNAME:America/New_York EDT
END:DAYLIGHT
END:VTIMEZONE
BEGIN:VEVENT
UID:5b2c2e450e181972d9c599f82513e14e
CATEGORIES:Health & Education
CREATED:20241104T134857
SUMMARY:Monty Roberts Horsemanship 101
LOCATION:Flag Is Up Farms
DESCRIPTION:Our Horsemanship 101 is perfect for those new to horses, returning after a 
 long break or trying to overcome fear, or those who would like a brief intr
 oduction to Monty Roberts’ methods.\n
\n
Now offered as a one-day course, H
 orsemanship 101 is also recommended for visitors and residents who would li
 ke to experience a day at Flag Is Up Farms.\n
\n
Classroom discussion will 
 provide an introduction to how horses think and behave, while practical ses
 sions will teach you how to approach, halter, lead, groom and move safely a
 round a horse. You will learn the basic concept behind Monty Roberts’ Duall
 y® halter and after watching Join-Up® demonstrations, will experience a gui
 ded round pen session to feel the power of inter-species communication.\n
\
 n
Topics include:\n
\n
Non-violent approach to working with a horse\n
\n
An
  introduction to Equus – the horses’ natural communication system\n
\n
Buil
 ding a trust-based partnership\n
\n
Approaching, touching and handling a ho
 rse\n
\n
How horses learn, think and see\n
\n
Join-Up in the round pen\n
\n
 
Grooming a horse\n
\n
How to fit and use the Dually Training Halter\n
\n
S
 patial awareness, breathing and intention\n
\n
Monty Roberts Horsemanship 1
 01 RosetteA rosette token of accomplishment* will be provided upon completi
 ng the course.\n
\n
*Please note, the rosettes token does not make a statem
 ent about the holder’s status as a horse trainer and does not contribute to
 wards certification which is only available through the Certification progr
 am.  
X-ALT-DESC;FMTTYPE=text/html:Our Horsemanship 101 is perfect for those new to horses, returning after a 
 long break or trying to overcome fear, or those who would like a brief intr
 oduction to Monty Roberts’ methods.<br /><br />Now offered as a one-day cou
 rse, Horsemanship 101 is also recommended for visitors and residents who wo
 uld like to experience a day at Flag Is Up Farms.<br /><br />Classroom disc
 ussion will provide an introduction to how horses think and behave, while p
 ractical sessions will teach you how to approach, halter, lead, groom and m
 ove safely around a horse. You will learn the basic concept behind Monty Ro
 berts’ Dually® halter and after watching Join-Up® demonstrations, will expe
 rience a guided round pen session to feel the power of inter-species commun
 ication.<br /><br />Topics include:<br /><br />Non-violent approach to work
 ing with a horse<br /><br />An introduction to Equus – the horses’ natural 
 communication system<br /><br />Building a trust-based partnership<br /><br
  />Approaching, touching and handling a horse<br /><br />How horses learn, 
 think and see<br /><br />Join-Up in the round pen<br /><br />Grooming a hor
 se<br /><br />How to fit and use the Dually Training Halter<br /><br />Spat
 ial awareness, breathing and intention<br /><br />Monty Roberts Horsemanshi
 p 101 RosetteA rosette token of accomplishment* will be provided upon compl
 eting the course.<br /><br />*Please note, the rosettes token does not make
  a statement about the holder’s status as a horse trainer and does not cont
 ribute towards certification which is only available through the Certificat
 ion program.  
DTSTAMP:20260424T233126
DTSTART;TZID=America/New_York;VALUE=DATE:20251213
DTEND;TZID=America/New_York;VALUE=DATE:20251214
SEQUENCE:0
TRANSP:OPAQUE
END:VEVENT
END:VCALENDAR