BEGIN:VCALENDAR
VERSION:2.0
PRODID:-//jEvents 2.0 for Joomla//EN
CALSCALE:GREGORIAN
METHOD:PUBLISH
BEGIN:VTIMEZONE
TZID:America/New_York
BEGIN:STANDARD
DTSTART:20231204T000000
RDATE:20240310T030000
TZOFFSETFROM:-0400
TZOFFSETTO:-0500
TZNAME:America/New_York EST
END:STANDARD
BEGIN:STANDARD
DTSTART:20241103T010000
RDATE:20250309T030000
TZOFFSETFROM:-0400
TZOFFSETTO:-0500
TZNAME:America/New_York EST
END:STANDARD
BEGIN:STANDARD
DTSTART:20251102T010000
RDATE:20260308T030000
TZOFFSETFROM:-0400
TZOFFSETTO:-0500
TZNAME:America/New_York EST
END:STANDARD
BEGIN:STANDARD
DTSTART:20261101T010000
RDATE:20270314T030000
TZOFFSETFROM:-0400
TZOFFSETTO:-0500
TZNAME:America/New_York EST
END:STANDARD
BEGIN:STANDARD
DTSTART:20271107T010000
RDATE:20280312T030000
TZOFFSETFROM:-0400
TZOFFSETTO:-0500
TZNAME:America/New_York EST
END:STANDARD
BEGIN:STANDARD
DTSTART:20281105T010000
RDATE:20290311T030000
TZOFFSETFROM:-0400
TZOFFSETTO:-0500
TZNAME:America/New_York EST
END:STANDARD
BEGIN:DAYLIGHT
DTSTART:20240310T030000
RDATE:20241103T010000
TZOFFSETFROM:-0500
TZOFFSETTO:-0400
TZNAME:America/New_York EDT
END:DAYLIGHT
BEGIN:DAYLIGHT
DTSTART:20250309T030000
RDATE:20251102T010000
TZOFFSETFROM:-0500
TZOFFSETTO:-0400
TZNAME:America/New_York EDT
END:DAYLIGHT
BEGIN:DAYLIGHT
DTSTART:20260308T030000
RDATE:20261101T010000
TZOFFSETFROM:-0500
TZOFFSETTO:-0400
TZNAME:America/New_York EDT
END:DAYLIGHT
BEGIN:DAYLIGHT
DTSTART:20270314T030000
RDATE:20271107T010000
TZOFFSETFROM:-0500
TZOFFSETTO:-0400
TZNAME:America/New_York EDT
END:DAYLIGHT
BEGIN:DAYLIGHT
DTSTART:20280312T030000
RDATE:20281105T010000
TZOFFSETFROM:-0500
TZOFFSETTO:-0400
TZNAME:America/New_York EDT
END:DAYLIGHT
END:VTIMEZONE
BEGIN:VEVENT
UID:6f3cdd6a46540ccc290c7cdabf5ac05c
CATEGORIES:Racing Sales
CREATED:20241111T123935
SUMMARY:Premier Horse Sales - Diamonds in the Desert, Las Vegas
LOCATION:Resorts World Rodeo World
DESCRIPTION:Diamonds in the Desert Premier Horse Sale, Resorts World Las Vegas, Nevada\
 n
December 5 &amp; 6, 2024 (Sale Friday) NOTE: All times are scheduled in P
 acific Time Zone.\n
Wednesday, December 4th
2:00 PM - 4:00 PM\n
Sale Horse 
 Check-In, Horse Sale Office\n

 Thursday, December 5th
 8:00 AM - 10:00 AM\
 n
Sifting Process All Sale Horses\n
Reverse Lot # Order\n
11:00 AM - 2:00 P
 M\n
Live Preview, All Sale Horses, Lot # Order\n
2:00 PM - 5:00 PM\n
Try Be
 fore You Buy\n
2:00 PM - 3:00 PM\n
Lots 1-15\n
3:00 PM - 4:00 PM\n
Lots 16-
 30\n
4:00 PM - 5:00 PM\n
Lots 30-45\n
5:45 PM\n
NFR Watch Party, Dawg House
  Saloon, Resorts World\n

Friday, December 6th
11:00 AM\n
Diamonds in the D
 esert, Premier Horse Sale\n

X-ALT-DESC;FMTTYPE=text/html:<p>Diamonds in the Desert Premier Horse Sale, Resorts World Las Vegas, Neva
 da<br />December 5 & 6, 2024 (Sale Friday) NOTE: All times are scheduled in
  Pacific Time Zone.</p><h3>Wednesday, December 4th</h4><p>2:00 PM - 4:00 PM
 <br />Sale Horse Check-In, Horse Sale Office</p><hr /><h3> Thursday, Decemb
 er 5th</h3><P /> 8:00 AM - 10:00 AM<br />Sifting Process All Sale Horses<br
  />Reverse Lot # Order</p><p>11:00 AM - 2:00 PM<br />Live Preview, All Sale
  Horses, Lot # Order</p><p>2:00 PM - 5:00 PM<br />Try Before You Buy</p><p>
 2:00 PM - 3:00 PM<br />Lots 1-15</p><p>3:00 PM - 4:00 PM<br />Lots 16-30</p
 ><p>4:00 PM - 5:00 PM<br />Lots 30-45</p><p>5:45 PM<br />NFR Watch Party, D
 awg House Saloon, Resorts World</p><hr /><h3>Friday, December 6th</h3><p>11
 :00 AM<br />Diamonds in the Desert, Premier Horse Sale</p>
DTSTAMP:20260424T210037
DTSTART;TZID=America/New_York;VALUE=DATE:20241204
DTEND;TZID=America/New_York;VALUE=DATE:20241207
SEQUENCE:0
TRANSP:OPAQUE
END:VEVENT
END:VCALENDAR