BEGIN:VCALENDAR
VERSION:2.0
PRODID:-//jEvents 2.0 for Joomla//EN
CALSCALE:GREGORIAN
METHOD:PUBLISH
BEGIN:VTIMEZONE
TZID:America/New_York
BEGIN:STANDARD
DTSTART:20231206T173000
RDATE:20240310T030000
TZOFFSETFROM:-0400
TZOFFSETTO:-0500
TZNAME:America/New_York EST
END:STANDARD
BEGIN:STANDARD
DTSTART:20241103T010000
RDATE:20250309T030000
TZOFFSETFROM:-0400
TZOFFSETTO:-0500
TZNAME:America/New_York EST
END:STANDARD
BEGIN:STANDARD
DTSTART:20251102T010000
RDATE:20260308T030000
TZOFFSETFROM:-0400
TZOFFSETTO:-0500
TZNAME:America/New_York EST
END:STANDARD
BEGIN:STANDARD
DTSTART:20261101T010000
RDATE:20270314T030000
TZOFFSETFROM:-0400
TZOFFSETTO:-0500
TZNAME:America/New_York EST
END:STANDARD
BEGIN:STANDARD
DTSTART:20271107T010000
RDATE:20280312T030000
TZOFFSETFROM:-0400
TZOFFSETTO:-0500
TZNAME:America/New_York EST
END:STANDARD
BEGIN:STANDARD
DTSTART:20281105T010000
RDATE:20290311T030000
TZOFFSETFROM:-0400
TZOFFSETTO:-0500
TZNAME:America/New_York EST
END:STANDARD
BEGIN:DAYLIGHT
DTSTART:20240310T030000
RDATE:20241103T010000
TZOFFSETFROM:-0500
TZOFFSETTO:-0400
TZNAME:America/New_York EDT
END:DAYLIGHT
BEGIN:DAYLIGHT
DTSTART:20250309T030000
RDATE:20251102T010000
TZOFFSETFROM:-0500
TZOFFSETTO:-0400
TZNAME:America/New_York EDT
END:DAYLIGHT
BEGIN:DAYLIGHT
DTSTART:20260308T030000
RDATE:20261101T010000
TZOFFSETFROM:-0500
TZOFFSETTO:-0400
TZNAME:America/New_York EDT
END:DAYLIGHT
BEGIN:DAYLIGHT
DTSTART:20270314T030000
RDATE:20271107T010000
TZOFFSETFROM:-0500
TZOFFSETTO:-0400
TZNAME:America/New_York EDT
END:DAYLIGHT
BEGIN:DAYLIGHT
DTSTART:20280312T030000
RDATE:20281105T010000
TZOFFSETFROM:-0500
TZOFFSETTO:-0400
TZNAME:America/New_York EDT
END:DAYLIGHT
END:VTIMEZONE
BEGIN:VEVENT
UID:256206ffff13a2e57d70af6b7d2c9406
CATEGORIES:Recreation & Lifestyle
CREATED:20241118T130138
SUMMARY:2024 Member Holiday Party, National Museum of Racing and Hall of Fame, Saratoga NY
LOCATION:National Museum of Racing and Hall of Fame
DESCRIPTION:<p>The Trustees and Staff of the National Museum of Racing and Hall of Fame
  request the pleasure of your company at our Member Holiday Party! Celebrat
 e the season with refreshments, a 50/50 raffle, and a special gift shop dis
 count for all Museum members attending. Thank you to our event sponsors, Ma
 zzone Hospitalist, Saratoga Eagle, and Saratoga Spring Water.</p><p>When: F
 riday, Dec. 6, 2024, 5:30 p.m. to 7 p.m.Where: National Museum of Racing an
 d Hall of Fame, 191 Union Avenue, Saratoga Springs, NY 12866</p><p />Please
  R.S.V.P. by Wednesday, Nov. 27 to twarrens@racingmuseum.net or (518) 584-0
 400 ext. 112. Want to attend the Holiday Party but aren’t a member? Sign up
  
DTSTAMP:20260424T205014
DTSTART;TZID=America/New_York:20241206T173000
DTEND;TZID=America/New_York:20241206T190000
SEQUENCE:0
TRANSP:OPAQUE
END:VEVENT
END:VCALENDAR