BEGIN:VCALENDAR
VERSION:2.0
PRODID:-//jEvents 2.0 for Joomla//EN
CALSCALE:GREGORIAN
METHOD:PUBLISH
BEGIN:VTIMEZONE
TZID:America/New_York
BEGIN:STANDARD
DTSTART:20231123T120000
RDATE:20240310T030000
TZOFFSETFROM:-0400
TZOFFSETTO:-0500
TZNAME:America/New_York EST
END:STANDARD
BEGIN:STANDARD
DTSTART:20241103T010000
RDATE:20250309T030000
TZOFFSETFROM:-0400
TZOFFSETTO:-0500
TZNAME:America/New_York EST
END:STANDARD
BEGIN:STANDARD
DTSTART:20251102T010000
RDATE:20260308T030000
TZOFFSETFROM:-0400
TZOFFSETTO:-0500
TZNAME:America/New_York EST
END:STANDARD
BEGIN:STANDARD
DTSTART:20261101T010000
RDATE:20270314T030000
TZOFFSETFROM:-0400
TZOFFSETTO:-0500
TZNAME:America/New_York EST
END:STANDARD
BEGIN:STANDARD
DTSTART:20271107T010000
RDATE:20280312T030000
TZOFFSETFROM:-0400
TZOFFSETTO:-0500
TZNAME:America/New_York EST
END:STANDARD
BEGIN:STANDARD
DTSTART:20281105T010000
RDATE:20290311T030000
TZOFFSETFROM:-0400
TZOFFSETTO:-0500
TZNAME:America/New_York EST
END:STANDARD
BEGIN:DAYLIGHT
DTSTART:20240310T030000
RDATE:20241103T010000
TZOFFSETFROM:-0500
TZOFFSETTO:-0400
TZNAME:America/New_York EDT
END:DAYLIGHT
BEGIN:DAYLIGHT
DTSTART:20250309T030000
RDATE:20251102T010000
TZOFFSETFROM:-0500
TZOFFSETTO:-0400
TZNAME:America/New_York EDT
END:DAYLIGHT
BEGIN:DAYLIGHT
DTSTART:20260308T030000
RDATE:20261101T010000
TZOFFSETFROM:-0500
TZOFFSETTO:-0400
TZNAME:America/New_York EDT
END:DAYLIGHT
BEGIN:DAYLIGHT
DTSTART:20270314T030000
RDATE:20271107T010000
TZOFFSETFROM:-0500
TZOFFSETTO:-0400
TZNAME:America/New_York EDT
END:DAYLIGHT
BEGIN:DAYLIGHT
DTSTART:20280312T030000
RDATE:20281105T010000
TZOFFSETFROM:-0500
TZOFFSETTO:-0400
TZNAME:America/New_York EDT
END:DAYLIGHT
END:VTIMEZONE
BEGIN:VEVENT
UID:5f7e5fe95ccc25c8a68c0d8d8690fb19
CATEGORIES:Recreation & Lifestyle
CREATED:20241118T130222
SUMMARY:The Travers: Saratoga's Midsummer Derby book talk and signing, National Museum of Racing and Hall of Fame, Saratoga NY
LOCATION:National Museum of Racing and Hall of Fame
DESCRIPTION:The Travers: Saratoga's Midsummer Derby book talk and signing with Brien Bo
 uyea and Michael Veitch
\n
Where: National Museum of Racing and Hall of Fam
 e, 191 Union Avenue, Saratoga Spring, NY 12866
Cost: Free to attend, books 
 and prints available to purchase 
\n

X-ALT-DESC;FMTTYPE=text/html:<p>The Travers: Saratoga's Midsummer Derby book talk and signing with Brien
  Bouyea and Michael Veitch</p><p>Where: National Museum of Racing and Hall 
 of Fame, 191 Union Avenue, Saratoga Spring, NY 12866Cost: Free to attend, b
 ooks and prints available to purchase </p>
DTSTAMP:20260424T204746
DTSTART;TZID=America/New_York:20241123T120000
DTEND;TZID=America/New_York:20241123T130000
SEQUENCE:0
TRANSP:OPAQUE
END:VEVENT
END:VCALENDAR