BEGIN:VCALENDAR
VERSION:2.0
PRODID:-//jEvents 2.0 for Joomla//EN
CALSCALE:GREGORIAN
METHOD:PUBLISH
BEGIN:VTIMEZONE
TZID:America/New_York
BEGIN:STANDARD
DTSTART:20231212T150000
RDATE:20240310T030000
TZOFFSETFROM:-0400
TZOFFSETTO:-0500
TZNAME:America/New_York EST
END:STANDARD
BEGIN:STANDARD
DTSTART:20241103T010000
RDATE:20250309T030000
TZOFFSETFROM:-0400
TZOFFSETTO:-0500
TZNAME:America/New_York EST
END:STANDARD
BEGIN:STANDARD
DTSTART:20251102T010000
RDATE:20260308T030000
TZOFFSETFROM:-0400
TZOFFSETTO:-0500
TZNAME:America/New_York EST
END:STANDARD
BEGIN:STANDARD
DTSTART:20261101T010000
RDATE:20270314T030000
TZOFFSETFROM:-0400
TZOFFSETTO:-0500
TZNAME:America/New_York EST
END:STANDARD
BEGIN:STANDARD
DTSTART:20271107T010000
RDATE:20280312T030000
TZOFFSETFROM:-0400
TZOFFSETTO:-0500
TZNAME:America/New_York EST
END:STANDARD
BEGIN:STANDARD
DTSTART:20281105T010000
RDATE:20290311T030000
TZOFFSETFROM:-0400
TZOFFSETTO:-0500
TZNAME:America/New_York EST
END:STANDARD
BEGIN:DAYLIGHT
DTSTART:20240310T030000
RDATE:20241103T010000
TZOFFSETFROM:-0500
TZOFFSETTO:-0400
TZNAME:America/New_York EDT
END:DAYLIGHT
BEGIN:DAYLIGHT
DTSTART:20250309T030000
RDATE:20251102T010000
TZOFFSETFROM:-0500
TZOFFSETTO:-0400
TZNAME:America/New_York EDT
END:DAYLIGHT
BEGIN:DAYLIGHT
DTSTART:20260308T030000
RDATE:20261101T010000
TZOFFSETFROM:-0500
TZOFFSETTO:-0400
TZNAME:America/New_York EDT
END:DAYLIGHT
BEGIN:DAYLIGHT
DTSTART:20270314T030000
RDATE:20271107T010000
TZOFFSETFROM:-0500
TZOFFSETTO:-0400
TZNAME:America/New_York EDT
END:DAYLIGHT
BEGIN:DAYLIGHT
DTSTART:20280312T030000
RDATE:20281105T010000
TZOFFSETFROM:-0500
TZOFFSETTO:-0400
TZNAME:America/New_York EDT
END:DAYLIGHT
END:VTIMEZONE
BEGIN:VEVENT
UID:7b874d25d99b4e50f51300aa4e1aa9c0
CATEGORIES:Recreation & Lifestyle
CREATED:20241118T130546
SUMMARY:Book Club: Horse Crazy, by Sarah Maslin Nir, National Museum of Racing and Hall of Fame, Saratoga NY
LOCATION:National Museum of Racing and Hall of Fame
DESCRIPTION:Book Club: Horse Crazy, by Sarah Maslin Nir
\n
Join the National Museum of 
 Racing Book Club! Throughout 2024, we’ll be reading six incredible stories 
 that showcase different perspectives on the world of horse racing. Spots ar
 e limited, so sign up today! You can find out more here: Museum Book Club
\
 n

When: Thursday, Dec. 12, 2024, 3 p.m.\n
Where: National Musuem of Racing
  and Hall of Fame, 191 Union Avenue, Saratoga Springs, NY 12866\n
Featured 
 book: Horse Crazy, by Sarah Maslin Nir\n
\n

X-ALT-DESC;FMTTYPE=text/html:<p>Book Club: Horse Crazy, by Sarah Maslin Nir</p><p>Join the National Muse
 um of Racing Book Club! Throughout 2024, we’ll be reading six incredible st
 ories that showcase different perspectives on the world of horse racing. Sp
 ots are limited, so sign up today! You can find out more here: Museum Book 
 Club</p><p>When: Thursday, Dec. 12, 2024, 3 p.m.<br />Where: National Musue
 m of Racing and Hall of Fame, 191 Union Avenue, Saratoga Springs, NY 12866<
 br />Featured book: Horse Crazy, by Sarah Maslin Nir<br /></p>
DTSTAMP:20260424T204744
DTSTART;TZID=America/New_York:20241212T150000
SEQUENCE:0
TRANSP:OPAQUE
END:VEVENT
END:VCALENDAR