BEGIN:VCALENDAR
VERSION:2.0
PRODID:-//jEvents 2.0 for Joomla//EN
CALSCALE:GREGORIAN
METHOD:PUBLISH
BEGIN:VTIMEZONE
TZID:America/New_York
BEGIN:STANDARD
DTSTART:20241103T010000
RDATE:20250309T030000
TZOFFSETFROM:-0400
TZOFFSETTO:-0500
TZNAME:America/New_York EST
END:STANDARD
BEGIN:STANDARD
DTSTART:20251102T010000
RDATE:20260308T030000
TZOFFSETFROM:-0400
TZOFFSETTO:-0500
TZNAME:America/New_York EST
END:STANDARD
BEGIN:STANDARD
DTSTART:20261101T010000
RDATE:20270314T030000
TZOFFSETFROM:-0400
TZOFFSETTO:-0500
TZNAME:America/New_York EST
END:STANDARD
BEGIN:STANDARD
DTSTART:20271107T010000
RDATE:20280312T030000
TZOFFSETFROM:-0400
TZOFFSETTO:-0500
TZNAME:America/New_York EST
END:STANDARD
BEGIN:STANDARD
DTSTART:20281105T010000
RDATE:20290311T030000
TZOFFSETFROM:-0400
TZOFFSETTO:-0500
TZNAME:America/New_York EST
END:STANDARD
BEGIN:DAYLIGHT
DTSTART:20240903T000000
RDATE:20241103T010000
TZOFFSETFROM:-0500
TZOFFSETTO:-0400
TZNAME:America/New_York EDT
END:DAYLIGHT
BEGIN:DAYLIGHT
DTSTART:20250309T030000
RDATE:20251102T010000
TZOFFSETFROM:-0500
TZOFFSETTO:-0400
TZNAME:America/New_York EDT
END:DAYLIGHT
BEGIN:DAYLIGHT
DTSTART:20260308T030000
RDATE:20261101T010000
TZOFFSETFROM:-0500
TZOFFSETTO:-0400
TZNAME:America/New_York EDT
END:DAYLIGHT
BEGIN:DAYLIGHT
DTSTART:20270314T030000
RDATE:20271107T010000
TZOFFSETFROM:-0500
TZOFFSETTO:-0400
TZNAME:America/New_York EDT
END:DAYLIGHT
BEGIN:DAYLIGHT
DTSTART:20280312T030000
RDATE:20281105T010000
TZOFFSETFROM:-0500
TZOFFSETTO:-0400
TZNAME:America/New_York EDT
END:DAYLIGHT
END:VTIMEZONE
BEGIN:VEVENT
UID:cbbf3c45cfa6e8e8c7c67d212a01c7a8
CATEGORIES:Horse Show
CREATED:20241121T094607
SUMMARY:The World of the Horse 2025
LOCATION:Burghley House\, UK
DESCRIPTION:The World of the Horse enjoys a prominent position on each showground and t
 he proposed schedule for 2025 is as follows:\n
Badminton Horse Trials, 7-11
  May, Gloucestershire\n
Burghley Horse Trials, 4-7 Sept, Lincolnshire
\n
Re
 ach over half a million equestrian people by exhibiting at the two largest 
 events in the UK equestrian calendar, plus gain valuable exposure in Horse 
 &amp; Rider and PONY Magazine.\n
The World of the Horse 2025 can take you t
 o Badminton and Burghley Horse Trials, the former being the world’s largest
  3 day event that now has a total footfall over the 5 days of the event of 
 close on 500,000.
\n
The World of the Horse is a high spec pavilion housing
  a wooden ‘stable style’ shell scheme. The principal aim is to attract a wi
 de cross section of exhibitors who wish to promote and sell their products 
 or services to the general public – the ultimate consumer. The concept is n
 ow well established at the major showgrounds. Our Aims Exhibiting in The Wo
 rld of the Horse offers you all of this and more. The environment is geared
  to enhancing your company image and raising public awareness about your pr
 oduct. As a promotional platform it has considerable proven success, and ma
 intaining a balanced and lively marketing mix is vital to the way it works.
 \n
\n
Keeping up with equestrian community events is crucial for fostering 
 connections, staying informed about important industry changes, and support
 ing the sport's health and growth. Staying current benefits everyone from r
 iders and trainers to spectators and local businesses. 
Enhancing community
  and personal growth
\n
Networking and mentorship: Events, both online and 
 in-person, are a prime opportunity to connect with fellow enthusiasts, find
  mentors, and make professional connections. This helps build a strong netw
 ork of support, whether you are a seasoned competitor or new to the sport.

 \n

    Fostering inclusivity: Events can cultivate a welcoming and approac
 hable atmosphere for everyone, from beginners to seasoned riders. This stre
 ngthens the sport by encouraging continued participation and growth.
\n

  
   Boosting mental health: Engaging with the equestrian community provides a
  sense of camaraderie and belonging, which contributes to mental and physic
 al well-being. The supportive environment can be a great comfort during cha
 llenges, and it fosters lasting friendships. 
\n


Staying informed on indu
 stry standards
\n

    Promoting horse welfare: Awareness of current discus
 sions and initiatives helps uphold animal welfare standards. Organizations 
 like US Equestrian are actively redesigning their websites and expanding ed
 ucational resources to clarify rules, identify unethical behavior, and prom
 ote best practices for horse care.
\n

    Learning from experts: Education
 al resources, such as the US Equestrian Learning Center, provide access to 
 videos and training materials from elite athletes, trainers, and industry e
 xperts. This helps equestrians at all levels improve their skills and knowl
 edge.
\n

    Influencing brand credibility: Keeping track of media coverag
 e and sponsorship news helps equestrians determine which brands are ethical
  and trustworthy. Ethical equestrian journalism is built on transparency, h
 elping readers know the difference between honest advertising and unethical
  pay-to-play marketing. 
\n


 
X-ALT-DESC;FMTTYPE=text/html:<p>The World of the Horse enjoys a prominent position on each showground an
 d the proposed schedule for 2025 is as follows:<br />Badminton Horse Trials
 , 7-11 May, Gloucestershire<br />Burghley Horse Trials, 4-7 Sept, Lincolnsh
 ire</p><p>Reach over half a million equestrian people by exhibiting at the 
 two largest events in the UK equestrian calendar, plus gain valuable exposu
 re in Horse & Rider and PONY Magazine.</p><p>The World of the Horse 2025 ca
 n take you to Badminton and Burghley Horse Trials, the former being the wor
 ld’s largest 3 day event that now has a total footfall over the 5 days of t
 he event of close on 500,000.</p><p>The World of the Horse is a high spec p
 avilion housing a wooden ‘stable style’ shell scheme. The principal aim is 
 to attract a wide cross section of exhibitors who wish to promote and sell 
 their products or services to the general public – the ultimate consumer. T
 he concept is now well established at the major showgrounds. Our Aims Exhib
 iting in The World of the Horse offers you all of this and more. The enviro
 nment is geared to enhancing your company image and raising public awarenes
 s about your product. As a promotional platform it has considerable proven 
 success, and maintaining a balanced and lively marketing mix is vital to th
 e way it works.</p><br /><p>Keeping up with equestrian community events is 
 crucial for fostering connections, staying informed about important industr
 y changes, and supporting the sport's health and growth. Staying current be
 nefits everyone from riders and trainers to spectators and local businesses
 . Enhancing community and personal growth</p><p>Networking and mentorship: 
 Events, both online and in-person, are a prime opportunity to connect with 
 fellow enthusiasts, find mentors, and make professional connections. This h
 elps build a strong network of support, whether you are a seasoned competit
 or or new to the sport.</p><p>    Fostering inclusivity: Events can cultiva
 te a welcoming and approachable atmosphere for everyone, from beginners to 
 seasoned riders. This strengthens the sport by encouraging continued partic
 ipation and growth.</p><p>    Boosting mental health: Engaging with the equ
 estrian community provides a sense of camaraderie and belonging, which cont
 ributes to mental and physical well-being. The supportive environment can b
 e a great comfort during challenges, and it fosters lasting friendships. </
 p><p>Staying informed on industry standards</p><p>    Promoting horse welfa
 re: Awareness of current discussions and initiatives helps uphold animal we
 lfare standards. Organizations like US Equestrian are actively redesigning 
 their websites and expanding educational resources to clarify rules, identi
 fy unethical behavior, and promote best practices for horse care.</p><p>   
  Learning from experts: Educational resources, such as the US Equestrian Le
 arning Center, provide access to videos and training materials from elite a
 thletes, trainers, and industry experts. This helps equestrians at all leve
 ls improve their skills and knowledge.</p><p>    Influencing brand credibil
 ity: Keeping track of media coverage and sponsorship news helps equestrians
  determine which brands are ethical and trustworthy. Ethical equestrian jou
 rnalism is built on transparency, helping readers know the difference betwe
 en honest advertising and unethical pay-to-play marketing. </p> 
DTSTAMP:20260424T230126
DTSTART;TZID=America/New_York;VALUE=DATE:20250904
DTEND;TZID=America/New_York;VALUE=DATE:20250908
SEQUENCE:0
TRANSP:OPAQUE
END:VEVENT
END:VCALENDAR