BEGIN:VCALENDAR
VERSION:2.0
PRODID:-//jEvents 2.0 for Joomla//EN
CALSCALE:GREGORIAN
METHOD:PUBLISH
BEGIN:VTIMEZONE
TZID:America/New_York
BEGIN:STANDARD
DTSTART:20241103T010000
RDATE:20250309T030000
TZOFFSETFROM:-0400
TZOFFSETTO:-0500
TZNAME:America/New_York EST
END:STANDARD
BEGIN:STANDARD
DTSTART:20251102T010000
RDATE:20260308T030000
TZOFFSETFROM:-0400
TZOFFSETTO:-0500
TZNAME:America/New_York EST
END:STANDARD
BEGIN:STANDARD
DTSTART:20261101T010000
RDATE:20270314T030000
TZOFFSETFROM:-0400
TZOFFSETTO:-0500
TZNAME:America/New_York EST
END:STANDARD
BEGIN:STANDARD
DTSTART:20271107T010000
RDATE:20280312T030000
TZOFFSETFROM:-0400
TZOFFSETTO:-0500
TZNAME:America/New_York EST
END:STANDARD
BEGIN:STANDARD
DTSTART:20281105T010000
RDATE:20290311T030000
TZOFFSETFROM:-0400
TZOFFSETTO:-0500
TZNAME:America/New_York EST
END:STANDARD
BEGIN:DAYLIGHT
DTSTART:20240610T000000
RDATE:20241103T010000
TZOFFSETFROM:-0500
TZOFFSETTO:-0400
TZNAME:America/New_York EDT
END:DAYLIGHT
BEGIN:DAYLIGHT
DTSTART:20250309T030000
RDATE:20251102T010000
TZOFFSETFROM:-0500
TZOFFSETTO:-0400
TZNAME:America/New_York EDT
END:DAYLIGHT
BEGIN:DAYLIGHT
DTSTART:20260308T030000
RDATE:20261101T010000
TZOFFSETFROM:-0500
TZOFFSETTO:-0400
TZNAME:America/New_York EDT
END:DAYLIGHT
BEGIN:DAYLIGHT
DTSTART:20270314T030000
RDATE:20271107T010000
TZOFFSETFROM:-0500
TZOFFSETTO:-0400
TZNAME:America/New_York EDT
END:DAYLIGHT
BEGIN:DAYLIGHT
DTSTART:20280312T030000
RDATE:20281105T010000
TZOFFSETFROM:-0500
TZOFFSETTO:-0400
TZNAME:America/New_York EDT
END:DAYLIGHT
END:VTIMEZONE
BEGIN:VEVENT
UID:27ef682bdf1408d4659e89ae70fb22ca
CATEGORIES:Recreation & Lifestyle
CREATED:20241224T123500
SUMMARY:Spruce Meadows - 'National' CSI 5* presented by Rolex
LOCATION:Spruce Meadows
DESCRIPTION:Welcome to the 'National', presented by Rolex! This event brings together t
 op athletes from across North America and features a diverse range of compe
 titions sanctioned by both Equestrian Canada and the FEI, with heights rang
 ing from 1.00m to 1.60m. On the weekend, we're excited to salute our First 
 Responders. We warmly welcome the K9 Unit, Firefighters, Police, SWAT, Star
 s Air Ambulance, HAWCS, and more! We invite you to join us and explore the 
 displays and thank these heroes for their unwavering dedication to keeping 
 us safe. Additionally, we're thrilled to announce that we'll be hosting Fir
 eFit, adding even more excitement and appreciation to the festivities.
DTSTAMP:20260425T004254
DTSTART;TZID=America/New_York;VALUE=DATE:20250611
DTEND;TZID=America/New_York;VALUE=DATE:20250616
SEQUENCE:0
TRANSP:OPAQUE
END:VEVENT
END:VCALENDAR