BEGIN:VCALENDAR
VERSION:2.0
PRODID:-//jEvents 2.0 for Joomla//EN
CALSCALE:GREGORIAN
METHOD:PUBLISH
BEGIN:VTIMEZONE
TZID:America/New_York
BEGIN:STANDARD
DTSTART:20241103T010000
RDATE:20250309T030000
TZOFFSETFROM:-0400
TZOFFSETTO:-0500
TZNAME:America/New_York EST
END:STANDARD
BEGIN:STANDARD
DTSTART:20251102T010000
RDATE:20260308T030000
TZOFFSETFROM:-0400
TZOFFSETTO:-0500
TZNAME:America/New_York EST
END:STANDARD
BEGIN:STANDARD
DTSTART:20261101T010000
RDATE:20270314T030000
TZOFFSETFROM:-0400
TZOFFSETTO:-0500
TZNAME:America/New_York EST
END:STANDARD
BEGIN:STANDARD
DTSTART:20271107T010000
RDATE:20280312T030000
TZOFFSETFROM:-0400
TZOFFSETTO:-0500
TZNAME:America/New_York EST
END:STANDARD
BEGIN:STANDARD
DTSTART:20281105T010000
RDATE:20290311T030000
TZOFFSETFROM:-0400
TZOFFSETTO:-0500
TZNAME:America/New_York EST
END:STANDARD
BEGIN:DAYLIGHT
DTSTART:20240701T000000
RDATE:20241103T010000
TZOFFSETFROM:-0500
TZOFFSETTO:-0400
TZNAME:America/New_York EDT
END:DAYLIGHT
BEGIN:DAYLIGHT
DTSTART:20250309T030000
RDATE:20251102T010000
TZOFFSETFROM:-0500
TZOFFSETTO:-0400
TZNAME:America/New_York EDT
END:DAYLIGHT
BEGIN:DAYLIGHT
DTSTART:20260308T030000
RDATE:20261101T010000
TZOFFSETFROM:-0500
TZOFFSETTO:-0400
TZNAME:America/New_York EDT
END:DAYLIGHT
BEGIN:DAYLIGHT
DTSTART:20270314T030000
RDATE:20271107T010000
TZOFFSETFROM:-0500
TZOFFSETTO:-0400
TZNAME:America/New_York EDT
END:DAYLIGHT
BEGIN:DAYLIGHT
DTSTART:20280312T030000
RDATE:20281105T010000
TZOFFSETFROM:-0500
TZOFFSETTO:-0400
TZNAME:America/New_York EDT
END:DAYLIGHT
END:VTIMEZONE
BEGIN:VEVENT
UID:973b59b918d87325cab5651934dbd55a
CATEGORIES:Recreation & Lifestyle
CREATED:20241224T123726
SUMMARY:Spruce Meadows - North American - Show Jumping
LOCATION:Spruce Meadows
DESCRIPTION:Welcome to the 'North American' tournament, where top athletes from across 
 the continent gather to showcase their skills! Sanctioned by both Equestria
 n Canada and the FEI, this tournament offers a large range of competitions,
  with heights spanning from 1.00m to 1.60m. We're honoured to announce that
  at this tournament we'll be paying tribute to the members of the Canadian 
 Armed Forces. As part of the festivities, we'll also feature a captivating 
 Military Tattoo—a vibrant celebration of music and dance. And don't forget 
 to don your fanciest hat for our Garden Party over the weekend, where you c
 an indulge in delightful berries and bubbles!
DTSTAMP:20260425T022805
DTSTART;TZID=America/New_York;VALUE=DATE:20250702
DTEND;TZID=America/New_York;VALUE=DATE:20250707
SEQUENCE:0
TRANSP:OPAQUE
END:VEVENT
END:VCALENDAR