BEGIN:VCALENDAR
VERSION:2.0
PRODID:-//jEvents 2.0 for Joomla//EN
CALSCALE:GREGORIAN
METHOD:PUBLISH
BEGIN:VTIMEZONE
TZID:America/New_York
BEGIN:STANDARD
DTSTART:20240122T000000
RDATE:20240310T030000
TZOFFSETFROM:-0400
TZOFFSETTO:-0500
TZNAME:America/New_York EST
END:STANDARD
BEGIN:STANDARD
DTSTART:20241103T010000
RDATE:20250309T030000
TZOFFSETFROM:-0400
TZOFFSETTO:-0500
TZNAME:America/New_York EST
END:STANDARD
BEGIN:STANDARD
DTSTART:20251102T010000
RDATE:20260308T030000
TZOFFSETFROM:-0400
TZOFFSETTO:-0500
TZNAME:America/New_York EST
END:STANDARD
BEGIN:STANDARD
DTSTART:20261101T010000
RDATE:20270314T030000
TZOFFSETFROM:-0400
TZOFFSETTO:-0500
TZNAME:America/New_York EST
END:STANDARD
BEGIN:STANDARD
DTSTART:20271107T010000
RDATE:20280312T030000
TZOFFSETFROM:-0400
TZOFFSETTO:-0500
TZNAME:America/New_York EST
END:STANDARD
BEGIN:STANDARD
DTSTART:20281105T010000
RDATE:20290311T030000
TZOFFSETFROM:-0400
TZOFFSETTO:-0500
TZNAME:America/New_York EST
END:STANDARD
BEGIN:DAYLIGHT
DTSTART:20240310T030000
RDATE:20241103T010000
TZOFFSETFROM:-0500
TZOFFSETTO:-0400
TZNAME:America/New_York EDT
END:DAYLIGHT
BEGIN:DAYLIGHT
DTSTART:20250309T030000
RDATE:20251102T010000
TZOFFSETFROM:-0500
TZOFFSETTO:-0400
TZNAME:America/New_York EDT
END:DAYLIGHT
BEGIN:DAYLIGHT
DTSTART:20260308T030000
RDATE:20261101T010000
TZOFFSETFROM:-0500
TZOFFSETTO:-0400
TZNAME:America/New_York EDT
END:DAYLIGHT
BEGIN:DAYLIGHT
DTSTART:20270314T030000
RDATE:20271107T010000
TZOFFSETFROM:-0500
TZOFFSETTO:-0400
TZNAME:America/New_York EDT
END:DAYLIGHT
BEGIN:DAYLIGHT
DTSTART:20280312T030000
RDATE:20281105T010000
TZOFFSETFROM:-0500
TZOFFSETTO:-0400
TZNAME:America/New_York EDT
END:DAYLIGHT
END:VTIMEZONE
BEGIN:VEVENT
UID:9f07521389f57531101155d1ca4f4dbb
CATEGORIES:Health & Education
CREATED:20241224T131003
SUMMARY:Pony Club, USPC Convention, Traverse City, MI
LOCATION:Grand Traverse Resort and Spa
DESCRIPTION:Join all your fellow USPC family and friends for the weekend at the 2025 US
 PC Convention, hosted by the Great Lakes Region. The event includes hands-o
 n learning experiences, workshops, as well as leadership meetings, training
 , and awards. Registration opens on October 1, 2024.<br />Each year, Pony C
 lub hosts the USPC Convention in a new location around the United States. Y
 ou can find the 2025 USPC Convention in Traverse City, Mich., at the Grand 
 Traverse Resort and Spa, January 22–26. The event is open to the general pu
 blic and includes extensive hands-on opportunities, such as the Anatomy Roo
 m, Horse Management Room, a variety of educational workshops, and the abili
 ty to connect with equine professionals from around the country.
DTSTAMP:20260424T213157
DTSTART;TZID=America/New_York;VALUE=DATE:20250122
DTEND;TZID=America/New_York;VALUE=DATE:20250127
SEQUENCE:0
TRANSP:OPAQUE
END:VEVENT
END:VCALENDAR