BEGIN:VCALENDAR
VERSION:2.0
PRODID:-//jEvents 2.0 for Joomla//EN
CALSCALE:GREGORIAN
METHOD:PUBLISH
BEGIN:VTIMEZONE
TZID:America/New_York
BEGIN:STANDARD
DTSTART:20241103T010000
RDATE:20250309T030000
TZOFFSETFROM:-0400
TZOFFSETTO:-0500
TZNAME:America/New_York EST
END:STANDARD
BEGIN:STANDARD
DTSTART:20251102T010000
RDATE:20260308T030000
TZOFFSETFROM:-0400
TZOFFSETTO:-0500
TZNAME:America/New_York EST
END:STANDARD
BEGIN:STANDARD
DTSTART:20261101T010000
RDATE:20270314T030000
TZOFFSETFROM:-0400
TZOFFSETTO:-0500
TZNAME:America/New_York EST
END:STANDARD
BEGIN:STANDARD
DTSTART:20271107T010000
RDATE:20280312T030000
TZOFFSETFROM:-0400
TZOFFSETTO:-0500
TZNAME:America/New_York EST
END:STANDARD
BEGIN:STANDARD
DTSTART:20281105T010000
RDATE:20290311T030000
TZOFFSETFROM:-0400
TZOFFSETTO:-0500
TZNAME:America/New_York EST
END:STANDARD
BEGIN:DAYLIGHT
DTSTART:20240317T000000
RDATE:20241103T010000
TZOFFSETFROM:-0500
TZOFFSETTO:-0400
TZNAME:America/New_York EDT
END:DAYLIGHT
BEGIN:DAYLIGHT
DTSTART:20250309T030000
RDATE:20251102T010000
TZOFFSETFROM:-0500
TZOFFSETTO:-0400
TZNAME:America/New_York EDT
END:DAYLIGHT
BEGIN:DAYLIGHT
DTSTART:20260308T030000
RDATE:20261101T010000
TZOFFSETFROM:-0500
TZOFFSETTO:-0400
TZNAME:America/New_York EDT
END:DAYLIGHT
BEGIN:DAYLIGHT
DTSTART:20270314T030000
RDATE:20271107T010000
TZOFFSETFROM:-0500
TZOFFSETTO:-0400
TZNAME:America/New_York EDT
END:DAYLIGHT
BEGIN:DAYLIGHT
DTSTART:20280312T030000
RDATE:20281105T010000
TZOFFSETFROM:-0500
TZOFFSETTO:-0400
TZNAME:America/New_York EDT
END:DAYLIGHT
END:VTIMEZONE
BEGIN:VEVENT
UID:d60a79ff424b78dd7beb2f9830623f55
CATEGORIES:English Riding
CREATED:20250109T105204
SUMMARY:HITS Ocala Championship – X - National / 6
LOCATION:HITS Post Time Farm
DESCRIPTION:$2,500 Adequan Open Welcome - Wednesday\n
$25,000 Alliant Private Client Cu
 p - Thursday\n
$15,000 STX Open Speed - Friday\n
$100,000 Great American In
 surance Grand Prix - Saturday\n
$24,500 HorseFlight Jumper Classic - Sunday
 \n
$25,000 Pyranha/NAL Jr/Am 1.25m Jumper Classic - Featuring\n
$20,000 NAL
  Jr/Am 1.35m Jumper Classic - Featuring\n
Arion Sellier Equitation Champion
 ship - Featuring\n
$15,000 CWD/SJHOF Jr/Am 1.45m Jumper Classic\n
X-ALT-DESC;FMTTYPE=text/html:$2,500 Adequan Open Welcome - Wednesday<br />$25,000 Alliant Private Client
  Cup - Thursday<br />$15,000 STX Open Speed - Friday<br />$100,000 Great Am
 erican Insurance Grand Prix - Saturday<br />$24,500 HorseFlight Jumper Clas
 sic - Sunday<br />$25,000 Pyranha/NAL Jr/Am 1.25m Jumper Classic - Featurin
 g<br />$20,000 NAL Jr/Am 1.35m Jumper Classic - Featuring<br />Arion Sellie
 r Equitation Championship - Featuring<br />$15,000 CWD/SJHOF Jr/Am 1.45m Ju
 mper Classic<br />
DTSTAMP:20260424T213031
DTSTART;TZID=America/New_York;VALUE=DATE:20250318
DTEND;TZID=America/New_York;VALUE=DATE:20250324
SEQUENCE:0
TRANSP:OPAQUE
END:VEVENT
END:VCALENDAR