BEGIN:VCALENDAR
VERSION:2.0
PRODID:-//jEvents 2.0 for Joomla//EN
CALSCALE:GREGORIAN
METHOD:PUBLISH
BEGIN:VTIMEZONE
TZID:America/New_York
BEGIN:STANDARD
DTSTART:20241103T010000
RDATE:20250309T030000
TZOFFSETFROM:-0400
TZOFFSETTO:-0500
TZNAME:America/New_York EST
END:STANDARD
BEGIN:STANDARD
DTSTART:20251102T010000
RDATE:20260308T030000
TZOFFSETFROM:-0400
TZOFFSETTO:-0500
TZNAME:America/New_York EST
END:STANDARD
BEGIN:STANDARD
DTSTART:20261101T010000
RDATE:20270314T030000
TZOFFSETFROM:-0400
TZOFFSETTO:-0500
TZNAME:America/New_York EST
END:STANDARD
BEGIN:STANDARD
DTSTART:20271107T010000
RDATE:20280312T030000
TZOFFSETFROM:-0400
TZOFFSETTO:-0500
TZNAME:America/New_York EST
END:STANDARD
BEGIN:STANDARD
DTSTART:20281105T010000
RDATE:20290311T030000
TZOFFSETFROM:-0400
TZOFFSETTO:-0500
TZNAME:America/New_York EST
END:STANDARD
BEGIN:DAYLIGHT
DTSTART:20240327T000000
RDATE:20241103T010000
TZOFFSETFROM:-0500
TZOFFSETTO:-0400
TZNAME:America/New_York EDT
END:DAYLIGHT
BEGIN:DAYLIGHT
DTSTART:20250309T030000
RDATE:20251102T010000
TZOFFSETFROM:-0500
TZOFFSETTO:-0400
TZNAME:America/New_York EDT
END:DAYLIGHT
BEGIN:DAYLIGHT
DTSTART:20260308T030000
RDATE:20261101T010000
TZOFFSETFROM:-0500
TZOFFSETTO:-0400
TZNAME:America/New_York EDT
END:DAYLIGHT
BEGIN:DAYLIGHT
DTSTART:20270314T030000
RDATE:20271107T010000
TZOFFSETFROM:-0500
TZOFFSETTO:-0400
TZNAME:America/New_York EDT
END:DAYLIGHT
BEGIN:DAYLIGHT
DTSTART:20280312T030000
RDATE:20281105T010000
TZOFFSETFROM:-0500
TZOFFSETTO:-0400
TZNAME:America/New_York EDT
END:DAYLIGHT
END:VTIMEZONE
BEGIN:VEVENT
UID:43b6ca91c094ec97a688446b3a839d93
CATEGORIES:Recreation & Lifestyle
CREATED:20250204T130407
SUMMARY:Annual American Quarter Horse Assoc. Convention
LOCATION:South Point Hotel &amp; Casino
DESCRIPTION:The 2025 AQHA Convention is heading to Las Vegas, March 28-31 at the South 
 Point Hotel &amp; Casino. The Convention is an opportunity for breeders, tr
 ainers, owners and horse enthusiasts to talk about issues affecting the ind
 ustry and discuss proposed changes regarding rules and policies of the Asso
 ciation.\n
\n
There are a couple of items regarding the Convention that you
  should know:\n
\n
To have voting rights at the 2025 AQHA Convention, you m
 ust be registered for Convention, attend Convention to vote in person and b
 e an AQHA member at least 60 days prior to the first day of the 2025 Conven
 tion.\n
Committee meetings are open to registered Convention attendees and 
 are conducted in two sessions – an “open discussion” session in which non-c
 ommittee members can join in the discussion and a “committee member discuss
 ion” session in which the discussion is limited to committee members only. 
 Occasionally, a meeting moves into a “committee members only” session per d
 irection of the committee or chairperson.\n
Per AQHA Bylaws Article III, Se
 ction 1(a), the number of elected directors is determined by an annual allo
 cation formula based on the number of active AQHA numbered and Appendix hor
 ses as of September 30 of the preceding year. View the list of each directo
 r’s current status – if they are seeking re-election or will be elevating t
 o director emeritus or director-at-large status at the 2025 AQHA Convention
 .\n
\n
A list of your directors and their contact information can be found 
 here. The tentative Convention schedule and registration information are av
 ailable at www.aqha.com/convention.
X-ALT-DESC;FMTTYPE=text/html:The 2025 AQHA Convention is heading to Las Vegas, March 28-31 at the South 
 Point Hotel & Casino. The Convention is an opportunity for breeders, traine
 rs, owners and horse enthusiasts to talk about issues affecting the industr
 y and discuss proposed changes regarding rules and policies of the Associat
 ion.<br /><br />There are a couple of items regarding the Convention that y
 ou should know:<br /><br />To have voting rights at the 2025 AQHA Conventio
 n, you must be registered for Convention, attend Convention to vote in pers
 on and be an AQHA member at least 60 days prior to the first day of the 202
 5 Convention.<br />Committee meetings are open to registered Convention att
 endees and are conducted in two sessions – an “open discussion” session in 
 which non-committee members can join in the discussion and a “committee mem
 ber discussion” session in which the discussion is limited to committee mem
 bers only. Occasionally, a meeting moves into a “committee members only” se
 ssion per direction of the committee or chairperson.<br />Per AQHA Bylaws A
 rticle III, Section 1(a), the number of elected directors is determined by 
 an annual allocation formula based on the number of active AQHA numbered an
 d Appendix horses as of September 30 of the preceding year. View the list o
 f each director’s current status – if they are seeking re-election or will 
 be elevating to director emeritus or director-at-large status at the 2025 A
 QHA Convention.<br /><br />A list of your directors and their contact infor
 mation can be found here. The tentative Convention schedule and registratio
 n information are available at www.aqha.com/convention.
DTSTAMP:20260424T230041
DTSTART;TZID=America/New_York;VALUE=DATE:20250328
DTEND;TZID=America/New_York;VALUE=DATE:20250401
SEQUENCE:0
TRANSP:OPAQUE
END:VEVENT
END:VCALENDAR