BEGIN:VCALENDAR
VERSION:2.0
PRODID:-//jEvents 2.0 for Joomla//EN
CALSCALE:GREGORIAN
METHOD:PUBLISH
BEGIN:VTIMEZONE
TZID:America/New_York
BEGIN:STANDARD
DTSTART:20241103T010000
RDATE:20250309T030000
TZOFFSETFROM:-0400
TZOFFSETTO:-0500
TZNAME:America/New_York EST
END:STANDARD
BEGIN:STANDARD
DTSTART:20251102T010000
RDATE:20260308T030000
TZOFFSETFROM:-0400
TZOFFSETTO:-0500
TZNAME:America/New_York EST
END:STANDARD
BEGIN:STANDARD
DTSTART:20261101T010000
RDATE:20270314T030000
TZOFFSETFROM:-0400
TZOFFSETTO:-0500
TZNAME:America/New_York EST
END:STANDARD
BEGIN:STANDARD
DTSTART:20271107T010000
RDATE:20280312T030000
TZOFFSETFROM:-0400
TZOFFSETTO:-0500
TZNAME:America/New_York EST
END:STANDARD
BEGIN:STANDARD
DTSTART:20281105T010000
RDATE:20290311T030000
TZOFFSETFROM:-0400
TZOFFSETTO:-0500
TZNAME:America/New_York EST
END:STANDARD
BEGIN:DAYLIGHT
DTSTART:20240316T000000
RDATE:20241103T010000
TZOFFSETFROM:-0500
TZOFFSETTO:-0400
TZNAME:America/New_York EDT
END:DAYLIGHT
BEGIN:DAYLIGHT
DTSTART:20250309T030000
RDATE:20251102T010000
TZOFFSETFROM:-0500
TZOFFSETTO:-0400
TZNAME:America/New_York EDT
END:DAYLIGHT
BEGIN:DAYLIGHT
DTSTART:20260308T030000
RDATE:20261101T010000
TZOFFSETFROM:-0500
TZOFFSETTO:-0400
TZNAME:America/New_York EDT
END:DAYLIGHT
BEGIN:DAYLIGHT
DTSTART:20270314T030000
RDATE:20271107T010000
TZOFFSETFROM:-0500
TZOFFSETTO:-0400
TZNAME:America/New_York EDT
END:DAYLIGHT
BEGIN:DAYLIGHT
DTSTART:20280312T030000
RDATE:20281105T010000
TZOFFSETFROM:-0500
TZOFFSETTO:-0400
TZNAME:America/New_York EDT
END:DAYLIGHT
END:VTIMEZONE
BEGIN:VEVENT
UID:c569cd065f6c976e84ccbef256e78b0a
CATEGORIES:Racing Sales
CREATED:20250219T132900
SUMMARY:Magic Millions Sales, Adelaide Yearling Sale, Magic Millions Sales Complex Morphettville, AUS
LOCATION:Magic Millions Sales Complex Morphettville
DESCRIPTION:The sale whose graduates take their connections to elite races around the w
 orld is poised to deliver more life changers following today’s online relea
 se of the 2025 catalogue.\n
\n
The Magic Millions Adelaide Yearling Sale ha
 s a proud history of producing top tier gallopers – as the sale motto says,
  opportunity knocks each and every year.\n
\n
In 2025 the Morphettville bas
 ed auction will be held across two days – Monday 17 and Tuesday 18 March – 
 with a catalogue of 455 lots assembled to go under the hammer.\n
\n
Recent 
 graduates of the Adelaide Yearling Sale include Australia’s Royal Ascot her
 oine Asfoora, Hong Kong’s crack miler Galaxy Patch and $11.9 million earner
  Private Eye.
X-ALT-DESC;FMTTYPE=text/html:The sale whose graduates take their connections to elite races around the w
 orld is poised to deliver more life changers following today’s online relea
 se of the 2025 catalogue.<br /><br />The Magic Millions Adelaide Yearling S
 ale has a proud history of producing top tier gallopers – as the sale motto
  says, opportunity knocks each and every year.<br /><br />In 2025 the Morph
 ettville based auction will be held across two days – Monday 17 and Tuesday
  18 March – with a catalogue of 455 lots assembled to go under the hammer.<
 br /><br />Recent graduates of the Adelaide Yearling Sale include Australia
 ’s Royal Ascot heroine Asfoora, Hong Kong’s crack miler Galaxy Patch and $1
 1.9 million earner Private Eye.
DTSTAMP:20260424T232029
DTSTART;TZID=America/New_York;VALUE=DATE:20250317
DTEND;TZID=America/New_York;VALUE=DATE:20250319
SEQUENCE:0
TRANSP:OPAQUE
END:VEVENT
END:VCALENDAR