BEGIN:VCALENDAR
VERSION:2.0
PRODID:-//jEvents 2.0 for Joomla//EN
CALSCALE:GREGORIAN
METHOD:PUBLISH
BEGIN:VTIMEZONE
TZID:America/New_York
BEGIN:STANDARD
DTSTART:20240309T230000
RDATE:20240310T030000
TZOFFSETFROM:-0400
TZOFFSETTO:-0500
TZNAME:America/New_York EST
END:STANDARD
BEGIN:STANDARD
DTSTART:20241103T010000
RDATE:20250309T030000
TZOFFSETFROM:-0400
TZOFFSETTO:-0500
TZNAME:America/New_York EST
END:STANDARD
BEGIN:STANDARD
DTSTART:20251102T010000
RDATE:20260308T030000
TZOFFSETFROM:-0400
TZOFFSETTO:-0500
TZNAME:America/New_York EST
END:STANDARD
BEGIN:STANDARD
DTSTART:20261101T010000
RDATE:20270314T030000
TZOFFSETFROM:-0400
TZOFFSETTO:-0500
TZNAME:America/New_York EST
END:STANDARD
BEGIN:STANDARD
DTSTART:20271107T010000
RDATE:20280312T030000
TZOFFSETFROM:-0400
TZOFFSETTO:-0500
TZNAME:America/New_York EST
END:STANDARD
BEGIN:STANDARD
DTSTART:20281105T010000
RDATE:20290311T030000
TZOFFSETFROM:-0400
TZOFFSETTO:-0500
TZNAME:America/New_York EST
END:STANDARD
BEGIN:DAYLIGHT
DTSTART:20240310T030000
RDATE:20241103T010000
TZOFFSETFROM:-0500
TZOFFSETTO:-0400
TZNAME:America/New_York EDT
END:DAYLIGHT
BEGIN:DAYLIGHT
DTSTART:20250309T030000
RDATE:20251102T010000
TZOFFSETFROM:-0500
TZOFFSETTO:-0400
TZNAME:America/New_York EDT
END:DAYLIGHT
BEGIN:DAYLIGHT
DTSTART:20260308T030000
RDATE:20261101T010000
TZOFFSETFROM:-0500
TZOFFSETTO:-0400
TZNAME:America/New_York EDT
END:DAYLIGHT
BEGIN:DAYLIGHT
DTSTART:20270314T030000
RDATE:20271107T010000
TZOFFSETFROM:-0500
TZOFFSETTO:-0400
TZNAME:America/New_York EDT
END:DAYLIGHT
BEGIN:DAYLIGHT
DTSTART:20280312T030000
RDATE:20281105T010000
TZOFFSETFROM:-0500
TZOFFSETTO:-0400
TZNAME:America/New_York EDT
END:DAYLIGHT
END:VTIMEZONE
BEGIN:VEVENT
UID:9eb76cc8096ffb38c55962c447c5381d
CATEGORIES:Horse Racing
CREATED:20250219T133853
SUMMARY:Cheltenham Festival - Jump Racing
LOCATION:Cheltenham Racecourse
DESCRIPTION:Four extraordinary days of racing from Tuesday 11 to Friday 14 March 2025.\
 n
\n
Each of the races at The Cheltenham Festival is a chance to be part of
  history. It creates memories that last a lifetime. You don’t want to miss 
 it. We look forward to enjoying the action with you in 2025.\n
\n
Starting 
 with Champion Day - celebrate the return of jump racing’s greatest festival
  where reigning and future Champions unite, all eager to carve their name i
 nto the star-studded wall of Jump Racing Greats.\n
\n
Day two is filled wit
 h unmissable action on and off the track, Style Wednesday features the BetM
 GM Queen Mother Champion Chase, where speed and jumping ability matters mos
 t.\n
\n
For celebrations like no other and racing to match, St Patrick’s Th
 ursday provides. Where Irish passion raises the rafters and the horses and 
 jockeys put on a special show to try and tip the balance and get closer to 
 winning the coveted Prestbury cup.\n
\n
Finally, there’s Gold Cup Day, the 
 jewel in Jump Racing’s crown, the most prestigious trophy in horse racing a
 nd arguably, sport. Who will you back to claim the ultimate title and be cr
 owned the Boodles Cheltenham Gold Cup winner 2025?
X-ALT-DESC;FMTTYPE=text/html:Four extraordinary days of racing from Tuesday 11 to Friday 14 March 2025.<
 br /><br />Each of the races at The Cheltenham Festival is a chance to be p
 art of history. It creates memories that last a lifetime. You don’t want to
  miss it. We look forward to enjoying the action with you in 2025.<br /><br
  />Starting with Champion Day - celebrate the return of jump racing’s great
 est festival where reigning and future Champions unite, all eager to carve 
 their name into the star-studded wall of Jump Racing Greats.<br /><br />Day
  two is filled with unmissable action on and off the track, Style Wednesday
  features the BetMGM Queen Mother Champion Chase, where speed and jumping a
 bility matters most.<br /><br />For celebrations like no other and racing t
 o match, St Patrick’s Thursday provides. Where Irish passion raises the raf
 ters and the horses and jockeys put on a special show to try and tip the ba
 lance and get closer to winning the coveted Prestbury cup.<br /><br />Final
 ly, there’s Gold Cup Day, the jewel in Jump Racing’s crown, the most presti
 gious trophy in horse racing and arguably, sport. Who will you back to clai
 m the ultimate title and be crowned the Boodles Cheltenham Gold Cup winner 
 2025?
DTSTAMP:20260424T212947
DTSTART;TZID=America/New_York;VALUE=DATE:20250311
DTEND;TZID=America/New_York;VALUE=DATE:20250315
SEQUENCE:0
TRANSP:OPAQUE
END:VEVENT
END:VCALENDAR