BEGIN:VCALENDAR
VERSION:2.0
PRODID:-//jEvents 2.0 for Joomla//EN
CALSCALE:GREGORIAN
METHOD:PUBLISH
BEGIN:VTIMEZONE
TZID:America/New_York
BEGIN:STANDARD
DTSTART:20241103T010000
RDATE:20250309T030000
TZOFFSETFROM:-0400
TZOFFSETTO:-0500
TZNAME:America/New_York EST
END:STANDARD
BEGIN:STANDARD
DTSTART:20251102T010000
RDATE:20260308T030000
TZOFFSETFROM:-0400
TZOFFSETTO:-0500
TZNAME:America/New_York EST
END:STANDARD
BEGIN:STANDARD
DTSTART:20261101T010000
RDATE:20270314T030000
TZOFFSETFROM:-0400
TZOFFSETTO:-0500
TZNAME:America/New_York EST
END:STANDARD
BEGIN:STANDARD
DTSTART:20271107T010000
RDATE:20280312T030000
TZOFFSETFROM:-0400
TZOFFSETTO:-0500
TZNAME:America/New_York EST
END:STANDARD
BEGIN:STANDARD
DTSTART:20281105T010000
RDATE:20290311T030000
TZOFFSETFROM:-0400
TZOFFSETTO:-0500
TZNAME:America/New_York EST
END:STANDARD
BEGIN:DAYLIGHT
DTSTART:20240314T000000
RDATE:20241103T010000
TZOFFSETFROM:-0500
TZOFFSETTO:-0400
TZNAME:America/New_York EDT
END:DAYLIGHT
BEGIN:DAYLIGHT
DTSTART:20250309T030000
RDATE:20251102T010000
TZOFFSETFROM:-0500
TZOFFSETTO:-0400
TZNAME:America/New_York EDT
END:DAYLIGHT
BEGIN:DAYLIGHT
DTSTART:20260308T030000
RDATE:20261101T010000
TZOFFSETFROM:-0500
TZOFFSETTO:-0400
TZNAME:America/New_York EDT
END:DAYLIGHT
BEGIN:DAYLIGHT
DTSTART:20270314T030000
RDATE:20271107T010000
TZOFFSETFROM:-0500
TZOFFSETTO:-0400
TZNAME:America/New_York EDT
END:DAYLIGHT
BEGIN:DAYLIGHT
DTSTART:20280312T030000
RDATE:20281105T010000
TZOFFSETFROM:-0500
TZOFFSETTO:-0400
TZNAME:America/New_York EDT
END:DAYLIGHT
END:VTIMEZONE
BEGIN:VEVENT
UID:6b754c293b5c6956d950e40448ae2f87
CATEGORIES:Recreation & Lifestyle
CREATED:20250219T134202
SUMMARY:Paso Robles Horse Park - Kick-Off Schooling Show
LOCATION:Paso Robles Horse Park
DESCRIPTION:Kick-Off Schooling Show: March 15-16, 2025\n
Entries Close February 28\n
\n
 
Paso Robles Horse Park\n
Join the fun of a showcation experience on the Ca
 lifornia Central Coast. Paso Robles Horse Park offers competitions for all 
 levels of riding and the full range of show jumping aspirations. Driven by 
 the need to remember we're here to enjoy the connection to our horses and t
 he joy of each other's company, this is a showcation you won't want to miss
 . 
X-ALT-DESC;FMTTYPE=text/html:Kick-Off Schooling Show: March 15-16, 2025<br />Entries Close February 28<b
 r /><br />Paso Robles Horse Park<br />Join the fun of a showcation experien
 ce on the California Central Coast. Paso Robles Horse Park offers competiti
 ons for all levels of riding and the full range of show jumping aspirations
 . Driven by the need to remember we're here to enjoy the connection to our 
 horses and the joy of each other's company, this is a showcation you won't 
 want to miss. 
DTSTAMP:20260424T212942
DTSTART;TZID=America/New_York;VALUE=DATE:20250315
DTEND;TZID=America/New_York;VALUE=DATE:20250317
SEQUENCE:0
TRANSP:OPAQUE
END:VEVENT
END:VCALENDAR