BEGIN:VCALENDAR
VERSION:2.0
PRODID:-//jEvents 2.0 for Joomla//EN
CALSCALE:GREGORIAN
METHOD:PUBLISH
BEGIN:VTIMEZONE
TZID:America/New_York
BEGIN:STANDARD
DTSTART:20241103T010000
RDATE:20250309T030000
TZOFFSETFROM:-0400
TZOFFSETTO:-0500
TZNAME:America/New_York EST
END:STANDARD
BEGIN:STANDARD
DTSTART:20251102T010000
RDATE:20260308T030000
TZOFFSETFROM:-0400
TZOFFSETTO:-0500
TZNAME:America/New_York EST
END:STANDARD
BEGIN:STANDARD
DTSTART:20261101T010000
RDATE:20270314T030000
TZOFFSETFROM:-0400
TZOFFSETTO:-0500
TZNAME:America/New_York EST
END:STANDARD
BEGIN:STANDARD
DTSTART:20271107T010000
RDATE:20280312T030000
TZOFFSETFROM:-0400
TZOFFSETTO:-0500
TZNAME:America/New_York EST
END:STANDARD
BEGIN:STANDARD
DTSTART:20281105T010000
RDATE:20290311T030000
TZOFFSETFROM:-0400
TZOFFSETTO:-0500
TZNAME:America/New_York EST
END:STANDARD
BEGIN:DAYLIGHT
DTSTART:20240912T000000
RDATE:20241103T010000
TZOFFSETFROM:-0500
TZOFFSETTO:-0400
TZNAME:America/New_York EDT
END:DAYLIGHT
BEGIN:DAYLIGHT
DTSTART:20250309T030000
RDATE:20251102T010000
TZOFFSETFROM:-0500
TZOFFSETTO:-0400
TZNAME:America/New_York EDT
END:DAYLIGHT
BEGIN:DAYLIGHT
DTSTART:20260308T030000
RDATE:20261101T010000
TZOFFSETFROM:-0500
TZOFFSETTO:-0400
TZNAME:America/New_York EDT
END:DAYLIGHT
BEGIN:DAYLIGHT
DTSTART:20270314T030000
RDATE:20271107T010000
TZOFFSETFROM:-0500
TZOFFSETTO:-0400
TZNAME:America/New_York EDT
END:DAYLIGHT
BEGIN:DAYLIGHT
DTSTART:20280312T030000
RDATE:20281105T010000
TZOFFSETFROM:-0500
TZOFFSETTO:-0400
TZNAME:America/New_York EDT
END:DAYLIGHT
END:VTIMEZONE
BEGIN:VEVENT
UID:f2d9845e39e7ab675ab9de469cbff8d0
CATEGORIES:Recreation & Lifestyle
CREATED:20250219T134640
SUMMARY:Paso Robles Horse Park - Harvest Special Schooling Show   
LOCATION:Paso Robles Horse Park
DESCRIPTION:Paso Robles Schooling Series - Local Show\n
Harvest Special Schooling Show:
  September 13-14, 2025
Entries Close August 29
\n
Paso Robles Horse Park\n

 Join the fun of a showcation experience on the California Central Coast. Pa
 so Robles Horse Park offers competitions for all levels of riding and the f
 ull range of show jumping aspirations. Driven by the need to remember we're
  here to enjoy the connection to our horses and the joy of each other's com
 pany, this is a showcation you won't want to miss. 
X-ALT-DESC;FMTTYPE=text/html:Paso Robles Schooling Series - Local Show<br />Harvest Special Schooling Sh
 ow: September 13-14, 2025Entries Close August 29<br />Paso Robles Horse Par
 k<br />Join the fun of a showcation experience on the California Central Co
 ast. Paso Robles Horse Park offers competitions for all levels of riding an
 d the full range of show jumping aspirations. Driven by the need to remembe
 r we're here to enjoy the connection to our horses and the joy of each othe
 r's company, this is a showcation you won't want to miss. 
DTSTAMP:20260425T024010
DTSTART;TZID=America/New_York;VALUE=DATE:20250913
DTEND;TZID=America/New_York;VALUE=DATE:20250915
SEQUENCE:0
TRANSP:OPAQUE
END:VEVENT
END:VCALENDAR