BEGIN:VCALENDAR
VERSION:2.0
PRODID:-//jEvents 2.0 for Joomla//EN
CALSCALE:GREGORIAN
METHOD:PUBLISH
BEGIN:VTIMEZONE
TZID:America/New_York
BEGIN:STANDARD
DTSTART:20241103T010000
RDATE:20250309T030000
TZOFFSETFROM:-0400
TZOFFSETTO:-0500
TZNAME:America/New_York EST
END:STANDARD
BEGIN:STANDARD
DTSTART:20251102T010000
RDATE:20260308T030000
TZOFFSETFROM:-0400
TZOFFSETTO:-0500
TZNAME:America/New_York EST
END:STANDARD
BEGIN:STANDARD
DTSTART:20261101T010000
RDATE:20270314T030000
TZOFFSETFROM:-0400
TZOFFSETTO:-0500
TZNAME:America/New_York EST
END:STANDARD
BEGIN:STANDARD
DTSTART:20271107T010000
RDATE:20280312T030000
TZOFFSETFROM:-0400
TZOFFSETTO:-0500
TZNAME:America/New_York EST
END:STANDARD
BEGIN:STANDARD
DTSTART:20281105T010000
RDATE:20290311T030000
TZOFFSETFROM:-0400
TZOFFSETTO:-0500
TZNAME:America/New_York EST
END:STANDARD
BEGIN:DAYLIGHT
DTSTART:20240314T100000
RDATE:20241103T010000
TZOFFSETFROM:-0500
TZOFFSETTO:-0400
TZNAME:America/New_York EDT
END:DAYLIGHT
BEGIN:DAYLIGHT
DTSTART:20250309T030000
RDATE:20251102T010000
TZOFFSETFROM:-0500
TZOFFSETTO:-0400
TZNAME:America/New_York EDT
END:DAYLIGHT
BEGIN:DAYLIGHT
DTSTART:20260308T030000
RDATE:20261101T010000
TZOFFSETFROM:-0500
TZOFFSETTO:-0400
TZNAME:America/New_York EDT
END:DAYLIGHT
BEGIN:DAYLIGHT
DTSTART:20270314T030000
RDATE:20271107T010000
TZOFFSETFROM:-0500
TZOFFSETTO:-0400
TZNAME:America/New_York EDT
END:DAYLIGHT
BEGIN:DAYLIGHT
DTSTART:20280312T030000
RDATE:20281105T010000
TZOFFSETFROM:-0500
TZOFFSETTO:-0400
TZNAME:America/New_York EDT
END:DAYLIGHT
END:VTIMEZONE
BEGIN:VEVENT
UID:e2cdd543c8e195b61335be2ed856c8f8
CATEGORIES:Horse Racing
CREATED:20250219T135144
SUMMARY:82nd Running of the Aiken Trials
LOCATION:The Aiken Training Track
DESCRIPTION:Beginning in 1942, the Aiken Trials has given young horses in training the 
 enlightening opportunity to experience every aspect of live racing. This ha
 s become a time-honored tradition as the first leg of Aiken's Triple crown,
  held annually for three consecutive Saturdays in March. The Aiken Steeplec
 hase and Pacers &amp; Polo make up the other two events.\n
\n
The Aiken Tri
 als draws upwards of 10000 spectators who enjoy a day of family fun that in
 cludes tailgating, vendors and competitive racing.\n
\n
We are anticipating
  five races on the program consisting of four races for two-year-olds and m
 aidens (horses that may have started in a race, but have never won), runnin
 g a 1/4 mile to 4 1/2 furlongs, and one race for older horses that have alr
 eady won. As in the past several years, Pony races will also be featured.\n
 
\n
The jockeys typically are local exercise riders who have an afternoon i
 n the spotlight after paying their dues exercising horses each morning (in 
 all weather) throughout the year. Occasionally, a trainer has brought in a 
 licensed jockey to compete; making some exciting competition for the exerci
 se riders!\n
\n
Please join us for the 82nd Running of the Aiken Trials! Se
 e you there, rain or shine!
X-ALT-DESC;FMTTYPE=text/html:Beginning in 1942, the Aiken Trials has given young horses in training the 
 enlightening opportunity to experience every aspect of live racing. This ha
 s become a time-honored tradition as the first leg of Aiken's Triple crown,
  held annually for three consecutive Saturdays in March. The Aiken Steeplec
 hase and Pacers & Polo make up the other two events.<br /><br />The Aiken T
 rials draws upwards of 10000 spectators who enjoy a day of family fun that 
 includes tailgating, vendors and competitive racing.<br /><br />We are anti
 cipating five races on the program consisting of four races for two-year-ol
 ds and maidens (horses that may have started in a race, but have never won)
 , running a 1/4 mile to 4 1/2 furlongs, and one race for older horses that 
 have already won. As in the past several years, Pony races will also be fea
 tured.<br /><br />The jockeys typically are local exercise riders who have 
 an afternoon in the spotlight after paying their dues exercising horses eac
 h morning (in all weather) throughout the year. Occasionally, a trainer has
  brought in a licensed jockey to compete; making some exciting competition 
 for the exercise riders!<br /><br />Please join us for the 82nd Running of 
 the Aiken Trials! See you there, rain or shine!
DTSTAMP:20260424T212941
DTSTART;TZID=America/New_York:20250315T100000
DTEND;TZID=America/New_York:20250315T170000
SEQUENCE:0
TRANSP:OPAQUE
END:VEVENT
END:VCALENDAR