BEGIN:VCALENDAR
VERSION:2.0
PRODID:-//jEvents 2.0 for Joomla//EN
CALSCALE:GREGORIAN
METHOD:PUBLISH
BEGIN:VTIMEZONE
TZID:America/New_York
BEGIN:STANDARD
DTSTART:20240304T000000
RDATE:20240310T030000
TZOFFSETFROM:-0400
TZOFFSETTO:-0500
TZNAME:America/New_York EST
END:STANDARD
BEGIN:STANDARD
DTSTART:20241103T010000
RDATE:20250309T030000
TZOFFSETFROM:-0400
TZOFFSETTO:-0500
TZNAME:America/New_York EST
END:STANDARD
BEGIN:STANDARD
DTSTART:20251102T010000
RDATE:20260308T030000
TZOFFSETFROM:-0400
TZOFFSETTO:-0500
TZNAME:America/New_York EST
END:STANDARD
BEGIN:STANDARD
DTSTART:20261101T010000
RDATE:20270314T030000
TZOFFSETFROM:-0400
TZOFFSETTO:-0500
TZNAME:America/New_York EST
END:STANDARD
BEGIN:STANDARD
DTSTART:20271107T010000
RDATE:20280312T030000
TZOFFSETFROM:-0400
TZOFFSETTO:-0500
TZNAME:America/New_York EST
END:STANDARD
BEGIN:STANDARD
DTSTART:20281105T010000
RDATE:20290311T030000
TZOFFSETFROM:-0400
TZOFFSETTO:-0500
TZNAME:America/New_York EST
END:STANDARD
BEGIN:DAYLIGHT
DTSTART:20240310T030000
RDATE:20241103T010000
TZOFFSETFROM:-0500
TZOFFSETTO:-0400
TZNAME:America/New_York EDT
END:DAYLIGHT
BEGIN:DAYLIGHT
DTSTART:20250309T030000
RDATE:20251102T010000
TZOFFSETFROM:-0500
TZOFFSETTO:-0400
TZNAME:America/New_York EDT
END:DAYLIGHT
BEGIN:DAYLIGHT
DTSTART:20260308T030000
RDATE:20261101T010000
TZOFFSETFROM:-0500
TZOFFSETTO:-0400
TZNAME:America/New_York EDT
END:DAYLIGHT
BEGIN:DAYLIGHT
DTSTART:20270314T030000
RDATE:20271107T010000
TZOFFSETFROM:-0500
TZOFFSETTO:-0400
TZNAME:America/New_York EDT
END:DAYLIGHT
BEGIN:DAYLIGHT
DTSTART:20280312T030000
RDATE:20281105T010000
TZOFFSETFROM:-0500
TZOFFSETTO:-0400
TZNAME:America/New_York EDT
END:DAYLIGHT
END:VTIMEZONE
BEGIN:VEVENT
UID:e6fa5ef0e8e548b4d4f2024564104a40
CATEGORIES:English Riding
CREATED:20250219T135814
SUMMARY:Terranova Winter Series IV - CSI 2* USEF LEVEL 5
LOCATION:TerraNova Equestrian Center
DESCRIPTION:Level 5 Jumpers | A-Rated Hunters | FEI 2*\n
Discover the ultimate competit
 ion experience at TerraNova Equestrian Center, Florida's premier equestrian
  destination. Featuring luxury facilities, world-class competitions, and a 
 convenient calendar to complement your winter season, TerraNova is the perf
 ect oasis for horses and riders alike. Join us for the TerraNova Winter Ser
 ies, four weeks of A-Rated, Level 5, CSI 2* hunter/jumper competition from 
 February 14-18. February 21-25, March 13-17 and March 20-14. \n
$65,000 1.4
 5m CSI2* FEI Grand Prix – Saturday AM (C Ranking)\n

$32,000 1.45m CSI2* FE
 I Speed Welcome - Friday PM (D Ranking)\n

$20,000 1.35m National Prix dire
 ctly following FEI GP (Open to everyone, including FEI horses)\n

All Jumpe
 r levels, beginning with X-Rail Jumpers\n

.60m, .70m, .80m Mini Prix\n

Al
 l Junior/Amateur Jumper divisions and classics\n

$5,000 USHJA National Hun
 ter Derby \n

All “National” Hunter and Equitation Levels beginning with Wa
 lk-Trot Poles\n\n
X-ALT-DESC;FMTTYPE=text/html:<p>Level 5 Jumpers | A-Rated Hunters | FEI 2*</p><p>Discover the ultimate c
 ompetition experience at TerraNova Equestrian Center, Florida's premier equ
 estrian destination. Featuring luxury facilities, world-class competitions,
  and a convenient calendar to complement your winter season, TerraNova is t
 he perfect oasis for horses and riders alike. Join us for the TerraNova Win
 ter Series, four weeks of A-Rated, Level 5, CSI 2* hunter/jumper competitio
 n from February 14-18. February 21-25, March 13-17 and March 20-14. </p><p>
 $65,000 1.45m CSI2* FEI Grand Prix – Saturday AM (C Ranking)<br />$32,000 1
 .45m CSI2* FEI Speed Welcome - Friday PM (D Ranking)<br />$20,000 1.35m Nat
 ional Prix directly following FEI GP (Open to everyone, including FEI horse
 s)<br />All Jumper levels, beginning with X-Rail Jumpers<br />.60m, .70m, .
 80m Mini Prix<br />All Junior/Amateur Jumper divisions and classics<br />$5
 ,000 USHJA National Hunter Derby <br />All “National” Hunter and Equitation
  Levels beginning with Walk-Trot Poles<br /></p>
DTSTAMP:20260424T213031
DTSTART;TZID=America/New_York;VALUE=DATE:20250305
DTEND;TZID=America/New_York;VALUE=DATE:20250310
SEQUENCE:0
TRANSP:OPAQUE
END:VEVENT
END:VCALENDAR