BEGIN:VCALENDAR
VERSION:2.0
PRODID:-//jEvents 2.0 for Joomla//EN
CALSCALE:GREGORIAN
METHOD:PUBLISH
BEGIN:VTIMEZONE
TZID:America/New_York
BEGIN:STANDARD
DTSTART:20241203T000000
RDATE:20250309T030000
TZOFFSETFROM:-0400
TZOFFSETTO:-0500
TZNAME:America/New_York EST
END:STANDARD
BEGIN:STANDARD
DTSTART:20251102T010000
RDATE:20260308T030000
TZOFFSETFROM:-0400
TZOFFSETTO:-0500
TZNAME:America/New_York EST
END:STANDARD
BEGIN:STANDARD
DTSTART:20261101T010000
RDATE:20270314T030000
TZOFFSETFROM:-0400
TZOFFSETTO:-0500
TZNAME:America/New_York EST
END:STANDARD
BEGIN:STANDARD
DTSTART:20271107T010000
RDATE:20280312T030000
TZOFFSETFROM:-0400
TZOFFSETTO:-0500
TZNAME:America/New_York EST
END:STANDARD
BEGIN:STANDARD
DTSTART:20281105T010000
RDATE:20290311T030000
TZOFFSETFROM:-0400
TZOFFSETTO:-0500
TZNAME:America/New_York EST
END:STANDARD
BEGIN:DAYLIGHT
DTSTART:20250309T030000
RDATE:20251102T010000
TZOFFSETFROM:-0500
TZOFFSETTO:-0400
TZNAME:America/New_York EDT
END:DAYLIGHT
BEGIN:DAYLIGHT
DTSTART:20260308T030000
RDATE:20261101T010000
TZOFFSETFROM:-0500
TZOFFSETTO:-0400
TZNAME:America/New_York EDT
END:DAYLIGHT
BEGIN:DAYLIGHT
DTSTART:20270314T030000
RDATE:20271107T010000
TZOFFSETFROM:-0500
TZOFFSETTO:-0400
TZNAME:America/New_York EDT
END:DAYLIGHT
BEGIN:DAYLIGHT
DTSTART:20280312T030000
RDATE:20281105T010000
TZOFFSETFROM:-0500
TZOFFSETTO:-0400
TZNAME:America/New_York EDT
END:DAYLIGHT
END:VTIMEZONE
BEGIN:VEVENT
UID:b97499d3812c6082d2c206b77f67e4fe
CATEGORIES:Racing Sales
CREATED:20250224T101751
SUMMARY:Fasig-Tipton Sales, December Digital Sale
LOCATION:Online Virtual Event
DESCRIPTION:December Digital Sale 2025\n
From: Dec 4th, 2025 to Dec 9th, 2025\n
\n
Digi
 tal Sale conducted by Fasig-Tipton beginning December 4, 2025 and ending De
 cember 9, 2025.
X-ALT-DESC;FMTTYPE=text/html:December Digital Sale 2025<br />From: Dec 4th, 2025 to Dec 9th, 2025<br /><
 br />Digital Sale conducted by Fasig-Tipton beginning December 4, 2025 and 
 ending December 9, 2025.
DTSTAMP:20260424T215520
DTSTART;TZID=America/New_York;VALUE=DATE:20251204
DTEND;TZID=America/New_York;VALUE=DATE:20251210
SEQUENCE:0
TRANSP:OPAQUE
END:VEVENT
END:VCALENDAR