BEGIN:VCALENDAR
VERSION:2.0
PRODID:-//jEvents 2.0 for Joomla//EN
CALSCALE:GREGORIAN
METHOD:PUBLISH
BEGIN:VTIMEZONE
TZID:America/New_York
BEGIN:STANDARD
DTSTART:20241103T010000
RDATE:20250309T030000
TZOFFSETFROM:-0400
TZOFFSETTO:-0500
TZNAME:America/New_York EST
END:STANDARD
BEGIN:STANDARD
DTSTART:20251102T010000
RDATE:20260308T030000
TZOFFSETFROM:-0400
TZOFFSETTO:-0500
TZNAME:America/New_York EST
END:STANDARD
BEGIN:STANDARD
DTSTART:20261101T010000
RDATE:20270314T030000
TZOFFSETFROM:-0400
TZOFFSETTO:-0500
TZNAME:America/New_York EST
END:STANDARD
BEGIN:STANDARD
DTSTART:20271107T010000
RDATE:20280312T030000
TZOFFSETFROM:-0400
TZOFFSETTO:-0500
TZNAME:America/New_York EST
END:STANDARD
BEGIN:STANDARD
DTSTART:20281105T010000
RDATE:20290311T030000
TZOFFSETFROM:-0400
TZOFFSETTO:-0500
TZNAME:America/New_York EST
END:STANDARD
BEGIN:DAYLIGHT
DTSTART:20240907T000000
RDATE:20241103T010000
TZOFFSETFROM:-0500
TZOFFSETTO:-0400
TZNAME:America/New_York EDT
END:DAYLIGHT
BEGIN:DAYLIGHT
DTSTART:20250309T030000
RDATE:20251102T010000
TZOFFSETFROM:-0500
TZOFFSETTO:-0400
TZNAME:America/New_York EDT
END:DAYLIGHT
BEGIN:DAYLIGHT
DTSTART:20260308T030000
RDATE:20261101T010000
TZOFFSETFROM:-0500
TZOFFSETTO:-0400
TZNAME:America/New_York EDT
END:DAYLIGHT
BEGIN:DAYLIGHT
DTSTART:20270314T030000
RDATE:20271107T010000
TZOFFSETFROM:-0500
TZOFFSETTO:-0400
TZNAME:America/New_York EDT
END:DAYLIGHT
BEGIN:DAYLIGHT
DTSTART:20280312T030000
RDATE:20281105T010000
TZOFFSETFROM:-0500
TZOFFSETTO:-0400
TZNAME:America/New_York EDT
END:DAYLIGHT
END:VTIMEZONE
BEGIN:VEVENT
UID:75fb8b7178063033c92b4fd6fd6cd73a
CATEGORIES:Racing Sales
CREATED:20250224T102017
SUMMARY:Keeneland September Yearling Sale, Keeneland, Lexington, KY
LOCATION:Keeneland
DESCRIPTION:September Yearling Sale\n
September 8-20\n
The 2025 edition of the Keenelan
 d September Sale begins on Monday, September 8.\n
\n
Keeneland’s September 
 Yearling Sale is the global marketplace for Thoroughbred yearlings and is t
 he world’s most important Thoroughbred sale. The September Sale stands apar
 t from all other auctions owing to several factors: a critical mass of qual
 ity yearlings at all levels of the market; the largest and most diverse buy
 ing bench in the world and the proven success of its sales graduates at the
  highest levels of racing worldwide.\n
\n
Entry deadline May 1.
\n
Keeping 
 up with equestrian community events is crucial for fostering connections, s
 taying informed about important industry changes, and supporting the sport'
 s health and growth. Staying current benefits everyone from riders and trai
 ners to spectators and local businesses. 
Enhancing community and personal 
 growth
\n
Networking and mentorship: Events, both online and in-person, are
  a prime opportunity to connect with fellow enthusiasts, find mentors, and 
 make professional connections. This helps build a strong network of support
 , whether you are a seasoned competitor or new to the sport.
    \n
Fosteri
 ng inclusivity: Events can cultivate a welcoming and approachable atmospher
 e for everyone, from beginners to seasoned riders. This strengthens the spo
 rt by encouraging continued participation and growth.
    \n
Boosting menta
 l health: Engaging with the equestrian community provides a sense of camara
 derie and belonging, which contributes to mental and physical well-being. \
 n
The supportive environment can be a great comfort during challenges, and 
 it fosters lasting friendships. 
\n

Staying informed on industry standards
 
\n

    Promoting horse welfare: Awareness of current discussions and init
 iatives helps uphold animal welfare standards. Organizations like US Equest
 rian are actively redesigning their websites and expanding educational reso
 urces to clarify rules, identify unethical behavior, and promote best pract
 ices for horse care.
   \n
 Learning from experts: Educational resources, s
 uch as the US Equestrian Learning Center, provide access to videos and trai
 ning materials from elite athletes, trainers, and industry experts. This he
 lps equestrians at all levels improve their skills and knowledge.
   \n
 In
 fluencing brand credibility: Keeping track of media coverage and sponsorshi
 p news helps equestrians determine which brands are ethical and trustworthy
 . Ethical equestrian journalism is built on transparency, helping readers k
 now the difference between honest advertising and unethical pay-to-play mar
 keting. 
\n

Supporting the equestrian economy

    \n
Driving economic gro
 wth: Equestrian events drive significant economic activity for local commun
 ities. For example, events in Florida and Kentucky attract thousands of vis
 itors and generate millions of dollars in economic impact. Even local shows
  bring communities together and support local businesses.
    \n
Ensuring i
 ndustry stability: By participating in the community, you help attract inve
 stment and support for the sport. Events are a crucial part of the ecosyste
 m that allows the industry to continue to grow and succeed, from grassroots
  competitions to high-level events.
    \n
Attracting and engaging new audi
 ences: Major equestrian events are key for increasing the sport's visibilit
 y to a wider audience, which is essential for attracting new talent and par
 ticipants. Keeping up with events helps share the sport with new generation
 s and encourages continued participation. 


X-ALT-DESC;FMTTYPE=text/html:September Yearling Sale<br />September 8-20<br />The 2025 edition of the Ke
 eneland September Sale begins on Monday, September 8.<br /><br />Keeneland’
 s September Yearling Sale is the global marketplace for Thoroughbred yearli
 ngs and is the world’s most important Thoroughbred sale. The September Sale
  stands apart from all other auctions owing to several factors: a critical 
 mass of quality yearlings at all levels of the market; the largest and most
  diverse buying bench in the world and the proven success of its sales grad
 uates at the highest levels of racing worldwide.<br /><br />Entry deadline 
 May 1.<br /><p>Keeping up with equestrian community events is crucial for f
 ostering connections, staying informed about important industry changes, an
 d supporting the sport's health and growth. Staying current benefits everyo
 ne from riders and trainers to spectators and local businesses. Enhancing c
 ommunity and personal growth</p><p>Networking and mentorship: Events, both 
 online and in-person, are a prime opportunity to connect with fellow enthus
 iasts, find mentors, and make professional connections. This helps build a 
 strong network of support, whether you are a seasoned competitor or new to 
 the sport.    </p><p>Fostering inclusivity: Events can cultivate a welcomin
 g and approachable atmosphere for everyone, from beginners to seasoned ride
 rs. This strengthens the sport by encouraging continued participation and g
 rowth.    </p><p>Boosting mental health: Engaging with the equestrian commu
 nity provides a sense of camaraderie and belonging, which contributes to me
 ntal and physical well-being. </p><p>The supportive environment can be a gr
 eat comfort during challenges, and it fosters lasting friendships. </p><p>S
 taying informed on industry standards</p><p>    Promoting horse welfare: Aw
 areness of current discussions and initiatives helps uphold animal welfare 
 standards. Organizations like US Equestrian are actively redesigning their 
 websites and expanding educational resources to clarify rules, identify une
 thical behavior, and promote best practices for horse care.   </p><p> Learn
 ing from experts: Educational resources, such as the US Equestrian Learning
  Center, provide access to videos and training materials from elite athlete
 s, trainers, and industry experts. This helps equestrians at all levels imp
 rove their skills and knowledge.   </p><p> Influencing brand credibility: K
 eeping track of media coverage and sponsorship news helps equestrians deter
 mine which brands are ethical and trustworthy. Ethical equestrian journalis
 m is built on transparency, helping readers know the difference between hon
 est advertising and unethical pay-to-play marketing. </p><p>Supporting the 
 equestrian economy    </p><p>Driving economic growth: Equestrian events dri
 ve significant economic activity for local communities. For example, events
  in Florida and Kentucky attract thousands of visitors and generate million
 s of dollars in economic impact. Even local shows bring communities togethe
 r and support local businesses.    </p><p>Ensuring industry stability: By p
 articipating in the community, you help attract investment and support for 
 the sport. Events are a crucial part of the ecosystem that allows the indus
 try to continue to grow and succeed, from grassroots competitions to high-l
 evel events.    </p><p />Attracting and engaging new audiences: Major eques
 trian events are key for increasing the sport's visibility to a wider audie
 nce, which is essential for attracting new talent and participants. Keeping
  up with events helps share the sport with new generations and encourages c
 ontinued participation. 
DTSTAMP:20260425T004850
DTSTART;TZID=America/New_York;VALUE=DATE:20250908
DTEND;TZID=America/New_York;VALUE=DATE:20250921
SEQUENCE:0
TRANSP:OPAQUE
END:VEVENT
END:VCALENDAR