BEGIN:VCALENDAR
VERSION:2.0
PRODID:-//jEvents 2.0 for Joomla//EN
CALSCALE:GREGORIAN
METHOD:PUBLISH
BEGIN:VTIMEZONE
TZID:America/New_York
BEGIN:STANDARD
DTSTART:20241103T010000
RDATE:20250309T030000
TZOFFSETFROM:-0400
TZOFFSETTO:-0500
TZNAME:America/New_York EST
END:STANDARD
BEGIN:STANDARD
DTSTART:20251102T010000
RDATE:20260308T030000
TZOFFSETFROM:-0400
TZOFFSETTO:-0500
TZNAME:America/New_York EST
END:STANDARD
BEGIN:STANDARD
DTSTART:20261101T010000
RDATE:20270314T030000
TZOFFSETFROM:-0400
TZOFFSETTO:-0500
TZNAME:America/New_York EST
END:STANDARD
BEGIN:STANDARD
DTSTART:20271107T010000
RDATE:20280312T030000
TZOFFSETFROM:-0400
TZOFFSETTO:-0500
TZNAME:America/New_York EST
END:STANDARD
BEGIN:STANDARD
DTSTART:20281105T010000
RDATE:20290311T030000
TZOFFSETFROM:-0400
TZOFFSETTO:-0500
TZNAME:America/New_York EST
END:STANDARD
BEGIN:DAYLIGHT
DTSTART:20241103T010000
RDATE:20241103T010000
TZOFFSETFROM:-0500
TZOFFSETTO:-0400
TZNAME:America/New_York EDT
END:DAYLIGHT
BEGIN:DAYLIGHT
DTSTART:20250309T030000
RDATE:20251102T010000
TZOFFSETFROM:-0500
TZOFFSETTO:-0400
TZNAME:America/New_York EDT
END:DAYLIGHT
BEGIN:DAYLIGHT
DTSTART:20260308T030000
RDATE:20261101T010000
TZOFFSETFROM:-0500
TZOFFSETTO:-0400
TZNAME:America/New_York EDT
END:DAYLIGHT
BEGIN:DAYLIGHT
DTSTART:20270314T030000
RDATE:20271107T010000
TZOFFSETFROM:-0500
TZOFFSETTO:-0400
TZNAME:America/New_York EDT
END:DAYLIGHT
BEGIN:DAYLIGHT
DTSTART:20280312T030000
RDATE:20281105T010000
TZOFFSETFROM:-0500
TZOFFSETTO:-0400
TZNAME:America/New_York EDT
END:DAYLIGHT
END:VTIMEZONE
BEGIN:VEVENT
UID:a431173f332d050c816b7ae32b27d8d3
CATEGORIES:Racing Sales
CREATED:20250224T102226
SUMMARY:Keeneland November Breeding Stock Sale, Keeneland, Lexington, KY
LOCATION:Keeneland
DESCRIPTION:November Breeding Stock Sale\n
November 4-12\n
The 2025 edition of the Keen
 eland November Breeding Stock Sale begins Tuesday, Nov. 4, 2025.\n
\n
Keene
 land's November Breeding Stock Sale – which catalogs broodmare, broodmare p
 rospects, weanlings, horses of racing age, stallions, stallion prospects an
 d shares – is the world’s most important auction of its type in terms of to
 tal sales and average. Some of the global industry’s top broodmares and bro
 odmare prospects have sold at the sale.\n
\n
 
X-ALT-DESC;FMTTYPE=text/html:November Breeding Stock Sale<br />November 4-12<br />The 2025 edition of th
 e Keeneland November Breeding Stock Sale begins Tuesday, Nov. 4, 2025.<br /
 ><br />Keeneland's November Breeding Stock Sale – which catalogs broodmare,
  broodmare prospects, weanlings, horses of racing age, stallions, stallion 
 prospects and shares – is the world’s most important auction of its type in
  terms of total sales and average. Some of the global industry’s top broodm
 ares and broodmare prospects have sold at the sale.<br /><br /> 
DTSTAMP:20260424T233125
DTSTART;TZID=America/New_York;VALUE=DATE:20251104
DTEND;TZID=America/New_York;VALUE=DATE:20251113
SEQUENCE:0
TRANSP:OPAQUE
END:VEVENT
END:VCALENDAR