BEGIN:VCALENDAR
VERSION:2.0
PRODID:-//jEvents 2.0 for Joomla//EN
CALSCALE:GREGORIAN
METHOD:PUBLISH
BEGIN:VTIMEZONE
TZID:America/New_York
BEGIN:STANDARD
DTSTART:20241103T010000
RDATE:20250309T030000
TZOFFSETFROM:-0400
TZOFFSETTO:-0500
TZNAME:America/New_York EST
END:STANDARD
BEGIN:STANDARD
DTSTART:20251102T010000
RDATE:20260308T030000
TZOFFSETFROM:-0400
TZOFFSETTO:-0500
TZNAME:America/New_York EST
END:STANDARD
BEGIN:STANDARD
DTSTART:20261101T010000
RDATE:20270314T030000
TZOFFSETFROM:-0400
TZOFFSETTO:-0500
TZNAME:America/New_York EST
END:STANDARD
BEGIN:STANDARD
DTSTART:20271107T010000
RDATE:20280312T030000
TZOFFSETFROM:-0400
TZOFFSETTO:-0500
TZNAME:America/New_York EST
END:STANDARD
BEGIN:STANDARD
DTSTART:20281105T010000
RDATE:20290311T030000
TZOFFSETFROM:-0400
TZOFFSETTO:-0500
TZNAME:America/New_York EST
END:STANDARD
BEGIN:DAYLIGHT
DTSTART:20240518T000000
RDATE:20241103T010000
TZOFFSETFROM:-0500
TZOFFSETTO:-0400
TZNAME:America/New_York EDT
END:DAYLIGHT
BEGIN:DAYLIGHT
DTSTART:20250309T030000
RDATE:20251102T010000
TZOFFSETFROM:-0500
TZOFFSETTO:-0400
TZNAME:America/New_York EDT
END:DAYLIGHT
BEGIN:DAYLIGHT
DTSTART:20260308T030000
RDATE:20261101T010000
TZOFFSETFROM:-0500
TZOFFSETTO:-0400
TZNAME:America/New_York EDT
END:DAYLIGHT
BEGIN:DAYLIGHT
DTSTART:20270314T030000
RDATE:20271107T010000
TZOFFSETFROM:-0500
TZOFFSETTO:-0400
TZNAME:America/New_York EDT
END:DAYLIGHT
BEGIN:DAYLIGHT
DTSTART:20280312T030000
RDATE:20281105T010000
TZOFFSETFROM:-0500
TZOFFSETTO:-0400
TZNAME:America/New_York EDT
END:DAYLIGHT
END:VTIMEZONE
BEGIN:VEVENT
UID:8fba7644a865693207d7117c4edc2d59
CATEGORIES:Racing Sales
CREATED:20250224T103643
SUMMARY:Goffs UK - Spring Store Sale 2025
LOCATION:Doncaster\, UK
DESCRIPTION:Spring Store Sale 2025\n
19 - 22 May\n
The UK's only store sale and featuri
 ng the world's richest bumper - the £100,000 Spring Sale Bumper. Sold horse
 s up to £210,000, £200,000 etc. View the 2025 vendor brochure here (https:/
 /online.flippingbook.com/view/810090512/). 
X-ALT-DESC;FMTTYPE=text/html:Spring Store Sale 2025<br />19 - 22 May<br />The UK's only store sale and f
 eaturing the world's richest bumper - the £100,000 Spring Sale Bumper. Sold
  horses up to £210,000, £200,000 etc. <a href="https://online.flippingbook.
 com/view/810090512/" target="_blank">View the 2025 vendor brochure here</a>
 . 
DTSTAMP:20260424T213127
DTSTART;TZID=America/New_York;VALUE=DATE:20250519
DTEND;TZID=America/New_York;VALUE=DATE:20250523
SEQUENCE:0
TRANSP:OPAQUE
END:VEVENT
END:VCALENDAR