BEGIN:VCALENDAR
VERSION:2.0
PRODID:-//jEvents 2.0 for Joomla//EN
CALSCALE:GREGORIAN
METHOD:PUBLISH
BEGIN:VTIMEZONE
TZID:America/New_York
BEGIN:STANDARD
DTSTART:20241103T010000
RDATE:20250309T030000
TZOFFSETFROM:-0400
TZOFFSETTO:-0500
TZNAME:America/New_York EST
END:STANDARD
BEGIN:STANDARD
DTSTART:20251102T010000
RDATE:20260308T030000
TZOFFSETFROM:-0400
TZOFFSETTO:-0500
TZNAME:America/New_York EST
END:STANDARD
BEGIN:STANDARD
DTSTART:20261101T010000
RDATE:20270314T030000
TZOFFSETFROM:-0400
TZOFFSETTO:-0500
TZNAME:America/New_York EST
END:STANDARD
BEGIN:STANDARD
DTSTART:20271107T010000
RDATE:20280312T030000
TZOFFSETFROM:-0400
TZOFFSETTO:-0500
TZNAME:America/New_York EST
END:STANDARD
BEGIN:STANDARD
DTSTART:20281105T010000
RDATE:20290311T030000
TZOFFSETFROM:-0400
TZOFFSETTO:-0500
TZNAME:America/New_York EST
END:STANDARD
BEGIN:DAYLIGHT
DTSTART:20240429T000000
RDATE:20241103T010000
TZOFFSETFROM:-0500
TZOFFSETTO:-0400
TZNAME:America/New_York EDT
END:DAYLIGHT
BEGIN:DAYLIGHT
DTSTART:20250309T030000
RDATE:20251102T010000
TZOFFSETFROM:-0500
TZOFFSETTO:-0400
TZNAME:America/New_York EDT
END:DAYLIGHT
BEGIN:DAYLIGHT
DTSTART:20260308T030000
RDATE:20261101T010000
TZOFFSETFROM:-0500
TZOFFSETTO:-0400
TZNAME:America/New_York EDT
END:DAYLIGHT
BEGIN:DAYLIGHT
DTSTART:20270314T030000
RDATE:20271107T010000
TZOFFSETFROM:-0500
TZOFFSETTO:-0400
TZNAME:America/New_York EDT
END:DAYLIGHT
BEGIN:DAYLIGHT
DTSTART:20280312T030000
RDATE:20281105T010000
TZOFFSETFROM:-0500
TZOFFSETTO:-0400
TZNAME:America/New_York EDT
END:DAYLIGHT
END:VTIMEZONE
BEGIN:VEVENT
UID:fe9068fc5fbbc95a92bc2970b6b2e465
CATEGORIES:Racing Sales
CREATED:20250224T115908
SUMMARY:Tattersalls Guineas Breeze Up Sale 2025
LOCATION:Tattersalls Ltd Terrace House
DESCRIPTION:Guineas Breeze Up Sale 2025<br />Key Information<br />Sale Date: 30 Apr-1 M
 ay 2025<br />Sale Start Times: BREEZE: 9.00AM WED 30 APRIL<br />SALE: 9.30A
 M THU 1 MAY (FOLLOWING GUINEAS HIT SALE)<br />Entries Close: 5 Mar 2025<br 
 />Minimum Bid: 1,000 GUINEAS<br />The Tattersalls Guineas Breeze Up has see
 n the likes of The Platinum Queen, Trueshan and Shantisara become Group 1 w
 inning graduates in recent years.<br /><br />Group and Listed winners in Br
 itain, France, Ireland, Italy, Norway, Sweden and the USA illustrate the qu
 ality and diversity that buyers have come to expect from the sale.
DTSTAMP:20260424T213238
DTSTART;TZID=America/New_York;VALUE=DATE:20250430
DTEND;TZID=America/New_York;VALUE=DATE:20250502
SEQUENCE:0
TRANSP:OPAQUE
END:VEVENT
END:VCALENDAR