BEGIN:VCALENDAR
VERSION:2.0
PRODID:-//jEvents 2.0 for Joomla//EN
CALSCALE:GREGORIAN
METHOD:PUBLISH
BEGIN:VTIMEZONE
TZID:America/New_York
BEGIN:STANDARD
DTSTART:20241103T010000
RDATE:20250309T030000
TZOFFSETFROM:-0400
TZOFFSETTO:-0500
TZNAME:America/New_York EST
END:STANDARD
BEGIN:STANDARD
DTSTART:20251102T010000
RDATE:20260308T030000
TZOFFSETFROM:-0400
TZOFFSETTO:-0500
TZNAME:America/New_York EST
END:STANDARD
BEGIN:STANDARD
DTSTART:20261101T010000
RDATE:20270314T030000
TZOFFSETFROM:-0400
TZOFFSETTO:-0500
TZNAME:America/New_York EST
END:STANDARD
BEGIN:STANDARD
DTSTART:20271107T010000
RDATE:20280312T030000
TZOFFSETFROM:-0400
TZOFFSETTO:-0500
TZNAME:America/New_York EST
END:STANDARD
BEGIN:STANDARD
DTSTART:20281105T010000
RDATE:20290311T030000
TZOFFSETFROM:-0400
TZOFFSETTO:-0500
TZNAME:America/New_York EST
END:STANDARD
BEGIN:DAYLIGHT
DTSTART:20240707T000000
RDATE:20241103T010000
TZOFFSETFROM:-0500
TZOFFSETTO:-0400
TZNAME:America/New_York EDT
END:DAYLIGHT
BEGIN:DAYLIGHT
DTSTART:20250309T030000
RDATE:20251102T010000
TZOFFSETFROM:-0500
TZOFFSETTO:-0400
TZNAME:America/New_York EDT
END:DAYLIGHT
BEGIN:DAYLIGHT
DTSTART:20260308T030000
RDATE:20261101T010000
TZOFFSETFROM:-0500
TZOFFSETTO:-0400
TZNAME:America/New_York EDT
END:DAYLIGHT
BEGIN:DAYLIGHT
DTSTART:20270314T030000
RDATE:20271107T010000
TZOFFSETFROM:-0500
TZOFFSETTO:-0400
TZNAME:America/New_York EDT
END:DAYLIGHT
BEGIN:DAYLIGHT
DTSTART:20280312T030000
RDATE:20281105T010000
TZOFFSETFROM:-0500
TZOFFSETTO:-0400
TZNAME:America/New_York EDT
END:DAYLIGHT
END:VTIMEZONE
BEGIN:VEVENT
UID:5114eb96a5dad2657a5afb4ebdeaba11
CATEGORIES:Racing Sales
CREATED:20250224T120310
SUMMARY:Tattersalls July Sale 2025
LOCATION:Tattersalls Ltd Terrace House
DESCRIPTION:July Sale 2025\n
Sale Date: 8-11 Jul 2025\n
Sale Start Times: Tue: 09.30am,
  Wed: 09.30am, Thu: 09.30am, Thu: 05.45pm, Fri: 09.30am, Fri: 05.45pm\n
Ent
 ries Close: 14 May 2025\n
Minimum Bid: 1,000 guineas\n

Europe’s Premier Mi
 dsummer Sale
The source of Group 1 producers and performers on the global s
 tage, the Tattersalls July Sale catalogue containing fillies and mares from
  outstanding international families and an abundance of progressive horses 
 in training annually attracts buyers from all corners of the world.

The co
 mbination of top class racing at Newmarket’s July Meeting and the quality b
 loodstock on offer at the Tattersalls July Sale makes this one of the most 
 enjoyable weeks of the European racing and sales calendar.

X-ALT-DESC;FMTTYPE=text/html:July Sale 2025<br />Sale Date: 8-11 Jul 2025<br />Sale Start Times: Tue: 09
 .30am, Wed: 09.30am, Thu: 09.30am, Thu: 05.45pm, Fri: 09.30am, Fri: 05.45pm
 <br />Entries Close: 14 May 2025<br />Minimum Bid: 1,000 guineas<br />Europ
 e’s Premier Midsummer SaleThe source of Group 1 producers and performers on
  the global stage, the Tattersalls July Sale catalogue containing fillies a
 nd mares from outstanding international families and an abundance of progre
 ssive horses in training annually attracts buyers from all corners of the w
 orld.The combination of top class racing at Newmarket’s July Meeting and th
 e quality bloodstock on offer at the Tattersalls July Sale makes this one o
 f the most enjoyable weeks of the European racing and sales calendar.
DTSTAMP:20260424T212944
DTSTART;TZID=America/New_York;VALUE=DATE:20250708
DTEND;TZID=America/New_York;VALUE=DATE:20250712
SEQUENCE:0
TRANSP:OPAQUE
END:VEVENT
END:VCALENDAR