BEGIN:VCALENDAR
VERSION:2.0
PRODID:-//jEvents 2.0 for Joomla//EN
CALSCALE:GREGORIAN
METHOD:PUBLISH
BEGIN:VTIMEZONE
TZID:America/New_York
BEGIN:STANDARD
DTSTART:20241103T010000
RDATE:20250309T030000
TZOFFSETFROM:-0400
TZOFFSETTO:-0500
TZNAME:America/New_York EST
END:STANDARD
BEGIN:STANDARD
DTSTART:20251102T010000
RDATE:20260308T030000
TZOFFSETFROM:-0400
TZOFFSETTO:-0500
TZNAME:America/New_York EST
END:STANDARD
BEGIN:STANDARD
DTSTART:20261101T010000
RDATE:20270314T030000
TZOFFSETFROM:-0400
TZOFFSETTO:-0500
TZNAME:America/New_York EST
END:STANDARD
BEGIN:STANDARD
DTSTART:20271107T010000
RDATE:20280312T030000
TZOFFSETFROM:-0400
TZOFFSETTO:-0500
TZNAME:America/New_York EST
END:STANDARD
BEGIN:STANDARD
DTSTART:20281105T010000
RDATE:20290311T030000
TZOFFSETFROM:-0400
TZOFFSETTO:-0500
TZNAME:America/New_York EST
END:STANDARD
BEGIN:DAYLIGHT
DTSTART:20241015T000000
RDATE:20241103T010000
TZOFFSETFROM:-0500
TZOFFSETTO:-0400
TZNAME:America/New_York EDT
END:DAYLIGHT
BEGIN:DAYLIGHT
DTSTART:20250309T030000
RDATE:20251102T010000
TZOFFSETFROM:-0500
TZOFFSETTO:-0400
TZNAME:America/New_York EDT
END:DAYLIGHT
BEGIN:DAYLIGHT
DTSTART:20260308T030000
RDATE:20261101T010000
TZOFFSETFROM:-0500
TZOFFSETTO:-0400
TZNAME:America/New_York EDT
END:DAYLIGHT
BEGIN:DAYLIGHT
DTSTART:20270314T030000
RDATE:20271107T010000
TZOFFSETFROM:-0500
TZOFFSETTO:-0400
TZNAME:America/New_York EDT
END:DAYLIGHT
BEGIN:DAYLIGHT
DTSTART:20280312T030000
RDATE:20281105T010000
TZOFFSETFROM:-0500
TZOFFSETTO:-0400
TZNAME:America/New_York EDT
END:DAYLIGHT
END:VTIMEZONE
BEGIN:VEVENT
UID:5e30a6d409f4e11d73878c3bc8b501a1
CATEGORIES:Racing Sales
CREATED:20250224T121039
SUMMARY:Tattersalls October Yearling Sale, Book 3 2025
LOCATION:Tattersalls Ltd Terrace House
DESCRIPTION:October Yearling Sale, Book 3 2025<br />Sale Date: 16-17 Oct 2025<br />Sale
  Start Times: Thu: 09.30am, Fri: 09.30am<br />Nominations Close: 24 Mar 202
 5<br />Entries Close: 4 Jul 2025<br />Catalogue Online: 11 Aug 2025<br />Mi
 nimum Bid: 1,000 gns<br /><br />Book 3 of Europe’s Largest Yearling Sale<br
  />2024 saw a 200,000gns record price for a filly at Book 3 of the Tattersa
 lls October Yearling Sale. On the racetrack, Tribalist flew the flag as a G
 roup 1 winning graduate of the sale.<br /><br />All yearlings sold or bough
 t in at Book 3 of the Tattersalls October Yearling Sale are eligible for th
 e £150,000 Tattersalls October Auction Stakes as well as the £100,000 Somer
 ville Auction Stakes.
DTSTAMP:20260425T004855
DTSTART;TZID=America/New_York;VALUE=DATE:20251016
DTEND;TZID=America/New_York;VALUE=DATE:20251018
SEQUENCE:0
TRANSP:OPAQUE
END:VEVENT
END:VCALENDAR