BEGIN:VCALENDAR
VERSION:2.0
PRODID:-//jEvents 2.0 for Joomla//EN
CALSCALE:GREGORIAN
METHOD:PUBLISH
BEGIN:VTIMEZONE
TZID:America/New_York
BEGIN:STANDARD
DTSTART:20241103T010000
RDATE:20250309T030000
TZOFFSETFROM:-0400
TZOFFSETTO:-0500
TZNAME:America/New_York EST
END:STANDARD
BEGIN:STANDARD
DTSTART:20251102T010000
RDATE:20260308T030000
TZOFFSETFROM:-0400
TZOFFSETTO:-0500
TZNAME:America/New_York EST
END:STANDARD
BEGIN:STANDARD
DTSTART:20261101T010000
RDATE:20270314T030000
TZOFFSETFROM:-0400
TZOFFSETTO:-0500
TZNAME:America/New_York EST
END:STANDARD
BEGIN:STANDARD
DTSTART:20271107T010000
RDATE:20280312T030000
TZOFFSETFROM:-0400
TZOFFSETTO:-0500
TZNAME:America/New_York EST
END:STANDARD
BEGIN:STANDARD
DTSTART:20281105T010000
RDATE:20290311T030000
TZOFFSETFROM:-0400
TZOFFSETTO:-0500
TZNAME:America/New_York EST
END:STANDARD
BEGIN:DAYLIGHT
DTSTART:20241030T000000
RDATE:20241103T010000
TZOFFSETFROM:-0500
TZOFFSETTO:-0400
TZNAME:America/New_York EDT
END:DAYLIGHT
BEGIN:DAYLIGHT
DTSTART:20250309T030000
RDATE:20251102T010000
TZOFFSETFROM:-0500
TZOFFSETTO:-0400
TZNAME:America/New_York EDT
END:DAYLIGHT
BEGIN:DAYLIGHT
DTSTART:20260308T030000
RDATE:20261101T010000
TZOFFSETFROM:-0500
TZOFFSETTO:-0400
TZNAME:America/New_York EDT
END:DAYLIGHT
BEGIN:DAYLIGHT
DTSTART:20270314T030000
RDATE:20271107T010000
TZOFFSETFROM:-0500
TZOFFSETTO:-0400
TZNAME:America/New_York EDT
END:DAYLIGHT
BEGIN:DAYLIGHT
DTSTART:20280312T030000
RDATE:20281105T010000
TZOFFSETFROM:-0500
TZOFFSETTO:-0400
TZNAME:America/New_York EDT
END:DAYLIGHT
END:VTIMEZONE
BEGIN:VEVENT
UID:daa52c2b85b36b010df841b294fe1fd5
CATEGORIES:Racing Sales
CREATED:20250224T121310
SUMMARY:Tattersalls Autumn Yearling Sale 2025
LOCATION:Tattersalls Ltd Terrace House
DESCRIPTION:Tattersalls Autumn Yearling Sale 2025\n
Sale Date: 31 Oct 2025\n
Sale Start
  Time: Following on at the conclusion of the Autumn HIT Sale\n
Nominations 
 Close: 24 Mar 2025\n
Entries Close: 8 Sep 2025\n
Minimum Bid: 1,000 GUINEAS
 \n

X-ALT-DESC;FMTTYPE=text/html:Tattersalls Autumn Yearling Sale 2025<br />Sale Date: 31 Oct 2025<br />Sale
  Start Time: Following on at the conclusion of the Autumn HIT Sale<br />Nom
 inations Close: 24 Mar 2025<br />Entries Close: 8 Sep 2025<br />Minimum Bid
 : 1,000 GUINEAS<br />
DTSTAMP:20260425T004702
DTSTART;TZID=America/New_York;VALUE=DATE:20251031
DTEND;TZID=America/New_York;VALUE=DATE:20251101
SEQUENCE:0
TRANSP:OPAQUE
END:VEVENT
END:VCALENDAR