BEGIN:VCALENDAR
VERSION:2.0
PRODID:-//jEvents 2.0 for Joomla//EN
CALSCALE:GREGORIAN
METHOD:PUBLISH
BEGIN:VTIMEZONE
TZID:America/New_York
BEGIN:STANDARD
DTSTART:20241123T000000
RDATE:20250309T030000
TZOFFSETFROM:-0400
TZOFFSETTO:-0500
TZNAME:America/New_York EST
END:STANDARD
BEGIN:STANDARD
DTSTART:20251102T010000
RDATE:20260308T030000
TZOFFSETFROM:-0400
TZOFFSETTO:-0500
TZNAME:America/New_York EST
END:STANDARD
BEGIN:STANDARD
DTSTART:20261101T010000
RDATE:20270314T030000
TZOFFSETFROM:-0400
TZOFFSETTO:-0500
TZNAME:America/New_York EST
END:STANDARD
BEGIN:STANDARD
DTSTART:20271107T010000
RDATE:20280312T030000
TZOFFSETFROM:-0400
TZOFFSETTO:-0500
TZNAME:America/New_York EST
END:STANDARD
BEGIN:STANDARD
DTSTART:20281105T010000
RDATE:20290311T030000
TZOFFSETFROM:-0400
TZOFFSETTO:-0500
TZNAME:America/New_York EST
END:STANDARD
BEGIN:DAYLIGHT
DTSTART:20250309T030000
RDATE:20251102T010000
TZOFFSETFROM:-0500
TZOFFSETTO:-0400
TZNAME:America/New_York EDT
END:DAYLIGHT
BEGIN:DAYLIGHT
DTSTART:20260308T030000
RDATE:20261101T010000
TZOFFSETFROM:-0500
TZOFFSETTO:-0400
TZNAME:America/New_York EDT
END:DAYLIGHT
BEGIN:DAYLIGHT
DTSTART:20270314T030000
RDATE:20271107T010000
TZOFFSETFROM:-0500
TZOFFSETTO:-0400
TZNAME:America/New_York EDT
END:DAYLIGHT
BEGIN:DAYLIGHT
DTSTART:20280312T030000
RDATE:20281105T010000
TZOFFSETFROM:-0500
TZOFFSETTO:-0400
TZNAME:America/New_York EDT
END:DAYLIGHT
END:VTIMEZONE
BEGIN:VEVENT
UID:348a90f40da8424b47f4725b9ec01825
CATEGORIES:Racing Sales
CREATED:20250224T121415
SUMMARY:Tattersalls December Yearling Sale 2025
LOCATION:Tattersalls Ltd Terrace House
DESCRIPTION:Tattersalls December Yearling Sale 2025\n
Sale Date: 24 Nov 2025\n
Sale Sta
 rt Time: 10.00am\n
Nominations Close: 24 Mar 2025\n
Entries Close: 3 Oct 20
 25\n
Catalogue Online: 29 Oct 2025\n
Minimum Bid: 1,000 guineas\n
\n
A Cons
 istent Source of Top-Class Racehorses\n
The combination of quality and valu
 e for money is the key to the popularity of the Tattersalls December Yearli
 ng Sale, with the extraordinary 5,000 guineas purchase of six-time Group 1 
 winner Via Sistina a shining example.\n
\n

X-ALT-DESC;FMTTYPE=text/html:Tattersalls December Yearling Sale 2025<br />Sale Date: 24 Nov 2025<br />Sa
 le Start Time: 10.00am<br />Nominations Close: 24 Mar 2025<br />Entries Clo
 se: 3 Oct 2025<br />Catalogue Online: 29 Oct 2025<br />Minimum Bid: 1,000 g
 uineas<br /><br />A Consistent Source of Top-Class Racehorses<br />The comb
 ination of quality and value for money is the key to the popularity of the 
 Tattersalls December Yearling Sale, with the extraordinary 5,000 guineas pu
 rchase of six-time Group 1 winner Via Sistina a shining example.<br /><br /
 >
DTSTAMP:20260424T232046
DTSTART;TZID=America/New_York;VALUE=DATE:20251124
DTEND;TZID=America/New_York;VALUE=DATE:20251125
SEQUENCE:0
TRANSP:OPAQUE
END:VEVENT
END:VCALENDAR